BEGIN:VCALENDAR
VERSION:2.0
PRODID:-//Bewusst Brüggen - ECPv6.15.20//NONSGML v1.0//EN
CALSCALE:GREGORIAN
METHOD:PUBLISH
X-ORIGINAL-URL:https://bewusst-brueggen.de
X-WR-CALDESC:Veranstaltungen für Bewusst Brüggen
REFRESH-INTERVAL;VALUE=DURATION:PT1H
X-Robots-Tag:noindex
X-PUBLISHED-TTL:PT1H
BEGIN:VTIMEZONE
TZID:Europe/Berlin
BEGIN:DAYLIGHT
TZOFFSETFROM:+0100
TZOFFSETTO:+0200
TZNAME:CEST
DTSTART:20220327T010000
END:DAYLIGHT
BEGIN:STANDARD
TZOFFSETFROM:+0200
TZOFFSETTO:+0100
TZNAME:CET
DTSTART:20221030T010000
END:STANDARD
BEGIN:DAYLIGHT
TZOFFSETFROM:+0100
TZOFFSETTO:+0200
TZNAME:CEST
DTSTART:20230326T010000
END:DAYLIGHT
BEGIN:STANDARD
TZOFFSETFROM:+0200
TZOFFSETTO:+0100
TZNAME:CET
DTSTART:20231029T010000
END:STANDARD
BEGIN:DAYLIGHT
TZOFFSETFROM:+0100
TZOFFSETTO:+0200
TZNAME:CEST
DTSTART:20240331T010000
END:DAYLIGHT
BEGIN:STANDARD
TZOFFSETFROM:+0200
TZOFFSETTO:+0100
TZNAME:CET
DTSTART:20241027T010000
END:STANDARD
END:VTIMEZONE
BEGIN:VEVENT
DTSTART;VALUE=DATE:20230901
DTEND;VALUE=DATE:20230903
DTSTAMP:20260420T021607
CREATED:20230328T171304Z
LAST-MODIFIED:20231213T145523Z
UID:10000388-1693526400-1693699199@bewusst-brueggen.de
SUMMARY:Bongert Open Air
DESCRIPTION:Gestartet im Jahr 2014\, als ambitioniertes Hobby-Projekt mit 150 Besuchern\, noch unter dem Titel „Rock by Markus“\, wuchs das Festival stetig weiter. Ein Jahr darauf folgte dann der Namenswechsel zu Bongert Open Air und die erste Bühne wich einer größeren. Im Jahr 2016 wurde das Bongert Open Air dann so langsam erwachsen. Sechs Bands aus ganz Deutschland vergoldeten das Festival.\nIm darauffolgenden Jahr bildete zum ersten Mal eine Tribute Band den Festival Abschluss! Das kam so gut an\, dass dies auch in das Jahr 2018 übernommen wurde.\nDer nächste Meilenstein erfolgte 2019\, als der zweite Festivaltag hinzu kam. Das Bongert Open Air wächst unter Vollgas und hat sich zu einem richtigen Geheimtipp etabliert.\nDoch dann tritt Covid gehörig auf die Bremse. Das Bongert Open Air fällt für die Jahre 2020 und 2021 ins Wasser. Ist er aus der Traum?\nWeit gefehlt! Das Jahr 2022 folgt und der Headliner „Rage“ besiegelt\, dass das Bongert Open Air nichtmal durch eine Pandemie zu stoppen ist.\nEs reisen sogar Besucher aus ganz Deutschland\, Österreich\, Schweiz und BeNeLux an\, um diesem denkwürdigen Spektakel beizuwohnen.\nUnd nun rasen wir durch das Jahr 2023! \nLine up \nFreitag 01.09.2023\n16:30 Open Door\n18:00 – 18:45 Phantom Elite\n19:30 – 20:15 Crystallion\n21:00 – 21:45 Manntra\n22:30 – Iron Maidnem \nSamstag 02.09.2023\n11:00 Open Door / Metal Frühstück/Frühschoppen\n12:15 – 12:45 Indjoov\n13:00 – 13:45 Never Back Down\n14:30 – 15:15 Helltrail\n16:00 – 16:45 Ghosther\n17:30 – 18:15 Privateer\n19:00 – 20:00 April Art\n20:45 – 21:45 Mister Misery\n22:30 – John Diva and the Rockets of Love
URL:https://bewusst-brueggen.de/kalender/bongert-open-air/
LOCATION:Bongert Festplatz in Alst\, Alst 122\, Brüggen\, 41379
CATEGORIES:Kultur
ATTACH;FMTTYPE=:
END:VEVENT
END:VCALENDAR