BEGIN:VCALENDAR
VERSION:2.0
PRODID:-//Bewusst Brüggen - ECPv6.15.20//NONSGML v1.0//EN
CALSCALE:GREGORIAN
METHOD:PUBLISH
X-WR-CALNAME:Bewusst Brüggen
X-ORIGINAL-URL:https://bewusst-brueggen.de
X-WR-CALDESC:Veranstaltungen für Bewusst Brüggen
REFRESH-INTERVAL;VALUE=DURATION:PT1H
X-Robots-Tag:noindex
X-PUBLISHED-TTL:PT1H
BEGIN:VTIMEZONE
TZID:Europe/Berlin
BEGIN:DAYLIGHT
TZOFFSETFROM:+0100
TZOFFSETTO:+0200
TZNAME:CEST
DTSTART:20220327T010000
END:DAYLIGHT
BEGIN:STANDARD
TZOFFSETFROM:+0200
TZOFFSETTO:+0100
TZNAME:CET
DTSTART:20221030T010000
END:STANDARD
BEGIN:DAYLIGHT
TZOFFSETFROM:+0100
TZOFFSETTO:+0200
TZNAME:CEST
DTSTART:20230326T010000
END:DAYLIGHT
BEGIN:STANDARD
TZOFFSETFROM:+0200
TZOFFSETTO:+0100
TZNAME:CET
DTSTART:20231029T010000
END:STANDARD
BEGIN:DAYLIGHT
TZOFFSETFROM:+0100
TZOFFSETTO:+0200
TZNAME:CEST
DTSTART:20240331T010000
END:DAYLIGHT
BEGIN:STANDARD
TZOFFSETFROM:+0200
TZOFFSETTO:+0100
TZNAME:CET
DTSTART:20241027T010000
END:STANDARD
BEGIN:DAYLIGHT
TZOFFSETFROM:+0100
TZOFFSETTO:+0200
TZNAME:CEST
DTSTART:20250330T010000
END:DAYLIGHT
BEGIN:STANDARD
TZOFFSETFROM:+0200
TZOFFSETTO:+0100
TZNAME:CET
DTSTART:20251026T010000
END:STANDARD
BEGIN:DAYLIGHT
TZOFFSETFROM:+0100
TZOFFSETTO:+0200
TZNAME:CEST
DTSTART:20260329T010000
END:DAYLIGHT
BEGIN:STANDARD
TZOFFSETFROM:+0200
TZOFFSETTO:+0100
TZNAME:CET
DTSTART:20261025T010000
END:STANDARD
BEGIN:DAYLIGHT
TZOFFSETFROM:+0100
TZOFFSETTO:+0200
TZNAME:CEST
DTSTART:20270328T010000
END:DAYLIGHT
BEGIN:STANDARD
TZOFFSETFROM:+0200
TZOFFSETTO:+0100
TZNAME:CET
DTSTART:20271031T010000
END:STANDARD
END:VTIMEZONE
BEGIN:VEVENT
DTSTART;TZID=Europe/Berlin:20260418T200000
DTEND;TZID=Europe/Berlin:20260418T220000
DTSTAMP:20260419T182744
CREATED:20241029T091303Z
LAST-MODIFIED:20250604T084546Z
UID:10003356-1776542400-1776549600@bewusst-brueggen.de
SUMMARY:Dennis aus Hürth - „Der Wille war da - nur ich nicht!“
DESCRIPTION:10 Jahre Bühnenjubiläum feiern wie gemeinsam mit Euch auf den Bühnen Deutschlands ab Herbst 2025. Sichere Dir jetzt Tickets!
URL:https://bewusst-brueggen.de/kalender/dennis-aus-huerth-jetzt-wird-geheiratet/
LOCATION:Burggemeindehalle\, Kreuzherrenplatz\, Brüggen\, 41379\, Deutschland
CATEGORIES:Kultur
ATTACH;FMTTYPE=image/jpeg:https://bewusst-brueggen.de/wp-content/uploads/2024/10/Bild-Dennis_Der-Wille-war-da.jpg
ORGANIZER;CN="Burggemeindehalle Br%C3%BCggen GmbH":MAILTO:beteiligungen@brueggen.de
END:VEVENT
BEGIN:VEVENT
DTSTART;TZID=Europe/Berlin:20260313T200000
DTEND;TZID=Europe/Berlin:20260313T220000
DTSTAMP:20260419T182744
CREATED:20250604T091923Z
LAST-MODIFIED:20251105T125743Z
UID:10005391-1773432000-1773439200@bewusst-brueggen.de
SUMMARY:Quatsch-Comedy-Club on Tour
DESCRIPTION:Hier lacht Brüggen! \nIn Deutschlands bekanntester Stand-Up-Comedy-Show sorgen ein Moderator und vier Comedians für reichlich Lacher und einen unvergesslichen Abend. Erlebt Stand-Up-Comedy wie es sein muss: unzensiert\, hautnah und vor allem live! Hier werden eure Lachmuskeln strapaziert und durch die Mischung aus ganz unterschiedlichen Humorrichtungen hat hier wirklich jeder was zum Lachen. \nHier geht es zu den Tickets: Reservix Ticketshop
URL:https://bewusst-brueggen.de/kalender/quatsch-comedy-club-on-tour/
LOCATION:Burggemeindehalle\, Kreuzherrenplatz\, Brüggen\, 41379\, Deutschland
CATEGORIES:Kultur
ATTACH;FMTTYPE=image/jpeg:https://bewusst-brueggen.de/wp-content/uploads/2025/06/Quatsch-Comedy-Club.jpg
ORGANIZER;CN="Burggemeindehalle Br%C3%BCggen GmbH":MAILTO:beteiligungen@brueggen.de
END:VEVENT
BEGIN:VEVENT
DTSTART;TZID=Europe/Berlin:20260201T173300
DTEND;TZID=Europe/Berlin:20260201T173300
DTSTAMP:20260419T182744
CREATED:20260121T071554Z
LAST-MODIFIED:20260123T100756Z
UID:10006132-1769967180-1769967180@bewusst-brueggen.de
SUMMARY:Galasitzung der Burggarde Brüggen 2011 e.V.
DESCRIPTION:Die Burggarde lädt zur Galasitzung ein. \nFreut euch auf ein kurzweiliges Programm begleitet von den Tanzgruppierungen der Garde\, Mopped Manni\, AltKölsch\, De Huusmeister vom Bundesdaach und vielen weiteren Highlights.\nErlebt einen Abend voller Humor\, Tanz und karnevalistischer Lebensfreude und stimmt Euch schon mal auf die fünfte Jahreszeit ein. \nKartenreservierung unter: info@burggarde-brueggen.de
URL:https://bewusst-brueggen.de/kalender/galasitzung-der-burggarde-brueggen-2011-e-v/
LOCATION:Burggemeindehalle\, Kreuzherrenplatz\, Brüggen\, 41379\, Deutschland
CATEGORIES:Brauchtum/ Heimatkunde
ATTACH;FMTTYPE=image/jpeg:https://bewusst-brueggen.de/wp-content/uploads/2026/01/Galasitzung.jpg
END:VEVENT
BEGIN:VEVENT
DTSTART;TZID=Europe/Berlin:20260109T193000
DTEND;TZID=Europe/Berlin:20260109T220000
DTSTAMP:20260419T182744
CREATED:20251211T082339Z
LAST-MODIFIED:20251211T082339Z
UID:10006077-1767987000-1767996000@bewusst-brueggen.de
SUMMARY:Neujahrstreff der Burggemeinde Brüggen
DESCRIPTION:„Jeder Neuanfang steckt voller Chancen – man muss sie nur gemeinsam ergreifen.“  \nAm Freitag\, den 9. Januar 2026\, findet in der Burggemeindehalle\, Kreuzherrenplatz 2\, 41379 Brüggen\, von 19:30 bis 22:00 Uhr der Neujahrstreff der Burggemeinde Brüggen statt. Die Veranstaltung\, die früher als Neujahrsempfang bekannt war\, hat sich für die Bürgerinnen und Bürger aller Brüggener Ortsteile zu einem beliebten Treffpunkt entwickelt\, um zusammenzukommen\, zu feiern und miteinander ins Gespräch zu kommen. \nMit einem überarbeiteten Veranstaltungskonzept rückt der Neujahrstreff im neuen Jahr noch stärker den Charakter eines offenen Begegnungs- und Austauschformats in den Mittelpunkt. Mit dem Start in das neue Jahr und dem Beginn seiner Amtszeit möchte Bürgermeister Marcel Johnen frische Impulse setzen. Es soll bewusst Raum für persönliche Gespräche und Begegnungen geschaffen werden\, sodass sich Gäste vernetzen\, austauschen und gemeinsam das neue Jahr begrüßen können. Denn vieles gelingt am besten\, wenn man sich persönlich begegnet. \nErleben Sie einen feierlichen Abend mit der Verleihung der Ehrenplakette der Burggemeinde Brüggen\, dem Auftritt des Chors „Stimmlich“ sowie zahlreichen Gelegenheiten\, die Gemeinschaft in Brüggen zu feiern. Der Neujahrstreff bietet einen offenen Rahmen\, um auf das vergangene Jahr zurückzublicken und zugleich mit Optimismus\, Tatkraft und gemeinschaftlichem Miteinander nach vorne zu schauen. Bürgermeister Marcel Johnen lädt alle Bürgerinnen und Bürger herzlich zu diesem Abend ein. Ebenso willkommen sind Mitglieder der örtlichen Vereine sowie Vertreterinnen und Vertreter aus Politik und Wirtschaft. Die Burggemeinde Brüggen freut sich auf zahlreiche Gäste und einen erfolgreichen Auftakt ins neue Jahr. \n 
URL:https://bewusst-brueggen.de/kalender/neujahrstreff-der-burggemeinde-brueggen/
LOCATION:Burggemeindehalle\, Kreuzherrenplatz\, Brüggen\, 41379\, Deutschland
CATEGORIES:Verschiedenes
ATTACH;FMTTYPE=image/jpeg:https://bewusst-brueggen.de/wp-content/uploads/2025/12/Neujahrstreff.jpg
END:VEVENT
BEGIN:VEVENT
DTSTART;TZID=Europe/Berlin:20251213T193000
DTEND;TZID=Europe/Berlin:20251213T223000
DTSTAMP:20260419T182744
CREATED:20250924T075914Z
LAST-MODIFIED:20251008T065405Z
UID:10005838-1765654200-1765665000@bewusst-brueggen.de
SUMMARY:Stimmlich - A Night of Christmas
DESCRIPTION:Die Kerzen flackern\, der Duft von Tannengrün liegt in der Luft\, und plötzlich ist es still im Saal. Elf junge Sängerinnen betreten die Bühne\, die im warmen Schein weihnachtlicher Lichter erstrahlt. Ihre Stimmen verschmelzen zu einem Klangteppich aus internationalen Weihnachtsliedern\, gefühlvollen Pop-Balladen und zeitlosen Evergreens. Für alle\, die das Besondere lieben\, ist das Weihnachtskonzert des Chorensembles „Stimmlich“ ein magisches Erlebnis.
URL:https://bewusst-brueggen.de/kalender/stimmlich-a-night-of-christmas/
LOCATION:Burggemeindehalle\, Kreuzherrenplatz\, Brüggen\, 41379\, Deutschland
CATEGORIES:Kultur
ATTACH;FMTTYPE=image/jpeg:https://bewusst-brueggen.de/wp-content/uploads/2025/09/Plakat-Stimmlich-verkleinert-unter-3MB.jpg
END:VEVENT
BEGIN:VEVENT
DTSTART;TZID=Europe/Berlin:20250504T150000
DTEND;TZID=Europe/Berlin:20250504T190000
DTSTAMP:20260419T182744
CREATED:20250203T081234Z
LAST-MODIFIED:20250203T081234Z
UID:10004634-1746370800-1746385200@bewusst-brueggen.de
SUMMARY:MGV Laetitia Lüttelbracht feiert 125 Jahre Jubiläum
DESCRIPTION:Der MGV Laetitia gestaltet sein 125 Jahre Existenz mit einem Konzert.. Sechs weitere Männerchöre sowie die Nachtigallen Frauenchor aus Lüttelbracht sind ebenfalls singend dabei. Kaffee und Kuchen sind ab 15:00 Uhr erhältlich.
URL:https://bewusst-brueggen.de/kalender/mgv-laetitia-luettelbracht-feiert-125-jahre-jubilaeum/
LOCATION:Burggemeindehalle\, Kreuzherrenplatz\, Brüggen\, 41379\, Deutschland
CATEGORIES:Kultur
ATTACH;FMTTYPE=image/jpeg:https://bewusst-brueggen.de/wp-content/uploads/2023/03/bewusst-brueggen-events-kultur.jpg
ORGANIZER;CN="MGV Laetitia L%C3%BCttelbracht":MAILTO:dick.simmons@web.de
END:VEVENT
BEGIN:VEVENT
DTSTART;TZID=Europe/Berlin:20250112T170000
DTEND;TZID=Europe/Berlin:20250112T200000
DTSTAMP:20260419T182744
CREATED:20240724T104457Z
LAST-MODIFIED:20240724T104457Z
UID:10003116-1736701200-1736712000@bewusst-brueggen.de
SUMMARY:Musikverein Cäcilia Brüggen: Neujahrskonzert
DESCRIPTION:Erneut lädt der Musikverein Cäcilia Brüggen 1910 zum beliebten Neujahrskonzert ein. \nDie Musiker um Dirigent André Frenzer haben dieses Mal ein abwechslungsreiches Programm aus der Welt der Filmmusik einstudiert. Nach dem Konzert bleibt bei einem Glas Sekt die Gelegenheit\, Neujahrswünsche auszutauschen und ein bisschen zu verweilen. \nDer Kartenvorverkauf startet voraussichtlich im Dezember 2024. \nAktuelle Informationen gibt es dann auch auf der Facebook- und Internetseite des Vereins.
URL:https://bewusst-brueggen.de/kalender/musikverein-caecilia-brueggen-neujahrskonzert/
LOCATION:Burggemeindehalle\, Kreuzherrenplatz\, Brüggen\, 41379\, Deutschland
CATEGORIES:Kultur
ATTACH;FMTTYPE=image/jpeg:https://bewusst-brueggen.de/wp-content/uploads/2024/07/IMG-20230116-WA0075.jpg
END:VEVENT
BEGIN:VEVENT
DTSTART;TZID=Europe/Berlin:20250110T193000
DTEND;TZID=Europe/Berlin:20250110T193000
DTSTAMP:20260419T182744
CREATED:20250108T085651Z
LAST-MODIFIED:20250108T085651Z
UID:10004229-1736537400-1736537400@bewusst-brueggen.de
SUMMARY:Neujahrsempfang der Burggemeinde Brüggen
DESCRIPTION:Für Einwohnerinnen und Einwohner aller Brüggener Ortsteile ist der Neujahrsempfang ein beliebter kommunikativer Treffpunkt. Er findet am Freitag\, 10.01.2025 in der Burggemeindehalle\, Kreuzherrenplatz 2 in Brüggen statt. \nFoto: Marc Pfeng
URL:https://bewusst-brueggen.de/kalender/neujahrsempfang-der-burggemeinde-brueggen/
LOCATION:Burggemeindehalle\, Kreuzherrenplatz\, Brüggen\, 41379\, Deutschland
CATEGORIES:Feste / Märkte
ATTACH;FMTTYPE=image/jpeg:https://bewusst-brueggen.de/wp-content/uploads/2025/01/bewusst-brueggen-veranstaltung-neujahrsempfang-2024-marc-pfeng.jpg
ORGANIZER;CN="Burggemeinde Br%C3%BCggen":MAILTO:info@brueggen.de
END:VEVENT
BEGIN:VEVENT
DTSTART;TZID=Europe/Berlin:20241130T200000
DTEND;TZID=Europe/Berlin:20241130T220000
DTSTAMP:20260419T182744
CREATED:20240116T120232Z
LAST-MODIFIED:20240122T081217Z
UID:10001908-1732996800-1733004000@bewusst-brueggen.de
SUMMARY:Brings TOUR 2024
DESCRIPTION:Die von den Brüdern Peter und Stephan Brings gegründete Band hat in den zwei zurückliegenden Jahrzehnten schon so ziemlich alle Höhen und Tiefen erlebt\, die man als Musiker erleben kann. Ende der 1990er hatte die Band mit den berühmten Vätern (neben Rolly Brings sind das Gesangslegende Tommy Engel und der Politiker Norbert Blüm) ihre besten Jahre schon vermeintlich hinter sich. Dann gelang ihnen im Jahr 2000 mit „Superjeilezick“ das\, was man gut und gerne als Sechser im Lotto bezeichnen kann. Diese zündende Powerpolka ist mit jedem Jahr bekannter geworden und gehört mittlerweile weit über den Karneval hinaus zu den populärsten Songs Kölscher Mundart überhaupt. Dank „Superjeilezick“ öffneten sich für Brings Tür und Tor in der närrischen Hochburg Köln. Für die Band begann eine neue Zeitrechnung samt einem rundum gelungenen Imagewandel. \nDann ging es eigentlich Schlag auf Schlag. Kaum eine Karnevalssession in den letzten Jahren ist ohne einen neuen Stimmungshit von Brings ins Land gezogen. „Poppe\, Kaate\, Danze“ (anfänglich noch als Skandalnummer gehandelt\, mittlerweile eine der ganz großen Zugnummern der Band)\, „Su lang mer noch am Lääve sin“\, „Halleluja“\, „Dat is Geil“\, „Polka\, Polka „oder auch das stets rührseligen Stimmungsaufruhr auslösende „Mama\, wir danken dir“ sind klingende Beweise\, wie gut Brings die Befindlichkeiten und Seelenlagen ihrer Mitmenschen kennen. Einen absolut guten Riecher haben sie auch für originelle Coverversionen entwickelt: „Man müsste noch mal 20 sein“ (die Adaption des 50er-Jahre-Hits vom Kölner Urgestein Gerhard Jussenhoven) und dem Zarah-Leander-Evergreen „Nur nicht aus Liebe weinen“ haben sie mit Schmackes neues Leben eingehaucht. Dabei verstehen sie es aufs Beste\, Zigeunermelodien\, Polkas und anderen folkloristischen Zündstoff nahtlos in ihre eigenen Songs einzubauen und mit der Wucht von Rockmusik zu verstärken. „In einem Karnevalsset versuchen wir\, in einer halben Stunde die Essenz von einem Konzert wiederzugeben. Wir wollen den Leuten Lust darauf machen\, doch mal vorbeizukommen und sich ein richtiges Konzert anzugucken“\, sagt Peter Brings\, der sich mit seinen Mannen\, mit energiegeladener Bühnenperformance und unermüdlicher Livepräsenz auf bundesweiten Tourneen und Festivals und auch im Karneval in jede Performance mit Leib und Seele reinhängt: Keiner schwitzt lauter\, keiner verausgabt sich sichtbarer\, keine Band im deutschsprachigen Raum lässt die Zuschauer auf Konzerten fühlbarer und unmittelbarer an Ihrer Musik teilhaben.\nBrings haben noch nie ein Blatt vor den Mund genommen. Dass sie bisweilen mit ihren Songs auch angeeckt sind\, hat sie letztendlich nur noch populärer gemacht. Ihre Konzerte deutschlandweit werden jährlich von tausenden Fans besucht und das seit über 30 Jahren.\nWie Ihr größter Hit sagt\, es sind echte „Kölsche Jungs“. \nTickets: 35\,00 € zzgl. 3\,00 € VVK Gebühr
URL:https://bewusst-brueggen.de/kalender/brings-tour-2024/
LOCATION:Burggemeindehalle\, Kreuzherrenplatz\, Brüggen\, 41379\, Deutschland
CATEGORIES:Kultur
ATTACH;FMTTYPE=image/jpeg:https://bewusst-brueggen.de/wp-content/uploads/2023/03/bewusst-brueggen-events-kultur.jpg
ORGANIZER;CN="Burggemeindehalle Br%C3%BCggen GmbH":MAILTO:beteiligungen@brueggen.de
END:VEVENT
BEGIN:VEVENT
DTSTART;TZID=Europe/Berlin:20240901T110000
DTEND;TZID=Europe/Berlin:20240901T170000
DTSTAMP:20260419T182744
CREATED:20240227T103624Z
LAST-MODIFIED:20240326T093240Z
UID:10002901-1725188400-1725210000@bewusst-brueggen.de
SUMMARY:Klima-Tag
DESCRIPTION:Durch das gesteigerte Interesse an Klimaschutz und Nachhaltigkeitsthemen aus der Bevölkerung veranstaltet die Verwaltung den ersten Klima-Tag in der Burggemeinde Brüggen. Hierzu werden unterschiedliche Teilnehmende/Organisationen in der Burggemeinde die Möglichkeit bekommen\, die Bürgerinnen und Bürger zu informieren und Fragen zu klären. Weiterhin werden parallele Fachvorträge zu den unterschiedlichen Themengebieten die Veranstaltung abrunden. Folgende Themenschwerpunkte werden den sachlichen Rahmen des Klima-Tages bilden: \nThemengebiet – Klimaschutz: allg. Klimaschutzthemen\, Sanierung von Gebäuden\, Photovoltaik\, Recycling & Entsorgung\, E-Mobilität\, Fahrrad-Mobilität\, Wärmeplanung\, Regionales\, Landwirtschaft/Ernährung und Nachhaltigkeit \nThemengebiet – Klimafolgen-Anpassung: allg. Klimaanpassungskonzept\, Hochwasser und Starkregenereignisse\, Katastrophenschutzmaßnahmen\, Dach- und Fassadenbegrünung\, Planung Stadtentwicklung & Umsetzung und versch. Arten- und Naturschutzthemen \nDie Teilnahme ist kostenlos. Das finale Programm der Veranstaltung wird nachträglich bekannt gegeben.
URL:https://bewusst-brueggen.de/kalender/klima-tag/
LOCATION:Burggemeindehalle\, Kreuzherrenplatz\, Brüggen\, 41379\, Deutschland
CATEGORIES:Verschiedenes
ATTACH;FMTTYPE=image/jpeg:https://bewusst-brueggen.de/wp-content/uploads/2024/03/bewusst-brueggen-brueggen-klimatag-logo.jpg
ORGANIZER;CN="Burggemeinde Br%C3%BCggen - Dr. Guido Dericks":MAILTO:guido.dericks@brueggen.de
END:VEVENT
BEGIN:VEVENT
DTSTART;TZID=Europe/Berlin:20240619T180000
DTEND;TZID=Europe/Berlin:20240619T190000
DTSTAMP:20260419T182744
CREATED:20240507T101333Z
LAST-MODIFIED:20240507T101333Z
UID:10002999-1718820000-1718823600@bewusst-brueggen.de
SUMMARY:Aktionswoche: Herrenfitness
DESCRIPTION:Sportangebote wie Hockey oder Fitness mit und ohne Geräte für alle interessierten Männer. Bitte bringen Sie Sportkleidung und Hallenschuhe mit. \nEs handelt sich um eine Veranstaltung in Kooperation mit Tura Brüggen im Rahmen der Aktionswoche „Rund ums Älter werden“ 2024.\nDie Veranstaltung ist kostenlos und frei zugänglich. Alle Interessierten sind herzlich willkommen\, kommen Sie gerne vorbei!  \nBei Rückfragen zu der Veranstaltung oder der gesamten Aktionswoche können Sie sich bei Frau Klerckx oder Herrn Hink unter 02153 898 5032\, -5020 melden oder per Mail an senioren@nettetal.de wenden.  \nWir freuen uns auf zahlreiche Teilnehmende und wünschen Ihnen viel Spaß bei der Aktionswoche 2024!
URL:https://bewusst-brueggen.de/kalender/aktionswoche-herrenfitness/
LOCATION:Burggemeindehalle\, Kreuzherrenplatz\, Brüggen\, 41379\, Deutschland
CATEGORIES:Senioren,Sport / Aktivität
ATTACH;FMTTYPE=image/jpeg:https://bewusst-brueggen.de/wp-content/uploads/2024/05/bewusst-brueggen-seniorenwoche-veranstaltung.jpg
ORGANIZER;CN="Seniorenberatung Br%C3%BCggen/Nettetal%2C Pflegest%C3%BCtzpunkt":MAILTO:sebastian.hink@nettetal.de
END:VEVENT
BEGIN:VEVENT
DTSTART;TZID=Europe/Berlin:20240618T170000
DTEND;TZID=Europe/Berlin:20240618T180000
DTSTAMP:20260419T182744
CREATED:20240507T100301Z
LAST-MODIFIED:20240507T100301Z
UID:10002992-1718730000-1718733600@bewusst-brueggen.de
SUMMARY:Aktionswoche: Frauenfitness Ü60
DESCRIPTION:Es handelt sich um eine Veranstaltung in Kooperation mit Tura Brüggen im Rahmen der Aktionswoche „Rund ums älter werden“ 2024.\nDie Veranstaltung ist kostenlos und frei zugänglich. Alle Interessierten sind herzlich willkommen\, kommen Sie gerne vorbei!\nBitte bringen Sie Sportsachen und Hallenschuhe mit. \nBei Rückfragen zu der Veranstaltung oder der gesamten Aktionswoche können Sie sich bei Frau Klerckx oder Herrn Hink unter 02153 898 5032\, -5020 melden oder per Mail an senioren@nettetal.de wenden.  \nWir freuen uns auf zahlreiche Teilnehmende und wünschen Ihnen viel Spaß bei der Aktionswoche 2024!
URL:https://bewusst-brueggen.de/kalender/aktionswoche-frauenfitness-ue60/
LOCATION:Burggemeindehalle\, Kreuzherrenplatz\, Brüggen\, 41379\, Deutschland
CATEGORIES:Senioren,Sport / Aktivität
ATTACH;FMTTYPE=image/jpeg:https://bewusst-brueggen.de/wp-content/uploads/2024/05/bewusst-brueggen-seniorenwoche-veranstaltung.jpg
ORGANIZER;CN="Seniorenberatung Br%C3%BCggen/Nettetal%2C Pflegest%C3%BCtzpunkt":MAILTO:sebastian.hink@nettetal.de
END:VEVENT
BEGIN:VEVENT
DTSTART;TZID=Europe/Berlin:20231028T200000
DTEND;TZID=Europe/Berlin:20231028T220000
DTSTAMP:20260419T182744
CREATED:20230705T100805Z
LAST-MODIFIED:20231213T145505Z
UID:10000421-1698523200-1698530400@bewusst-brueggen.de
SUMMARY:Bernd Stelter "Hurra\, ab Montag ist wieder…!" Tour 2023
DESCRIPTION:Sie kennen das. Montag morgen. Man steigt in den Wagen und schaltet das Radio an.\nSpätestens nach dem dritten Lied brüllt der Radiomann aus den Boxen: „Jaa Freunde\, Montag\, das ist natürlich nicht unser Tag! Aber macht euch keine Sorgen! Nur noch fünf Tage\, dann haben wir wieder Wochenende.“ Hää?! Hat der nicht alle Tassen im Schrank? Wenn der keine Lust hat\, Radiomoderator zu sein\, dann kann er ja Frisör werden\, die haben Montags frei.“ \n„Hurra\, ab Montag ist wieder Wochenende!“ heißt das neue Programm von Bernd Stelter.\nEin Programm für alle\, die über Montage mosern\, über Dienstage diskutieren\, die Mittwoche mies und Donnerstage doof finden.\nWarum soll man denn bitte sehr viereinhalb Tage pro Woche verschenken\, damit endlich wieder Wochenende ist. „Und was machst du am Wochenende?“ – „Party!“ Es geht um Work-Life-Balance. Was für ein Wortungetüm. Und was für ein Blödsinn. Wenn Deine Arbeit nicht zu deinem Leben gehört\, dann hast du wirklich verloren. Nein\, wir müssen schon jeden Tag genießen. Und warum können das die Dänen besser als wir\, und die Schweden und die Schweizer auch. Das müssen wir direkt ändern. Aber wie? Also erstmal ist ab Montag Wochenende\, und wir fangen bei uns selber an. Wir sind jetzt mal zufriedener. Wie man das lernt? Wie lernt man Fahrrad fahren? Man fährt einfach los. Und bloß nicht auf die anderen warten. Du musst dir dein Konfetti schon selbst ins Leben pusten. \nÜbrigens\, auch an Montagen finden Aufführungen statt\, obwohl Herr Stelter da Wochenende hat. \nKartenverkauf:\nRathaus Brüggen\nTourist-Information\nwww.adticket.de\nwww.eventim.de
URL:https://bewusst-brueggen.de/kalender/bernd-stelter-hurra-ab-montag-ist-wieder-tour-2023/2023-10-28/
LOCATION:Burggemeindehalle\, Kreuzherrenplatz\, Brüggen\, 41379\, Deutschland
CATEGORIES:Kultur
ATTACH;FMTTYPE=image/jpeg:https://bewusst-brueggen.de/wp-content/uploads/2023/03/bewusst-brueggen-events-kultur.jpg
END:VEVENT
BEGIN:VEVENT
DTSTART;TZID=Europe/Berlin:20231021T180000
DTEND;TZID=Europe/Berlin:20231021T230000
DTSTAMP:20260419T182744
CREATED:20230328T114218Z
LAST-MODIFIED:20231213T145507Z
UID:10000345-1697911200-1697929200@bewusst-brueggen.de
SUMMARY:Festbankett zum Jubiläum 100 Jahre TuRa Brüggen
DESCRIPTION:Festbankett zum 100 Jahre Jubiläum von TuRa Brüggen 1923 e.V. In einem feierlichen Rahmen mit Ehrengästen\, Freunden\, Ehrenamtlern und Förderern des Vereins wollen wir unser Jubiläum begehen.
URL:https://bewusst-brueggen.de/kalender/festbankett-zum-jubilaeum-100-jahre-tura-brueggen/
LOCATION:Burggemeindehalle\, Kreuzherrenplatz\, Brüggen\, 41379\, Deutschland
CATEGORIES:Sport / Aktivität,Verschiedenes
ATTACH;FMTTYPE=image/jpeg:https://bewusst-brueggen.de/wp-content/uploads/2023/03/bewusst-brueggen-events-sport.jpg
ORGANIZER;CN="TuRa Br%C3%BCggen 1923 e.V.":MAILTO:geschaeftsstelle@tura1923.de
END:VEVENT
BEGIN:VEVENT
DTSTART;TZID=Europe/Berlin:20231014T140000
DTEND;TZID=Europe/Berlin:20231015T010000
DTSTAMP:20260419T182744
CREATED:20231005T095223Z
LAST-MODIFIED:20231213T145510Z
UID:10000828-1697292000-1697331600@bewusst-brueggen.de
SUMMARY:125 Jahre Löschzug Brüggen & 30 Jahre Jugendfeuerwehr Brüggen
DESCRIPTION:14:00-17:30 Uhr: Festakt in der Burggemeindehalle Brüggen\n17:45-20:30 Uhr: Gottesdienst in der Kirche St. Nikolaus\, Festumzug ab dem Kreuzherrenplatz mit Zapfenstreich an der Burg\n20:00-01:00 Uhr: Jubiläumsparty mit BOOSTER
URL:https://bewusst-brueggen.de/kalender/125-jahre-loeschzug-brueggen-30-jahre-jugendfeuerwehr-brueggen/
LOCATION:Burggemeindehalle\, Kreuzherrenplatz\, Brüggen\, 41379\, Deutschland
CATEGORIES:Feste / Märkte
ORGANIZER;CN="L%C3%B6schzug Br%C3%BCggen - Stephan Moers":MAILTO:jubilaeum@brueggen.de
END:VEVENT
END:VCALENDAR