BEGIN:VCALENDAR
VERSION:2.0
PRODID:-//Bewusst Brüggen - ECPv6.15.20//NONSGML v1.0//EN
CALSCALE:GREGORIAN
METHOD:PUBLISH
X-ORIGINAL-URL:https://bewusst-brueggen.de
X-WR-CALDESC:Veranstaltungen für Bewusst Brüggen
REFRESH-INTERVAL;VALUE=DURATION:PT1H
X-Robots-Tag:noindex
X-PUBLISHED-TTL:PT1H
BEGIN:VTIMEZONE
TZID:Europe/Berlin
BEGIN:DAYLIGHT
TZOFFSETFROM:+0100
TZOFFSETTO:+0200
TZNAME:CEST
DTSTART:20250330T010000
END:DAYLIGHT
BEGIN:STANDARD
TZOFFSETFROM:+0200
TZOFFSETTO:+0100
TZNAME:CET
DTSTART:20251026T010000
END:STANDARD
BEGIN:DAYLIGHT
TZOFFSETFROM:+0100
TZOFFSETTO:+0200
TZNAME:CEST
DTSTART:20260329T010000
END:DAYLIGHT
BEGIN:STANDARD
TZOFFSETFROM:+0200
TZOFFSETTO:+0100
TZNAME:CET
DTSTART:20261025T010000
END:STANDARD
BEGIN:DAYLIGHT
TZOFFSETFROM:+0100
TZOFFSETTO:+0200
TZNAME:CEST
DTSTART:20270328T010000
END:DAYLIGHT
BEGIN:STANDARD
TZOFFSETFROM:+0200
TZOFFSETTO:+0100
TZNAME:CET
DTSTART:20271031T010000
END:STANDARD
END:VTIMEZONE
BEGIN:VEVENT
DTSTART;TZID=Europe/Berlin:20260502T080000
DTEND;TZID=Europe/Berlin:20260502T200000
DTSTAMP:20260421T104117
CREATED:20250710T111632Z
LAST-MODIFIED:20260324T115709Z
UID:10005375-1777708800-1777752000@bewusst-brueggen.de
SUMMARY:Wandertag "Hiking-Day"
DESCRIPTION:Entdecke und erlebe die Burggemeinde Brüggen wandernd. Dafür hast du bis zu 12 Stunden Zeit. Wie viele Kilometer wirst du am Ende schaffen? Hauptsache\, du hast Spaß. Dennoch kannst du dich für ein klein wenig Motivation mit anderen Teilnehmenden messen. Dafür haben wir die Hiking-Day-App entwickelt. Das GPS trackt deine zurückgelegte Strecke und übermittelt sie in Echtzeit an die Organisation. Stärken kannst du dich während deiner Wanderung in unserem gut ausgestattetem Base-Camp und in lokalen Geschäften. Über deine gesammelten Kilometer erhältst du eine Urkunde und einen Platz im Ranking. \nWeitere Infos folgen….
URL:https://bewusst-brueggen.de/kalender/wandertag-hiking-day/
LOCATION:Burggemeindehalle\, Kreuzherrenplatz\, Brüggen\, 41379\, Deutschland
CATEGORIES:Sport / Aktivität
ATTACH;FMTTYPE=image/jpeg:https://bewusst-brueggen.de/wp-content/uploads/2025/07/Hiking-Day-Konzept.pdf.jpg
ORGANIZER;CN="Kamischke Konsulting":MAILTO:info@hiking-day.de
END:VEVENT
BEGIN:VEVENT
DTSTART;TZID=Europe/Berlin:20260621T170000
DTEND;TZID=Europe/Berlin:20260621T180000
DTSTAMP:20260421T104117
CREATED:20240126T103451Z
LAST-MODIFIED:20260115T095218Z
UID:10002026-1782061200-1782064800@bewusst-brueggen.de
SUMMARY:Weltyogatag 2026
DESCRIPTION:Der 21. Juni wurde von den Vereinten Nationen (UNO) zum offiziellen „Weltyogatag“ erklärt. Der Weltyogatag soll jedes Jahr auch ein Tag des Friedens sein\, ein Tag der Verbundenheit und Einheit. In diesen Zeiten wichtiger denn je! Ein Tag\, an dem weltweit viele Menschen Yoga ausüben\, als Beitrag zu einem friedlicheren Miteinander und einem gesünderen\, sinnerfüllten Lebensstil. Es ist auch der Tag der Sommer-Sonnenwende\, d.h.\, in unseren Breiten der Beginn des Sommers und der längste Tag des Jahres. \nAuch in Brüggen wird dieser Tag auf Initiative der Yogalehrerin\, Anne Steinhauser\, mit Unterstützung der Burggemeinde Brüggen begangen. Interessierte kommen um 17.00 Uhr mit Matte\, Kissen und bequemer Kleidung zur Burggemeindehalle\, Kreuzherrenplatz 2\, um gemeinsam Yoga zu praktizieren. Vorkenntnisse sind nicht erforderlich. \nTeilnahme gegen Spende für das Frauen Projekt Streevani in Indien. \n 
URL:https://bewusst-brueggen.de/kalender/weltyogatag-2024/
LOCATION:Burggemeindehalle\, Kreuzherrenplatz\, Brüggen\, 41379\, Deutschland
CATEGORIES:Sport / Aktivität
ATTACH;FMTTYPE=image/jpeg:https://bewusst-brueggen.de/wp-content/uploads/2024/01/DSC05125-Pano-WYT-Brueggen19.jpg
ORGANIZER;CN="Anne Steinhauser &amp%3B Burggemeinde Br%C3%BCggen":MAILTO:as.steinhauser@t-online.de
END:VEVENT
BEGIN:VEVENT
DTSTART;TZID=Europe/Berlin:20260926T200000
DTEND;TZID=Europe/Berlin:20260926T220000
DTSTAMP:20260421T104117
CREATED:20251125T115622Z
LAST-MODIFIED:20251125T115622Z
UID:10006065-1790452800-1790460000@bewusst-brueggen.de
SUMMARY:BRINGS - Tour 2026
DESCRIPTION:Die von den Brüdern Peter und Stephan Brings gegründete Band hat in den zwei zurückliegenden Jahrzehnten schon so ziemlich alle Höhen und Tiefen erlebt\, die man als Musiker erleben kann. Ende der 1990er hatte die Band mit den berühmten Vätern (neben Rolly Brings sind das Gesangslegende Tommy Engel und der Politiker Norbert Blüm) ihre besten Jahre schon vermeintlich hinter sich. Dann gelang ihnen im Jahr 2000 mit „Superjeilezick“ das\, was man gut und gerne als Sechser im Lotto bezeichnen kann. Diese zündende Powerpolka ist mit jedem Jahr bekannter geworden und gehört mittlerweile weit über den Karneval hinaus zu den populärsten Songs Kölscher Mundart überhaupt. Dank „Superjeilezick“ öffneten sich für Brings Tür und Tor in der närrischen Hochburg Köln. Für die Band begann eine neue Zeitrechnung samt einem rundum gelungenen Imagewandel. \nDann ging es eigentlich Schlag auf Schlag. Kaum eine Karnevalssession in den letzten Jahren ist ohne einen neuen Stimmungshit von Brings ins Land gezogen. „Poppe\, Kaate\, Danze“ (anfänglich noch als Skandalnummer gehandelt\, mittlerweile eine der ganz großen Zugnummern der Band)\, „Su lang mer noch am Lääve sin“\, „Halleluja“\, „Dat is Geil“\, „Polka\, Polka „oder auch das stets rührseligen Stimmungsaufruhr auslösende „Mama\, wir danken dir“ sind klingende Beweise\, wie gut Brings die Befindlichkeiten und Seelenlagen ihrer Mitmenschen kennen. Einen absolut guten Riecher haben sie auch für originelle Coverversionen entwickelt: „Man müsste noch mal 20 sein“ (die Adaption des 50er-Jahre-Hits vom Kölner Urgestein Gerhard Jussenhoven) und dem Zarah-Leander-Evergreen „Nur nicht aus Liebe weinen“ haben sie mit Schmackes neues Leben eingehaucht. Dabei verstehen sie es aufs Beste\, Zigeunermelodien\, Polkas und anderen folkloristischen Zündstoff nahtlos in ihre eigenen Songs einzubauen und mit der Wucht von Rockmusik zu verstärken. „In einem Karnevalsset versuchen wir\, in einer halben Stunde die Essenz von einem Konzert wiederzugeben. Wir wollen den Leuten Lust darauf machen\, doch mal vorbeizukommen und sich ein richtiges Konzert anzugucken“\, sagt Peter Brings\, der sich mit seinen Mannen\, mit energiegeladener Bühnenperformance und unermüdlicher Livepräsenz auf bundesweiten Tourneen und Festivals und auch im Karneval in jede Performance mit Leib und Seele reinhängt: Keiner schwitzt lauter\, keiner verausgabt sich sichtbarer\, keine Band im deutschsprachigen Raum lässt die Zuschauer auf Konzerten fühlbarer und unmittelbarer an Ihrer Musik teilhaben.\nBrings haben noch nie ein Blatt vor den Mund genommen. Dass sie bisweilen mit ihren Songs auch angeeckt sind\, hat sie letztendlich nur noch populärer gemacht. Ihre Konzerte deutschlandweit werden jährlich von tausenden Fans besucht und das seit über 30 Jahren.\nWie Ihr größter Hit sagt\, es sind echte „Kölsche Jungs“. \nDie Tickets kosten 39\,00 € zzgl. 3\,00 € VVK Gebühr\, 46\,00 € an der Abendkasse und sind erhältlich im Bürgerservice der Burggemeinde Brüggen\, Klosterstraße 38\, in der Tourist-Info in der Burg Brüggen oder bei www.adticket.de bzw. www.reservix.de https://mehrzweckhalle-brueggen.reservix.de/p/reservix/event/2471641 \nFoto: MORITZ ‚MUMPI‘ KÜNSTER
URL:https://bewusst-brueggen.de/kalender/brings-tour-2026/
LOCATION:Burggemeindehalle\, Kreuzherrenplatz\, Brüggen\, 41379\, Deutschland
CATEGORIES:Kultur
ATTACH;FMTTYPE=image/jpeg:https://bewusst-brueggen.de/wp-content/uploads/2025/11/BRINGS_BANDFOTO_2023.jpg
ORGANIZER;CN="Burggemeindehalle Br%C3%BCggen GmbH":MAILTO:beteiligungen@brueggen.de
END:VEVENT
END:VCALENDAR