BEGIN:VCALENDAR
VERSION:2.0
PRODID:-//Bewusst Brüggen - ECPv6.15.20//NONSGML v1.0//EN
CALSCALE:GREGORIAN
METHOD:PUBLISH
X-ORIGINAL-URL:https://bewusst-brueggen.de
X-WR-CALDESC:Veranstaltungen für Bewusst Brüggen
REFRESH-INTERVAL;VALUE=DURATION:PT1H
X-Robots-Tag:noindex
X-PUBLISHED-TTL:PT1H
BEGIN:VTIMEZONE
TZID:Europe/Berlin
BEGIN:DAYLIGHT
TZOFFSETFROM:+0100
TZOFFSETTO:+0200
TZNAME:CEST
DTSTART:20250330T010000
END:DAYLIGHT
BEGIN:STANDARD
TZOFFSETFROM:+0200
TZOFFSETTO:+0100
TZNAME:CET
DTSTART:20251026T010000
END:STANDARD
BEGIN:DAYLIGHT
TZOFFSETFROM:+0100
TZOFFSETTO:+0200
TZNAME:CEST
DTSTART:20260329T010000
END:DAYLIGHT
BEGIN:STANDARD
TZOFFSETFROM:+0200
TZOFFSETTO:+0100
TZNAME:CET
DTSTART:20261025T010000
END:STANDARD
BEGIN:DAYLIGHT
TZOFFSETFROM:+0100
TZOFFSETTO:+0200
TZNAME:CEST
DTSTART:20270328T010000
END:DAYLIGHT
BEGIN:STANDARD
TZOFFSETFROM:+0200
TZOFFSETTO:+0100
TZNAME:CET
DTSTART:20271031T010000
END:STANDARD
END:VTIMEZONE
BEGIN:VEVENT
DTSTART;TZID=Europe/Berlin:20260202T190000
DTEND;TZID=Europe/Berlin:20260202T210000
DTSTAMP:20260420T052444
CREATED:20251201T122832Z
LAST-MODIFIED:20251201T122957Z
UID:10006070-1770058800-1770066000@bewusst-brueggen.de
SUMMARY:Quizkönig in Brüggen
DESCRIPTION:„Quizkönig“ erobert Brüggen: Ein lustiger Abend mit über 60 Fragen und drei spannenden Spielrunden \nBrüggen – Wissen\, Lachen und Gewinnen stehen im Mittelpunkt der neuen Veranstaltung „Quizkönig“\, die ab sofort das kulturelle Leben in Brüggen bereichert! Alle Quizfans und solche\, die es werden wollen\, sind herzlich eingeladen\, an einem unterhaltsamen Abend mit über 60 kniffligen Fragen in drei abwechslungsreichen Spielrunden teilzunehmen. \nDie Veranstaltung wird von Sarah Bannert moderiert\, die mit ihrer charmanten und lustigen Art für eine großartige Stimmung sorgt. Teilnehmer können Teams von zwei bis sechs Personen bilden – ob mit Freunden\, Familie oder Kollegen\, hier ist Teamgeist gefragt. Für das leibliche Wohl sorgt das Burghof-Team. Jeden Monat erwartet die Teilnehmer ein neues\, abwechslungsreiches Quiz\, das für frische Herausforderungen sorgt. Ob Film\, Musik\, Sport oder Allgemeinwissen – hier kommt jeder auf seine Kosten. \nBeginn 19.00 Uhr. Einlass 18.30 Uhr. Durch den Ticketkauf reserviert ihr eure Plätze. Tickets zum Preis von 12\,00 € gibt es unter www.feinkost-fussangel.de oder zur telefonischen Vorbestellung unter 02153/971946. \n 
URL:https://bewusst-brueggen.de/kalender/quizkoenig-in-brueggen/2026-02-02/
LOCATION:Burghof – Restaurant\, Klosterstraße 33\, Brüggen\, 41379
CATEGORIES:Kultur,Verschiedenes
ATTACH;FMTTYPE=image/jpeg:https://bewusst-brueggen.de/wp-content/uploads/2024/08/quizkoenig.jpg
END:VEVENT
BEGIN:VEVENT
DTSTART;TZID=Europe/Berlin:20260105T190000
DTEND;TZID=Europe/Berlin:20260105T210000
DTSTAMP:20260420T052444
CREATED:20251201T122832Z
LAST-MODIFIED:20251201T122957Z
UID:10006069-1767639600-1767646800@bewusst-brueggen.de
SUMMARY:Quizkönig in Brüggen
DESCRIPTION:„Quizkönig“ erobert Brüggen: Ein lustiger Abend mit über 60 Fragen und drei spannenden Spielrunden \nBrüggen – Wissen\, Lachen und Gewinnen stehen im Mittelpunkt der neuen Veranstaltung „Quizkönig“\, die ab sofort das kulturelle Leben in Brüggen bereichert! Alle Quizfans und solche\, die es werden wollen\, sind herzlich eingeladen\, an einem unterhaltsamen Abend mit über 60 kniffligen Fragen in drei abwechslungsreichen Spielrunden teilzunehmen. \nDie Veranstaltung wird von Sarah Bannert moderiert\, die mit ihrer charmanten und lustigen Art für eine großartige Stimmung sorgt. Teilnehmer können Teams von zwei bis sechs Personen bilden – ob mit Freunden\, Familie oder Kollegen\, hier ist Teamgeist gefragt. Für das leibliche Wohl sorgt das Burghof-Team. Jeden Monat erwartet die Teilnehmer ein neues\, abwechslungsreiches Quiz\, das für frische Herausforderungen sorgt. Ob Film\, Musik\, Sport oder Allgemeinwissen – hier kommt jeder auf seine Kosten. \nBeginn 19.00 Uhr. Einlass 18.30 Uhr. Durch den Ticketkauf reserviert ihr eure Plätze. Tickets zum Preis von 12\,00 € gibt es unter www.feinkost-fussangel.de oder zur telefonischen Vorbestellung unter 02153/971946. \n 
URL:https://bewusst-brueggen.de/kalender/quizkoenig-in-brueggen/2026-01-05/
LOCATION:Burghof – Restaurant\, Klosterstraße 33\, Brüggen\, 41379
CATEGORIES:Kultur,Verschiedenes
ATTACH;FMTTYPE=image/jpeg:https://bewusst-brueggen.de/wp-content/uploads/2024/08/quizkoenig.jpg
END:VEVENT
END:VCALENDAR