BEGIN:VCALENDAR
VERSION:2.0
PRODID:-//Bewusst Brüggen - ECPv6.15.20//NONSGML v1.0//EN
CALSCALE:GREGORIAN
METHOD:PUBLISH
X-WR-CALNAME:Bewusst Brüggen
X-ORIGINAL-URL:https://bewusst-brueggen.de
X-WR-CALDESC:Veranstaltungen für Bewusst Brüggen
REFRESH-INTERVAL;VALUE=DURATION:PT1H
X-Robots-Tag:noindex
X-PUBLISHED-TTL:PT1H
BEGIN:VTIMEZONE
TZID:Europe/Berlin
BEGIN:DAYLIGHT
TZOFFSETFROM:+0100
TZOFFSETTO:+0200
TZNAME:CEST
DTSTART:20220327T010000
END:DAYLIGHT
BEGIN:STANDARD
TZOFFSETFROM:+0200
TZOFFSETTO:+0100
TZNAME:CET
DTSTART:20221030T010000
END:STANDARD
BEGIN:DAYLIGHT
TZOFFSETFROM:+0100
TZOFFSETTO:+0200
TZNAME:CEST
DTSTART:20230326T010000
END:DAYLIGHT
BEGIN:STANDARD
TZOFFSETFROM:+0200
TZOFFSETTO:+0100
TZNAME:CET
DTSTART:20231029T010000
END:STANDARD
BEGIN:DAYLIGHT
TZOFFSETFROM:+0100
TZOFFSETTO:+0200
TZNAME:CEST
DTSTART:20240331T010000
END:DAYLIGHT
BEGIN:STANDARD
TZOFFSETFROM:+0200
TZOFFSETTO:+0100
TZNAME:CET
DTSTART:20241027T010000
END:STANDARD
END:VTIMEZONE
BEGIN:VEVENT
DTSTART;TZID=Europe/Berlin:20231217T160000
DTEND;TZID=Europe/Berlin:20231217T170000
DTSTAMP:20260420T121240
CREATED:20231214T151755Z
LAST-MODIFIED:20231214T151755Z
UID:10001007-1702828800-1702832400@bewusst-brueggen.de
SUMMARY:Offene Kasemattenführung
DESCRIPTION:Tauche ein in die faszinierende und geheimnisvolle Geschichte der Brüggener Kasematten. \nUnsere Führung nimmt dich mit auf eine Reise durch diese einfachen\, aber geschichtsträchtigen Festungsanlagen.\nErfahre mehr über ihre ursprüngliche Funktion\, entdecke ihren Verlauf und lerne\, wie ihre Lage strategisch geplant wurde. \nTreffpunkt für dieses interessante Erlebnis ist vor dem Burgtor\, gegenüber von Het Frtije. Schließe dich uns an und tauche ein in die Geheimnisse dieser unterirdischen Welt! \nDie Teilnahme erfordert keine Anmeldung\, gerne kannst du dich aber vorab in der Tourist-Information melden um deinen Platz zu sichern.\nDie Führung ist kostenlos! \nFoto: Jens Engels
URL:https://bewusst-brueggen.de/kalender/offene-kasemattenfuehrung/2023-12-17/2/
LOCATION:Burgtor\, Burgwall 2\, Brüggen\, 41379\, Deutschland
CATEGORIES:Führung
ATTACH;FMTTYPE=image/jpeg:https://bewusst-brueggen.de/wp-content/uploads/2023/12/2020-Schild-Kasematten-Foto_Jens-Engel_2.jpg
ORGANIZER;CN="Tourist-Information":MAILTO:tourist-info@brueggen.de
END:VEVENT
BEGIN:VEVENT
DTSTART;TZID=Europe/Berlin:20231217T140000
DTEND;TZID=Europe/Berlin:20231217T150000
DTSTAMP:20260420T121240
CREATED:20231214T151755Z
LAST-MODIFIED:20231214T151755Z
UID:10001006-1702821600-1702825200@bewusst-brueggen.de
SUMMARY:Offene Kasemattenführung
DESCRIPTION:Tauche ein in die faszinierende und geheimnisvolle Geschichte der Brüggener Kasematten. \nUnsere Führung nimmt dich mit auf eine Reise durch diese einfachen\, aber geschichtsträchtigen Festungsanlagen.\nErfahre mehr über ihre ursprüngliche Funktion\, entdecke ihren Verlauf und lerne\, wie ihre Lage strategisch geplant wurde. \nTreffpunkt für dieses interessante Erlebnis ist vor dem Burgtor\, gegenüber von Het Frtije. Schließe dich uns an und tauche ein in die Geheimnisse dieser unterirdischen Welt! \nDie Teilnahme erfordert keine Anmeldung\, gerne kannst du dich aber vorab in der Tourist-Information melden um deinen Platz zu sichern.\nDie Führung ist kostenlos! \nFoto: Jens Engels
URL:https://bewusst-brueggen.de/kalender/offene-kasemattenfuehrung/2023-12-17/1/
LOCATION:Burgtor\, Burgwall 2\, Brüggen\, 41379\, Deutschland
CATEGORIES:Führung
ATTACH;FMTTYPE=image/jpeg:https://bewusst-brueggen.de/wp-content/uploads/2023/12/2020-Schild-Kasematten-Foto_Jens-Engel_2.jpg
ORGANIZER;CN="Tourist-Information":MAILTO:tourist-info@brueggen.de
END:VEVENT
BEGIN:VEVENT
DTSTART;TZID=Europe/Berlin:20231217T120000
DTEND;TZID=Europe/Berlin:20231217T140000
DTSTAMP:20260420T121240
CREATED:20231215T071920Z
LAST-MODIFIED:20231215T074548Z
UID:10001016-1702814400-1702821600@bewusst-brueggen.de
SUMMARY:30 min Führungen durch die Kasematten mit dem Bauamt
DESCRIPTION:Entdecke die Kasematten bei einer spannende Führung\, angeleitet von Mitarbeitenden des Bauamts. \nIn jeweils 30 Minuten Slots hast du die Möglichkeit etwas über die Historie und die Bauliche Geschichte der Kasematten zu erfahren.\nWelche aufwendigen Umbau- und Instandsetzungsarbeiten diese historischen Gemäuer durchlaufen haben und wie diese umgesetzt wurden. \nDie erste Führung startet um 12:00 Uhr vor dem Burgtor. \nDie Teilnahme erfordert keine Anmeldung\, gerne kannst du dich aber vorab in der Tourist-Information melden um deinen Platz zu sichern.\nDie Führung ist kostenlos! \nFoto: Jens Engels
URL:https://bewusst-brueggen.de/kalender/fuehrung-durch-die-kasematten-mit-dem-bauamt/
LOCATION:Burgtor\, Burgwall 2\, Brüggen\, 41379\, Deutschland
CATEGORIES:Führung
ATTACH;FMTTYPE=image/jpeg:https://bewusst-brueggen.de/wp-content/uploads/2023/12/2020-Schild-Kasematten-Foto_Jens-Engel_2.jpg
ORGANIZER;CN="Tourist-Information":MAILTO:tourist-info@brueggen.de
END:VEVENT
BEGIN:VEVENT
DTSTART;TZID=Europe/Berlin:20231216T150000
DTEND;TZID=Europe/Berlin:20231216T160000
DTSTAMP:20260420T121240
CREATED:20231214T151755Z
LAST-MODIFIED:20231214T151755Z
UID:10001005-1702738800-1702742400@bewusst-brueggen.de
SUMMARY:Offene Kasemattenführung
DESCRIPTION:Tauche ein in die faszinierende und geheimnisvolle Geschichte der Brüggener Kasematten. \nUnsere Führung nimmt dich mit auf eine Reise durch diese einfachen\, aber geschichtsträchtigen Festungsanlagen.\nErfahre mehr über ihre ursprüngliche Funktion\, entdecke ihren Verlauf und lerne\, wie ihre Lage strategisch geplant wurde. \nTreffpunkt für dieses interessante Erlebnis ist vor dem Burgtor\, gegenüber von Het Frtije. Schließe dich uns an und tauche ein in die Geheimnisse dieser unterirdischen Welt! \nDie Teilnahme erfordert keine Anmeldung\, gerne kannst du dich aber vorab in der Tourist-Information melden um deinen Platz zu sichern.\nDie Führung ist kostenlos! \nFoto: Jens Engels
URL:https://bewusst-brueggen.de/kalender/offene-kasemattenfuehrung/2023-12-16/
LOCATION:Burgtor\, Burgwall 2\, Brüggen\, 41379\, Deutschland
CATEGORIES:Führung
ATTACH;FMTTYPE=image/jpeg:https://bewusst-brueggen.de/wp-content/uploads/2023/12/2020-Schild-Kasematten-Foto_Jens-Engel_2.jpg
ORGANIZER;CN="Tourist-Information":MAILTO:tourist-info@brueggen.de
END:VEVENT
END:VCALENDAR