BEGIN:VCALENDAR
VERSION:2.0
PRODID:-//Bewusst Brüggen - ECPv6.15.20//NONSGML v1.0//EN
CALSCALE:GREGORIAN
METHOD:PUBLISH
X-WR-CALNAME:Bewusst Brüggen
X-ORIGINAL-URL:https://bewusst-brueggen.de
X-WR-CALDESC:Veranstaltungen für Bewusst Brüggen
REFRESH-INTERVAL;VALUE=DURATION:PT1H
X-Robots-Tag:noindex
X-PUBLISHED-TTL:PT1H
BEGIN:VTIMEZONE
TZID:Europe/Berlin
BEGIN:DAYLIGHT
TZOFFSETFROM:+0100
TZOFFSETTO:+0200
TZNAME:CEST
DTSTART:20230326T010000
END:DAYLIGHT
BEGIN:STANDARD
TZOFFSETFROM:+0200
TZOFFSETTO:+0100
TZNAME:CET
DTSTART:20231029T010000
END:STANDARD
BEGIN:DAYLIGHT
TZOFFSETFROM:+0100
TZOFFSETTO:+0200
TZNAME:CEST
DTSTART:20240331T010000
END:DAYLIGHT
BEGIN:STANDARD
TZOFFSETFROM:+0200
TZOFFSETTO:+0100
TZNAME:CET
DTSTART:20241027T010000
END:STANDARD
BEGIN:DAYLIGHT
TZOFFSETFROM:+0100
TZOFFSETTO:+0200
TZNAME:CEST
DTSTART:20250330T010000
END:DAYLIGHT
BEGIN:STANDARD
TZOFFSETFROM:+0200
TZOFFSETTO:+0100
TZNAME:CET
DTSTART:20251026T010000
END:STANDARD
END:VTIMEZONE
BEGIN:VEVENT
DTSTART;TZID=Europe/Berlin:20240915T140000
DTEND;TZID=Europe/Berlin:20240915T180000
DTSTAMP:20260425T164804
CREATED:20240910T111907Z
LAST-MODIFIED:20240910T111907Z
UID:10003307-1726408800-1726423200@bewusst-brueggen.de
SUMMARY:Welt-Alzheimertag 2024 - Aktionswoche "Urlaub ohne Koffer: "Weißt du noch? - Geschichten\, Anekdoten und Erinnerungen
DESCRIPTION:Den Beginn der Aktionswoche „Urlaub ohne Koffer“ in Nettetal und Brüggen macht am Sonntag\, den 15. September 2024 das Dorfmuseum Hinsbeck. In der Zeit von 14 bis 18 Uhr öffnet das Museum die Türen für Demenzbetroffene\, ihre Angehörigen und alle Interessierten. Unter dem Titel „Weißt du noch? – Geschichten\, Anekdoten und Erinnerungen“ lädt die Ausstellung im Dorfmuseum dazu ein\, mit den Ausstellungsstücken ganz persönliche Erinnerungen zu verbinden\, sie wieder aufleben zu lassen und mit den anderen Besuchern zu teilen. Die demenzsensible und persönliche Begleitung erfolgt durch die Mitarbeitenden des Museums und des Pflegestützpunktes. Anmeldungen sind nicht erforderlich.
URL:https://bewusst-brueggen.de/kalender/welt-alzheimertag-2024-aktionswoche-urlaub-ohne-koffer-weisst-du-noch-geschichten-anekdoten-und-erinnerungen/
LOCATION:Dorfmuseum  Hinsbeck\, Auf der Schomm 1\, Nettetal\, 41334
CATEGORIES:Senioren
ATTACH;FMTTYPE=image/jpeg:https://bewusst-brueggen.de/wp-content/uploads/2023/12/bewusst-brueggen-events-senioren.jpg
ORGANIZER;CN="Pflegest%C3%BCtzpunkt Gemeinde Br%C3%BCggen und Stadt Nettetal":MAILTO:christiane.haak@nettetal.de
END:VEVENT
END:VCALENDAR