BEGIN:VCALENDAR
VERSION:2.0
PRODID:-//Bewusst Brüggen - ECPv6.15.20//NONSGML v1.0//EN
CALSCALE:GREGORIAN
METHOD:PUBLISH
X-ORIGINAL-URL:https://bewusst-brueggen.de
X-WR-CALDESC:Veranstaltungen für Bewusst Brüggen
REFRESH-INTERVAL;VALUE=DURATION:PT1H
X-Robots-Tag:noindex
X-PUBLISHED-TTL:PT1H
BEGIN:VTIMEZONE
TZID:Europe/Berlin
BEGIN:DAYLIGHT
TZOFFSETFROM:+0100
TZOFFSETTO:+0200
TZNAME:CEST
DTSTART:20230326T010000
END:DAYLIGHT
BEGIN:STANDARD
TZOFFSETFROM:+0200
TZOFFSETTO:+0100
TZNAME:CET
DTSTART:20231029T010000
END:STANDARD
BEGIN:DAYLIGHT
TZOFFSETFROM:+0100
TZOFFSETTO:+0200
TZNAME:CEST
DTSTART:20240331T010000
END:DAYLIGHT
BEGIN:STANDARD
TZOFFSETFROM:+0200
TZOFFSETTO:+0100
TZNAME:CET
DTSTART:20241027T010000
END:STANDARD
BEGIN:DAYLIGHT
TZOFFSETFROM:+0100
TZOFFSETTO:+0200
TZNAME:CEST
DTSTART:20250330T010000
END:DAYLIGHT
BEGIN:STANDARD
TZOFFSETFROM:+0200
TZOFFSETTO:+0100
TZNAME:CET
DTSTART:20251026T010000
END:STANDARD
END:VTIMEZONE
BEGIN:VEVENT
DTSTART;TZID=Europe/Berlin:20240622T100000
DTEND;TZID=Europe/Berlin:20240622T130000
DTSTAMP:20260421T153209
CREATED:20240507T102203Z
LAST-MODIFIED:20240507T102203Z
UID:10003006-1719050400-1719061200@bewusst-brueggen.de
SUMMARY:Aktionswoche: Tag der offenen Tür DRK Haus Franziskus
DESCRIPTION:Lernen Sie das Haus Franziskus kennen und gewinnen Sie einen Einblick in eine stationäre Pflegeeinrichtung.  \nEs handelt sich um eine Veranstaltung im Rahmen der Aktionswoche „Rund ums Älter werden“ 2024.\nDie Veranstaltung ist kostenlos und frei zugänglich. Alle Interessierten sind herzlich willkommen\, kommen Sie gerne vorbei!  \nBei Rückfragen zu der Veranstaltung oder der gesamten Aktionswoche können Sie sich bei Frau Klerckx oder Herrn Hink unter 02153 898 5032\, -5020 melden oder per Mail an senioren@nettetal.de wenden.  \nWir freuen uns auf zahlreiche Teilnehmende und wünschen Ihnen viel Spaß bei der Aktionswoche 2024!
URL:https://bewusst-brueggen.de/kalender/aktionswoche-tag-der-offenen-tuer-drk-haus-franziskus/
LOCATION:DRK Haus Franziskus\, Brüggener Straße 49\, Brüggen\, 41379
CATEGORIES:Senioren,Soziales
ATTACH;FMTTYPE=image/jpeg:https://bewusst-brueggen.de/wp-content/uploads/2024/05/bewusst-brueggen-seniorenwoche-veranstaltung.jpg
ORGANIZER;CN="Seniorenberatung Br%C3%BCggen/Nettetal%2C Pflegest%C3%BCtzpunkt":MAILTO:sebastian.hink@nettetal.de
END:VEVENT
END:VCALENDAR