BEGIN:VCALENDAR
VERSION:2.0
PRODID:-//Bewusst Brüggen - ECPv6.15.20//NONSGML v1.0//EN
CALSCALE:GREGORIAN
METHOD:PUBLISH
X-ORIGINAL-URL:https://bewusst-brueggen.de
X-WR-CALDESC:Veranstaltungen für Bewusst Brüggen
REFRESH-INTERVAL;VALUE=DURATION:PT1H
X-Robots-Tag:noindex
X-PUBLISHED-TTL:PT1H
BEGIN:VTIMEZONE
TZID:Europe/Berlin
BEGIN:DAYLIGHT
TZOFFSETFROM:+0100
TZOFFSETTO:+0200
TZNAME:CEST
DTSTART:20240331T010000
END:DAYLIGHT
BEGIN:STANDARD
TZOFFSETFROM:+0200
TZOFFSETTO:+0100
TZNAME:CET
DTSTART:20241027T010000
END:STANDARD
BEGIN:DAYLIGHT
TZOFFSETFROM:+0100
TZOFFSETTO:+0200
TZNAME:CEST
DTSTART:20250330T010000
END:DAYLIGHT
BEGIN:STANDARD
TZOFFSETFROM:+0200
TZOFFSETTO:+0100
TZNAME:CET
DTSTART:20251026T010000
END:STANDARD
BEGIN:DAYLIGHT
TZOFFSETFROM:+0100
TZOFFSETTO:+0200
TZNAME:CEST
DTSTART:20260329T010000
END:DAYLIGHT
BEGIN:STANDARD
TZOFFSETFROM:+0200
TZOFFSETTO:+0100
TZNAME:CET
DTSTART:20261025T010000
END:STANDARD
BEGIN:DAYLIGHT
TZOFFSETFROM:+0100
TZOFFSETTO:+0200
TZNAME:CEST
DTSTART:20270328T010000
END:DAYLIGHT
BEGIN:STANDARD
TZOFFSETFROM:+0200
TZOFFSETTO:+0100
TZNAME:CET
DTSTART:20271031T010000
END:STANDARD
END:VTIMEZONE
BEGIN:VEVENT
DTSTART;TZID=Europe/Berlin:20260321T130000
DTEND;TZID=Europe/Berlin:20260321T153000
DTSTAMP:20260421T155009
CREATED:20260304T100613Z
LAST-MODIFIED:20260304T122057Z
UID:10006588-1774098000-1774107000@bewusst-brueggen.de
SUMMARY:Kindersachenbörse im Familienzentrum Lüttelbracht
DESCRIPTION:Kindersachenbörse im Familienzentrum Kindergarten Lüttelbracht
URL:https://bewusst-brueggen.de/kalender/kindersachenboerse-im-familienzentrum-luettelbracht/
LOCATION:Familienzentrum Lüttelbracht\, Genholter Straße 107\, Brüggen\, 41379
CATEGORIES:Kinder/ Jugendliche
ATTACH;FMTTYPE=image/jpeg:https://bewusst-brueggen.de/wp-content/uploads/2026/03/IMG_7433.jpeg
ORGANIZER;CN="Familienzentrum L%C3%BCttelbracht":MAILTO:kindergarten-luettelbracht@brueggen.de
END:VEVENT
BEGIN:VEVENT
DTSTART;TZID=Europe/Berlin:20250405T110000
DTEND;TZID=Europe/Berlin:20250405T110000
DTSTAMP:20260421T155009
CREATED:20250320T094804Z
LAST-MODIFIED:20250403T125455Z
UID:10005251-1743850800-1743850800@bewusst-brueggen.de
SUMMARY:Familienzentrum Lüttelbracht: Einweihungsfeier des Umbaus
DESCRIPTION:Wir feiern die Fertigstellung unseres Neu/An/Umbaus mit einem Familienfest:\nProgramm:\n12:30 Uhr Jackdaws Brüggen (Cheerleader)\n14:00 Uhr Burggarde Brüggen\n15:30 Uhr Mitmachtheater/Kinderlieder „Lila Lindwurm“ \nAußerdem: Spiel und Spaß für Groß und Klein\, Hüpfburg\, Getränkepavillon\, Pommesbude\, Cafeteria Verlosung….
URL:https://bewusst-brueggen.de/kalender/familienzentrum-luettelbracht-einweihungsfeier-des-umbaus/
LOCATION:Familienzentrum Lüttelbracht\, Genholter Straße 107\, Brüggen\, 41379
CATEGORIES:Kinder/ Jugendliche
END:VEVENT
END:VCALENDAR