BEGIN:VCALENDAR
VERSION:2.0
PRODID:-//Bewusst Brüggen - ECPv6.15.20//NONSGML v1.0//EN
CALSCALE:GREGORIAN
METHOD:PUBLISH
X-WR-CALNAME:Bewusst Brüggen
X-ORIGINAL-URL:https://bewusst-brueggen.de
X-WR-CALDESC:Veranstaltungen für Bewusst Brüggen
REFRESH-INTERVAL;VALUE=DURATION:PT1H
X-Robots-Tag:noindex
X-PUBLISHED-TTL:PT1H
BEGIN:VTIMEZONE
TZID:Europe/Berlin
BEGIN:DAYLIGHT
TZOFFSETFROM:+0100
TZOFFSETTO:+0200
TZNAME:CEST
DTSTART:20240331T010000
END:DAYLIGHT
BEGIN:STANDARD
TZOFFSETFROM:+0200
TZOFFSETTO:+0100
TZNAME:CET
DTSTART:20241027T010000
END:STANDARD
BEGIN:DAYLIGHT
TZOFFSETFROM:+0100
TZOFFSETTO:+0200
TZNAME:CEST
DTSTART:20250330T010000
END:DAYLIGHT
BEGIN:STANDARD
TZOFFSETFROM:+0200
TZOFFSETTO:+0100
TZNAME:CET
DTSTART:20251026T010000
END:STANDARD
BEGIN:DAYLIGHT
TZOFFSETFROM:+0100
TZOFFSETTO:+0200
TZNAME:CEST
DTSTART:20260329T010000
END:DAYLIGHT
BEGIN:STANDARD
TZOFFSETFROM:+0200
TZOFFSETTO:+0100
TZNAME:CET
DTSTART:20261025T010000
END:STANDARD
END:VTIMEZONE
BEGIN:VEVENT
DTSTART;TZID=Europe/Berlin:20251129T140000
DTEND;TZID=Europe/Berlin:20251129T140000
DTSTAMP:20260425T135224
CREATED:20251028T114623Z
LAST-MODIFIED:20251028T114623Z
UID:10005994-1764424800-1764424800@bewusst-brueggen.de
SUMMARY:Weihnachtssingen des Gesangsvereins Waldesgrün-Genholt
DESCRIPTION:Am Samstag\, den 29. November 2025\, ab 14 Uhr lädt der Gesangsverein Waldesgrün-Genholt herzlich zum traditionellen Weihnachtssingen in die Gaststätte „Zum Treffpunkt bei Kosta“ in Genholt ein. \nIn stimmungsvoller Atmosphäre möchten die Sängerinnen und Sänger mit ihren Gästen einen besinnlichen Adventsnachmittag verbringen. Neben einigen eigenen Liedvorträgen des Chors steht das gemeinsame Singen weihnachtlicher Melodien im Mittelpunkt – begleitet von Kaffee\, Keksen und gemütlichem Beisammensein. \nAuch der Nikolaus hat seinen Besuch angekündigt und wird für leuchtende Kinderaugen sorgen\, denn es gibt kleine Geschenke für die jungen Gäste. \nDer Eintritt ist frei\, um Reservierung wird jedoch gebeten bei Wolfgang Banke\, unter der Telefonnummer 02163/7130. \nDer Gesangsverein Waldesgrün-Genholt freut sich auf zahlreiche Besucherinnen und Besucher und einen musikalisch-festlichen Start in die Adventszeit!
URL:https://bewusst-brueggen.de/kalender/weihnachtssingen-des-gesangsvereins-waldesgruen-genholt/
LOCATION:Treffpunkt bei Kosta\, Genholter Straße 67\, Brüggen\, 41379
CATEGORIES:Kultur,Verschiedenes
ATTACH;FMTTYPE=image/jpeg:https://bewusst-brueggen.de/wp-content/uploads/2023/03/bewusst-brueggen-events-kultur.jpg
END:VEVENT
BEGIN:VEVENT
DTSTART;VALUE=DATE:20250621
DTEND;VALUE=DATE:20250623
DTSTAMP:20260425T135224
CREATED:20250423T072110Z
LAST-MODIFIED:20250424T075909Z
UID:10005372-1750464000-1750636799@bewusst-brueggen.de
SUMMARY:Sommerfest des Gesangverein Waldesgrün Genholt
DESCRIPTION:Samstagabend ab 18.00 Uhr gemütliches Beisammensein am Pavillon am Vereinslokal „Zum Treffpunkt“ bei Kosta \nSonntag: 11.00 Uhr\, Frühschoppen mit Freundschaftssingen\, 13:00 Uhr Kaffee und Kuchen\, gegen 15.00 Uhr Auftritt der Kindergruppe und der Tanzgruppe des TSF Bracht\, 17.00 Uhr Beginn der großem Tombola mit vielen tollen Preisen\, außerdem Hüpfburg und Imbiss vor Ort. Eintritt an beiden Tagen frei
URL:https://bewusst-brueggen.de/kalender/sommerfest-des-gesangverein-waldesgruen-genholt/
LOCATION:Treffpunkt bei Kosta\, Genholter Straße 67\, Brüggen\, 41379
END:VEVENT
END:VCALENDAR