BEGIN:VCALENDAR
VERSION:2.0
PRODID:-//Bewusst Brüggen - ECPv6.15.20//NONSGML v1.0//EN
CALSCALE:GREGORIAN
METHOD:PUBLISH
X-WR-CALNAME:Bewusst Brüggen
X-ORIGINAL-URL:https://bewusst-brueggen.de
X-WR-CALDESC:Veranstaltungen für Bewusst Brüggen
REFRESH-INTERVAL;VALUE=DURATION:PT1H
X-Robots-Tag:noindex
X-PUBLISHED-TTL:PT1H
BEGIN:VTIMEZONE
TZID:Europe/Berlin
BEGIN:DAYLIGHT
TZOFFSETFROM:+0100
TZOFFSETTO:+0200
TZNAME:CEST
DTSTART:20220327T010000
END:DAYLIGHT
BEGIN:STANDARD
TZOFFSETFROM:+0200
TZOFFSETTO:+0100
TZNAME:CET
DTSTART:20221030T010000
END:STANDARD
BEGIN:DAYLIGHT
TZOFFSETFROM:+0100
TZOFFSETTO:+0200
TZNAME:CEST
DTSTART:20230326T010000
END:DAYLIGHT
BEGIN:STANDARD
TZOFFSETFROM:+0200
TZOFFSETTO:+0100
TZNAME:CET
DTSTART:20231029T010000
END:STANDARD
BEGIN:DAYLIGHT
TZOFFSETFROM:+0100
TZOFFSETTO:+0200
TZNAME:CEST
DTSTART:20240331T010000
END:DAYLIGHT
BEGIN:STANDARD
TZOFFSETFROM:+0200
TZOFFSETTO:+0100
TZNAME:CET
DTSTART:20241027T010000
END:STANDARD
END:VTIMEZONE
BEGIN:VEVENT
DTSTART;TZID=Europe/Berlin:20230909T100000
DTEND;TZID=Europe/Berlin:20230909T170000
DTSTAMP:20260421T161234
CREATED:20230831T072124Z
LAST-MODIFIED:20231213T145521Z
UID:10000436-1694253600-1694278800@bewusst-brueggen.de
SUMMARY:Open Monument Dag - Partnergemeinde Beesel
DESCRIPTION:Am Samstag. den 9. September 2023 findet von 10.00-17.00 Uhr in der Gemeinde Beesel der ‘Open Monumentendag’ (Tag der offenenen Tür für Monumente) statt.\nDieses Jahr ist das Thema ‘lebendiges Erbe’. Wir laden dich herzlich zu unseren kostenlosen Aktivitäten ein. \nMühle ‘Grauwe Beer’ – Kerkeveldweg 1 Beesel\n• 10.00-17.00 Uhr – Demonstrationen und Führungen in der Mühle\n• 10.15-16.30 Uhr – Film ‘400 Jahre Kornmühle Grauwe Beer’ \nOuddorp / Vismarkt – Ouddorp 20 Beesel\n• 11.00\, 12.00\, 13.00\, 14.00 und 15.00 Uhr – Führungen durch den geschützten Dorfblick von Beesel und besuch an einigen monumentalen Häusern.\n• 12.00\, 13.00\, 14.00 und 15.00 Uhr – Führungen über den ‘alten Friedhof’. \nRijkel 21 + Dreisprung Donderbergweg Beesel\n• 11.00 – 16.00 Uhr – Führungen durch den historischen Gemüsehof ‘vergessenes Gemüse’. Der Hof ist zwischen 10.00 und 17.00 Uhr geöffnet.\n• 10.15 – 16.30 Uhr O.L.V. van Smartenkapel – Geschichtenerzähler. \nOud Raadhuis (Markt 1)\n• 10.00 – 17.00 Uhr – die Exposition ‘In de ban van de draak’ erzählt die Geschichte von Beesel und sein ‘Draaksteken’.\nEin Schauspiel mit Sankt Joris und dem Drachen\, das alle 7 Jahre stattfindet.
URL:https://bewusst-brueggen.de/kalender/open-monument-dag-partnergemeinde-beesel/
LOCATION:Gemeinde Beesel\, Beesel\, Niederlande
CATEGORIES:Verschiedenes
ATTACH;FMTTYPE=image/png:https://bewusst-brueggen.de/wp-content/uploads/2023/06/bewusst-brueggen-logo-t-2023.png
ORGANIZER;CN="Gemeinde Beesel":MAILTO:info@beesel.nl
END:VEVENT
END:VCALENDAR