BEGIN:VCALENDAR
VERSION:2.0
PRODID:-//Bewusst Brüggen - ECPv6.15.20//NONSGML v1.0//EN
CALSCALE:GREGORIAN
METHOD:PUBLISH
X-ORIGINAL-URL:https://bewusst-brueggen.de
X-WR-CALDESC:Veranstaltungen für Bewusst Brüggen
REFRESH-INTERVAL;VALUE=DURATION:PT1H
X-Robots-Tag:noindex
X-PUBLISHED-TTL:PT1H
BEGIN:VTIMEZONE
TZID:Europe/Berlin
BEGIN:DAYLIGHT
TZOFFSETFROM:+0100
TZOFFSETTO:+0200
TZNAME:CEST
DTSTART:20230326T010000
END:DAYLIGHT
BEGIN:STANDARD
TZOFFSETFROM:+0200
TZOFFSETTO:+0100
TZNAME:CET
DTSTART:20231029T010000
END:STANDARD
BEGIN:DAYLIGHT
TZOFFSETFROM:+0100
TZOFFSETTO:+0200
TZNAME:CEST
DTSTART:20240331T010000
END:DAYLIGHT
BEGIN:STANDARD
TZOFFSETFROM:+0200
TZOFFSETTO:+0100
TZNAME:CET
DTSTART:20241027T010000
END:STANDARD
BEGIN:DAYLIGHT
TZOFFSETFROM:+0100
TZOFFSETTO:+0200
TZNAME:CEST
DTSTART:20250330T010000
END:DAYLIGHT
BEGIN:STANDARD
TZOFFSETFROM:+0200
TZOFFSETTO:+0100
TZNAME:CET
DTSTART:20251026T010000
END:STANDARD
END:VTIMEZONE
BEGIN:VEVENT
DTSTART;TZID=Europe/Berlin:20240916T160000
DTEND;TZID=Europe/Berlin:20240916T200000
DTSTAMP:20260423T125033
CREATED:20240910T112332Z
LAST-MODIFIED:20240910T112332Z
UID:10003308-1726502400-1726516800@bewusst-brueggen.de
SUMMARY:Welt-Alzheimertag 2024 - Aktionswoche "Urlaub ohne Koffer": Demenzsprechstunde
DESCRIPTION:Katharina Klug von der Gerontopsychiatrischen Beratungsstelle der LVR-Klinik Viersen sowie Christian Fortmann vom Pflegestützpunkt der Gemeinde Brüggen und der Stadt Nettetal stehen gemeinsam für Gespräche mit und Fragen von Betroffenen und ihren Angehörigen zur Verfügung.Eine Anmeldung ist erforderlich! Termine für die Sprechstunde im Generationentreff Breyell können telefonisch unter 02153/898-5026 oder unter senioren@nettetal vereinbart werden. \n 
URL:https://bewusst-brueggen.de/kalender/welt-alzheimertag-2024-aktionswoche-urlaub-ohne-koffer-demenzsprechstunde/
LOCATION:Generationentreff Sankt Lambertus-Breyell\, Haagstraße 16\, Nettetal\, 41334
CATEGORIES:Senioren
ATTACH;FMTTYPE=image/jpeg:https://bewusst-brueggen.de/wp-content/uploads/2023/12/bewusst-brueggen-events-senioren.jpg
ORGANIZER;CN="Seniorenberatung Br%C3%BCggen/Nettetal%2C Pflegest%C3%BCtzpunkt":MAILTO:sebastian.hink@nettetal.de
END:VEVENT
END:VCALENDAR