BEGIN:VCALENDAR
VERSION:2.0
PRODID:-//Bewusst Brüggen - ECPv6.15.20//NONSGML v1.0//EN
CALSCALE:GREGORIAN
METHOD:PUBLISH
X-WR-CALNAME:Bewusst Brüggen
X-ORIGINAL-URL:https://bewusst-brueggen.de
X-WR-CALDESC:Veranstaltungen für Bewusst Brüggen
REFRESH-INTERVAL;VALUE=DURATION:PT1H
X-Robots-Tag:noindex
X-PUBLISHED-TTL:PT1H
BEGIN:VTIMEZONE
TZID:Europe/Berlin
BEGIN:DAYLIGHT
TZOFFSETFROM:+0100
TZOFFSETTO:+0200
TZNAME:CEST
DTSTART:20220327T010000
END:DAYLIGHT
BEGIN:STANDARD
TZOFFSETFROM:+0200
TZOFFSETTO:+0100
TZNAME:CET
DTSTART:20221030T010000
END:STANDARD
BEGIN:DAYLIGHT
TZOFFSETFROM:+0100
TZOFFSETTO:+0200
TZNAME:CEST
DTSTART:20230326T010000
END:DAYLIGHT
BEGIN:STANDARD
TZOFFSETFROM:+0200
TZOFFSETTO:+0100
TZNAME:CET
DTSTART:20231029T010000
END:STANDARD
BEGIN:DAYLIGHT
TZOFFSETFROM:+0100
TZOFFSETTO:+0200
TZNAME:CEST
DTSTART:20240331T010000
END:DAYLIGHT
BEGIN:STANDARD
TZOFFSETFROM:+0200
TZOFFSETTO:+0100
TZNAME:CET
DTSTART:20241027T010000
END:STANDARD
END:VTIMEZONE
BEGIN:VEVENT
DTSTART;TZID=Europe/Berlin:20231111T170000
DTEND;TZID=Europe/Berlin:20231111T190000
DTSTAMP:20260421T002641
CREATED:20230822T051512Z
LAST-MODIFIED:20231213T145500Z
UID:10000435-1699722000-1699729200@bewusst-brueggen.de
SUMMARY:St. Martins Zug Bracht
DESCRIPTION:Alle Kinder der Grundschule versammeln sich bitte bis 17:30 Uhr auf dem Schulhof der Gesamtschule. \nZugweg: Schule – Alster Kirchweg – Marktstr. – Königstr. – Nordwall – Am Linzenkamp – Op de Schonz – Eichendorfstr. – Schillerstr- Kahrstr. – Boerholzer Str. – Sportplatz – Alster Kirchweg – Schule \nDie Sammelden sind in diesem Jahr in der Zeit vom 29. September bis zum 22. Oktober unterwegs\, um Spenden für die Durchführung des St. Martins- Festes zu sammeln.\nVon den Sammelden bekommen alle Brachter Kinder vom ersten Lebensjahr bis zum vierten Schuljahr eine Karte für eine St. Martinstüte.\nFür alle anderen kostet eine St. Martinstüte 12\,00 €. Sie können diese bei den Sammlern und bei der Volksbank in Bracht bis zum 20.10.2023 kaufen.
URL:https://bewusst-brueggen.de/kalender/st-martins-zug-bracht/
LOCATION:Gesamtschule\, Schulhof\, Alster Kirchweg 11\, Brüggen\, 41379
CATEGORIES:Brauchtum/ Heimatkunde
ATTACH;FMTTYPE=image/jpeg:https://bewusst-brueggen.de/wp-content/uploads/2023/08/Sankt-Martins-Zug-Plakat.jpg
ORGANIZER;CN="St. Martinskomitee Bracht - Christoph Jansen":MAILTO:cjansen@ja-it.de
END:VEVENT
END:VCALENDAR