BEGIN:VCALENDAR
VERSION:2.0
PRODID:-//Bewusst Brüggen - ECPv6.15.20//NONSGML v1.0//EN
CALSCALE:GREGORIAN
METHOD:PUBLISH
X-ORIGINAL-URL:https://bewusst-brueggen.de
X-WR-CALDESC:Veranstaltungen für Bewusst Brüggen
REFRESH-INTERVAL;VALUE=DURATION:PT1H
X-Robots-Tag:noindex
X-PUBLISHED-TTL:PT1H
BEGIN:VTIMEZONE
TZID:Europe/Berlin
BEGIN:DAYLIGHT
TZOFFSETFROM:+0100
TZOFFSETTO:+0200
TZNAME:CEST
DTSTART:20220327T010000
END:DAYLIGHT
BEGIN:STANDARD
TZOFFSETFROM:+0200
TZOFFSETTO:+0100
TZNAME:CET
DTSTART:20221030T010000
END:STANDARD
BEGIN:DAYLIGHT
TZOFFSETFROM:+0100
TZOFFSETTO:+0200
TZNAME:CEST
DTSTART:20230326T010000
END:DAYLIGHT
BEGIN:STANDARD
TZOFFSETFROM:+0200
TZOFFSETTO:+0100
TZNAME:CET
DTSTART:20231029T010000
END:STANDARD
BEGIN:DAYLIGHT
TZOFFSETFROM:+0100
TZOFFSETTO:+0200
TZNAME:CEST
DTSTART:20240331T010000
END:DAYLIGHT
BEGIN:STANDARD
TZOFFSETFROM:+0200
TZOFFSETTO:+0100
TZNAME:CET
DTSTART:20241027T010000
END:STANDARD
END:VTIMEZONE
BEGIN:VEVENT
DTSTART;TZID=Europe/Berlin:20230610T200000
DTEND;TZID=Europe/Berlin:20230610T230000
DTSTAMP:20260420T005848
CREATED:20230328T164720Z
LAST-MODIFIED:20231213T145559Z
UID:10000372-1686427200-1686438000@bewusst-brueggen.de
SUMMARY:Standard-/Latein Tanzparty
DESCRIPTION:
URL:https://bewusst-brueggen.de/kalender/standard-latein-tanzparty-2/
LOCATION:Tanzschule Happy Dance\, Christenfeld 22b\, Brüggen\, 41379
CATEGORIES:Verschiedenes
ATTACH;FMTTYPE=:
END:VEVENT
BEGIN:VEVENT
DTSTART;TZID=Europe/Berlin:20230513T200000
DTEND;TZID=Europe/Berlin:20230513T230000
DTSTAMP:20260420T005848
CREATED:20230328T164832Z
LAST-MODIFIED:20231213T145611Z
UID:10000373-1684008000-1684018800@bewusst-brueggen.de
SUMMARY:Standard-/Latein Tanzparty
DESCRIPTION:
URL:https://bewusst-brueggen.de/kalender/standard-latein-tanzparty-3/
LOCATION:Tanzschule Happy Dance\, Christenfeld 22b\, Brüggen\, 41379
CATEGORIES:Verschiedenes
ATTACH;FMTTYPE=:
END:VEVENT
BEGIN:VEVENT
DTSTART;TZID=Europe/Berlin:20230415T200000
DTEND;TZID=Europe/Berlin:20230415T230000
DTSTAMP:20260420T005848
CREATED:20230328T073012Z
LAST-MODIFIED:20231213T145622Z
UID:10000303-1681588800-1681599600@bewusst-brueggen.de
SUMMARY:Standard-/Latein Tanzparty
DESCRIPTION:
URL:https://bewusst-brueggen.de/kalender/standard-latein-tanzparty/
LOCATION:Tanzschule Happy Dance\, Christenfeld 22b\, Brüggen\, 41379
CATEGORIES:Verschiedenes
ATTACH;FMTTYPE=:
END:VEVENT
END:VCALENDAR