BEGIN:VCALENDAR
VERSION:2.0
PRODID:-//Bewusst Brüggen - ECPv6.15.20//NONSGML v1.0//EN
CALSCALE:GREGORIAN
METHOD:PUBLISH
X-ORIGINAL-URL:https://bewusst-brueggen.de
X-WR-CALDESC:Veranstaltungen für Bewusst Brüggen
REFRESH-INTERVAL;VALUE=DURATION:PT1H
X-Robots-Tag:noindex
X-PUBLISHED-TTL:PT1H
BEGIN:VTIMEZONE
TZID:Europe/Berlin
BEGIN:DAYLIGHT
TZOFFSETFROM:+0100
TZOFFSETTO:+0200
TZNAME:CEST
DTSTART:20230326T010000
END:DAYLIGHT
BEGIN:STANDARD
TZOFFSETFROM:+0200
TZOFFSETTO:+0100
TZNAME:CET
DTSTART:20231029T010000
END:STANDARD
BEGIN:DAYLIGHT
TZOFFSETFROM:+0100
TZOFFSETTO:+0200
TZNAME:CEST
DTSTART:20240331T010000
END:DAYLIGHT
BEGIN:STANDARD
TZOFFSETFROM:+0200
TZOFFSETTO:+0100
TZNAME:CET
DTSTART:20241027T010000
END:STANDARD
BEGIN:DAYLIGHT
TZOFFSETFROM:+0100
TZOFFSETTO:+0200
TZNAME:CEST
DTSTART:20250330T010000
END:DAYLIGHT
BEGIN:STANDARD
TZOFFSETFROM:+0200
TZOFFSETTO:+0100
TZNAME:CET
DTSTART:20251026T010000
END:STANDARD
END:VTIMEZONE
BEGIN:VEVENT
DTSTART;TZID=Europe/Berlin:20241009T190000
DTEND;TZID=Europe/Berlin:20241009T203000
DTSTAMP:20260420T173618
CREATED:20240911T083841Z
LAST-MODIFIED:20240911T083841Z
UID:10003311-1728500400-1728505800@bewusst-brueggen.de
SUMMARY:Bildervortrag Aktuelles aus Burundi
DESCRIPTION:Aktuelle Informationen zu Land und Leute in Burundi anläßlich der letzten Projektreise im März 2024 – Vortrag von Friedhelm Leven\, Vorstandsmitglied der Burundi-Hilfe eV\,
URL:https://bewusst-brueggen.de/kalender/bildervortrag-aktuelles-aus-burundi/
LOCATION:Haus Kehren\, Born 42\, Brüggen\, 41379
CATEGORIES:Soziales
ATTACH;FMTTYPE=image/jpeg:https://bewusst-brueggen.de/wp-content/uploads/2024/09/burundi-hilfe_logo_komp.jpg
ORGANIZER;CN="Heimatfreunde Sankt Peter Born e. V.":MAILTO:thorsten.merz@heimatfreunde-born.de
END:VEVENT
END:VCALENDAR