BEGIN:VCALENDAR
VERSION:2.0
PRODID:-//Bewusst Brüggen - ECPv6.15.20//NONSGML v1.0//EN
CALSCALE:GREGORIAN
METHOD:PUBLISH
X-ORIGINAL-URL:https://bewusst-brueggen.de
X-WR-CALDESC:Veranstaltungen für Bewusst Brüggen
REFRESH-INTERVAL;VALUE=DURATION:PT1H
X-Robots-Tag:noindex
X-PUBLISHED-TTL:PT1H
BEGIN:VTIMEZONE
TZID:Europe/Berlin
BEGIN:DAYLIGHT
TZOFFSETFROM:+0100
TZOFFSETTO:+0200
TZNAME:CEST
DTSTART:20240331T010000
END:DAYLIGHT
BEGIN:STANDARD
TZOFFSETFROM:+0200
TZOFFSETTO:+0100
TZNAME:CET
DTSTART:20241027T010000
END:STANDARD
BEGIN:DAYLIGHT
TZOFFSETFROM:+0100
TZOFFSETTO:+0200
TZNAME:CEST
DTSTART:20250330T010000
END:DAYLIGHT
BEGIN:STANDARD
TZOFFSETFROM:+0200
TZOFFSETTO:+0100
TZNAME:CET
DTSTART:20251026T010000
END:STANDARD
BEGIN:DAYLIGHT
TZOFFSETFROM:+0100
TZOFFSETTO:+0200
TZNAME:CEST
DTSTART:20260329T010000
END:DAYLIGHT
BEGIN:STANDARD
TZOFFSETFROM:+0200
TZOFFSETTO:+0100
TZNAME:CET
DTSTART:20261025T010000
END:STANDARD
BEGIN:DAYLIGHT
TZOFFSETFROM:+0100
TZOFFSETTO:+0200
TZNAME:CEST
DTSTART:20270328T010000
END:DAYLIGHT
BEGIN:STANDARD
TZOFFSETFROM:+0200
TZOFFSETTO:+0100
TZNAME:CET
DTSTART:20271031T010000
END:STANDARD
END:VTIMEZONE
BEGIN:VEVENT
DTSTART;TZID=Europe/Berlin:20260413T180000
DTEND;TZID=Europe/Berlin:20260413T220000
DTSTAMP:20260419T164335
CREATED:20240202T092507Z
LAST-MODIFIED:20260127T134333Z
UID:10002679-1776103200-1776117600@bewusst-brueggen.de
SUMMARY:Training für Jedermann im Schachspiel
DESCRIPTION:Training für Jedermann beim Schachklub Turm Brüggen
URL:https://bewusst-brueggen.de/kalender/training-fuer-jedermann-im-schachspiel/2026-04-13/
LOCATION:Haus Mesterom\, Borner Straße 34\, Brüggen\, Nordrhein Westfalen\, 41379\, Deutschland
CATEGORIES:Vereine & Ehrenamt
ATTACH;FMTTYPE=image/jpeg:https://bewusst-brueggen.de/wp-content/uploads/2024/01/turm.jpg
ORGANIZER;CN="Schachklub Turm Br%C3%BCggen":MAILTO:wi-thiel@t-online.de
END:VEVENT
BEGIN:VEVENT
DTSTART;TZID=Europe/Berlin:20260406T180000
DTEND;TZID=Europe/Berlin:20260406T220000
DTSTAMP:20260419T164335
CREATED:20240202T092507Z
LAST-MODIFIED:20260127T134333Z
UID:10002678-1775498400-1775512800@bewusst-brueggen.de
SUMMARY:Training für Jedermann im Schachspiel
DESCRIPTION:Training für Jedermann beim Schachklub Turm Brüggen
URL:https://bewusst-brueggen.de/kalender/training-fuer-jedermann-im-schachspiel/2026-04-06/
LOCATION:Haus Mesterom\, Borner Straße 34\, Brüggen\, Nordrhein Westfalen\, 41379\, Deutschland
CATEGORIES:Vereine & Ehrenamt
ATTACH;FMTTYPE=image/jpeg:https://bewusst-brueggen.de/wp-content/uploads/2024/01/turm.jpg
ORGANIZER;CN="Schachklub Turm Br%C3%BCggen":MAILTO:wi-thiel@t-online.de
END:VEVENT
BEGIN:VEVENT
DTSTART;TZID=Europe/Berlin:20260330T180000
DTEND;TZID=Europe/Berlin:20260330T220000
DTSTAMP:20260419T164335
CREATED:20240202T092507Z
LAST-MODIFIED:20260127T134333Z
UID:10002677-1774893600-1774908000@bewusst-brueggen.de
SUMMARY:Training für Jedermann im Schachspiel
DESCRIPTION:Training für Jedermann beim Schachklub Turm Brüggen
URL:https://bewusst-brueggen.de/kalender/training-fuer-jedermann-im-schachspiel/2026-03-30/
LOCATION:Haus Mesterom\, Borner Straße 34\, Brüggen\, Nordrhein Westfalen\, 41379\, Deutschland
CATEGORIES:Vereine & Ehrenamt
ATTACH;FMTTYPE=image/jpeg:https://bewusst-brueggen.de/wp-content/uploads/2024/01/turm.jpg
ORGANIZER;CN="Schachklub Turm Br%C3%BCggen":MAILTO:wi-thiel@t-online.de
END:VEVENT
BEGIN:VEVENT
DTSTART;TZID=Europe/Berlin:20260323T180000
DTEND;TZID=Europe/Berlin:20260323T220000
DTSTAMP:20260419T164335
CREATED:20240202T092507Z
LAST-MODIFIED:20260127T134333Z
UID:10002676-1774288800-1774303200@bewusst-brueggen.de
SUMMARY:Training für Jedermann im Schachspiel
DESCRIPTION:Training für Jedermann beim Schachklub Turm Brüggen
URL:https://bewusst-brueggen.de/kalender/training-fuer-jedermann-im-schachspiel/2026-03-23/
LOCATION:Haus Mesterom\, Borner Straße 34\, Brüggen\, Nordrhein Westfalen\, 41379\, Deutschland
CATEGORIES:Vereine & Ehrenamt
ATTACH;FMTTYPE=image/jpeg:https://bewusst-brueggen.de/wp-content/uploads/2024/01/turm.jpg
ORGANIZER;CN="Schachklub Turm Br%C3%BCggen":MAILTO:wi-thiel@t-online.de
END:VEVENT
BEGIN:VEVENT
DTSTART;TZID=Europe/Berlin:20260316T180000
DTEND;TZID=Europe/Berlin:20260316T220000
DTSTAMP:20260419T164335
CREATED:20240202T092507Z
LAST-MODIFIED:20260127T134333Z
UID:10002675-1773684000-1773698400@bewusst-brueggen.de
SUMMARY:Training für Jedermann im Schachspiel
DESCRIPTION:Training für Jedermann beim Schachklub Turm Brüggen
URL:https://bewusst-brueggen.de/kalender/training-fuer-jedermann-im-schachspiel/2026-03-16/
LOCATION:Haus Mesterom\, Borner Straße 34\, Brüggen\, Nordrhein Westfalen\, 41379\, Deutschland
CATEGORIES:Vereine & Ehrenamt
ATTACH;FMTTYPE=image/jpeg:https://bewusst-brueggen.de/wp-content/uploads/2024/01/turm.jpg
ORGANIZER;CN="Schachklub Turm Br%C3%BCggen":MAILTO:wi-thiel@t-online.de
END:VEVENT
BEGIN:VEVENT
DTSTART;TZID=Europe/Berlin:20260309T180000
DTEND;TZID=Europe/Berlin:20260309T220000
DTSTAMP:20260419T164335
CREATED:20240202T092507Z
LAST-MODIFIED:20260127T134333Z
UID:10002674-1773079200-1773093600@bewusst-brueggen.de
SUMMARY:Training für Jedermann im Schachspiel
DESCRIPTION:Training für Jedermann beim Schachklub Turm Brüggen
URL:https://bewusst-brueggen.de/kalender/training-fuer-jedermann-im-schachspiel/2026-03-09/
LOCATION:Haus Mesterom\, Borner Straße 34\, Brüggen\, Nordrhein Westfalen\, 41379\, Deutschland
CATEGORIES:Vereine & Ehrenamt
ATTACH;FMTTYPE=image/jpeg:https://bewusst-brueggen.de/wp-content/uploads/2024/01/turm.jpg
ORGANIZER;CN="Schachklub Turm Br%C3%BCggen":MAILTO:wi-thiel@t-online.de
END:VEVENT
BEGIN:VEVENT
DTSTART;TZID=Europe/Berlin:20260302T180000
DTEND;TZID=Europe/Berlin:20260302T220000
DTSTAMP:20260419T164335
CREATED:20240202T092507Z
LAST-MODIFIED:20260127T134333Z
UID:10002673-1772474400-1772488800@bewusst-brueggen.de
SUMMARY:Training für Jedermann im Schachspiel
DESCRIPTION:Training für Jedermann beim Schachklub Turm Brüggen
URL:https://bewusst-brueggen.de/kalender/training-fuer-jedermann-im-schachspiel/2026-03-02/
LOCATION:Haus Mesterom\, Borner Straße 34\, Brüggen\, Nordrhein Westfalen\, 41379\, Deutschland
CATEGORIES:Vereine & Ehrenamt
ATTACH;FMTTYPE=image/jpeg:https://bewusst-brueggen.de/wp-content/uploads/2024/01/turm.jpg
ORGANIZER;CN="Schachklub Turm Br%C3%BCggen":MAILTO:wi-thiel@t-online.de
END:VEVENT
BEGIN:VEVENT
DTSTART;TZID=Europe/Berlin:20260223T180000
DTEND;TZID=Europe/Berlin:20260223T220000
DTSTAMP:20260419T164335
CREATED:20240202T092507Z
LAST-MODIFIED:20260127T134333Z
UID:10002672-1771869600-1771884000@bewusst-brueggen.de
SUMMARY:Training für Jedermann im Schachspiel
DESCRIPTION:Training für Jedermann beim Schachklub Turm Brüggen
URL:https://bewusst-brueggen.de/kalender/training-fuer-jedermann-im-schachspiel/2026-02-23/
LOCATION:Haus Mesterom\, Borner Straße 34\, Brüggen\, Nordrhein Westfalen\, 41379\, Deutschland
CATEGORIES:Vereine & Ehrenamt
ATTACH;FMTTYPE=image/jpeg:https://bewusst-brueggen.de/wp-content/uploads/2024/01/turm.jpg
ORGANIZER;CN="Schachklub Turm Br%C3%BCggen":MAILTO:wi-thiel@t-online.de
END:VEVENT
BEGIN:VEVENT
DTSTART;TZID=Europe/Berlin:20260216T180000
DTEND;TZID=Europe/Berlin:20260216T220000
DTSTAMP:20260419T164335
CREATED:20240202T092507Z
LAST-MODIFIED:20260127T134333Z
UID:10002671-1771264800-1771279200@bewusst-brueggen.de
SUMMARY:Training für Jedermann im Schachspiel
DESCRIPTION:Training für Jedermann beim Schachklub Turm Brüggen
URL:https://bewusst-brueggen.de/kalender/training-fuer-jedermann-im-schachspiel/2026-02-16/
LOCATION:Haus Mesterom\, Borner Straße 34\, Brüggen\, Nordrhein Westfalen\, 41379\, Deutschland
CATEGORIES:Vereine & Ehrenamt
ATTACH;FMTTYPE=image/jpeg:https://bewusst-brueggen.de/wp-content/uploads/2024/01/turm.jpg
ORGANIZER;CN="Schachklub Turm Br%C3%BCggen":MAILTO:wi-thiel@t-online.de
END:VEVENT
BEGIN:VEVENT
DTSTART;TZID=Europe/Berlin:20260209T180000
DTEND;TZID=Europe/Berlin:20260209T220000
DTSTAMP:20260419T164335
CREATED:20240202T092507Z
LAST-MODIFIED:20260127T134333Z
UID:10002670-1770660000-1770674400@bewusst-brueggen.de
SUMMARY:Training für Jedermann im Schachspiel
DESCRIPTION:Training für Jedermann beim Schachklub Turm Brüggen
URL:https://bewusst-brueggen.de/kalender/training-fuer-jedermann-im-schachspiel/2026-02-09/
LOCATION:Haus Mesterom\, Borner Straße 34\, Brüggen\, Nordrhein Westfalen\, 41379\, Deutschland
CATEGORIES:Vereine & Ehrenamt
ATTACH;FMTTYPE=image/jpeg:https://bewusst-brueggen.de/wp-content/uploads/2024/01/turm.jpg
ORGANIZER;CN="Schachklub Turm Br%C3%BCggen":MAILTO:wi-thiel@t-online.de
END:VEVENT
BEGIN:VEVENT
DTSTART;TZID=Europe/Berlin:20260202T180000
DTEND;TZID=Europe/Berlin:20260202T220000
DTSTAMP:20260419T164335
CREATED:20240202T092507Z
LAST-MODIFIED:20260127T134333Z
UID:10002669-1770055200-1770069600@bewusst-brueggen.de
SUMMARY:Training für Jedermann im Schachspiel
DESCRIPTION:Training für Jedermann beim Schachklub Turm Brüggen
URL:https://bewusst-brueggen.de/kalender/training-fuer-jedermann-im-schachspiel/2026-02-02/
LOCATION:Haus Mesterom\, Borner Straße 34\, Brüggen\, Nordrhein Westfalen\, 41379\, Deutschland
CATEGORIES:Vereine & Ehrenamt
ATTACH;FMTTYPE=image/jpeg:https://bewusst-brueggen.de/wp-content/uploads/2024/01/turm.jpg
ORGANIZER;CN="Schachklub Turm Br%C3%BCggen":MAILTO:wi-thiel@t-online.de
END:VEVENT
BEGIN:VEVENT
DTSTART;TZID=Europe/Berlin:20260126T180000
DTEND;TZID=Europe/Berlin:20260126T220000
DTSTAMP:20260419T164335
CREATED:20240202T092507Z
LAST-MODIFIED:20260127T134333Z
UID:10002668-1769450400-1769464800@bewusst-brueggen.de
SUMMARY:Training für Jedermann im Schachspiel
DESCRIPTION:Training für Jedermann beim Schachklub Turm Brüggen
URL:https://bewusst-brueggen.de/kalender/training-fuer-jedermann-im-schachspiel/2026-01-26/
LOCATION:Haus Mesterom\, Borner Straße 34\, Brüggen\, Nordrhein Westfalen\, 41379\, Deutschland
CATEGORIES:Vereine & Ehrenamt
ATTACH;FMTTYPE=image/jpeg:https://bewusst-brueggen.de/wp-content/uploads/2024/01/turm.jpg
ORGANIZER;CN="Schachklub Turm Br%C3%BCggen":MAILTO:wi-thiel@t-online.de
END:VEVENT
BEGIN:VEVENT
DTSTART;TZID=Europe/Berlin:20260119T180000
DTEND;TZID=Europe/Berlin:20260119T220000
DTSTAMP:20260419T164335
CREATED:20240202T092507Z
LAST-MODIFIED:20260127T134333Z
UID:10002667-1768845600-1768860000@bewusst-brueggen.de
SUMMARY:Training für Jedermann im Schachspiel
DESCRIPTION:Training für Jedermann beim Schachklub Turm Brüggen
URL:https://bewusst-brueggen.de/kalender/training-fuer-jedermann-im-schachspiel/2026-01-19/
LOCATION:Haus Mesterom\, Borner Straße 34\, Brüggen\, Nordrhein Westfalen\, 41379\, Deutschland
CATEGORIES:Vereine & Ehrenamt
ATTACH;FMTTYPE=image/jpeg:https://bewusst-brueggen.de/wp-content/uploads/2024/01/turm.jpg
ORGANIZER;CN="Schachklub Turm Br%C3%BCggen":MAILTO:wi-thiel@t-online.de
END:VEVENT
BEGIN:VEVENT
DTSTART;TZID=Europe/Berlin:20260112T180000
DTEND;TZID=Europe/Berlin:20260112T220000
DTSTAMP:20260419T164335
CREATED:20240202T092507Z
LAST-MODIFIED:20260127T134333Z
UID:10002666-1768240800-1768255200@bewusst-brueggen.de
SUMMARY:Training für Jedermann im Schachspiel
DESCRIPTION:Training für Jedermann beim Schachklub Turm Brüggen
URL:https://bewusst-brueggen.de/kalender/training-fuer-jedermann-im-schachspiel/2026-01-12/
LOCATION:Haus Mesterom\, Borner Straße 34\, Brüggen\, Nordrhein Westfalen\, 41379\, Deutschland
CATEGORIES:Vereine & Ehrenamt
ATTACH;FMTTYPE=image/jpeg:https://bewusst-brueggen.de/wp-content/uploads/2024/01/turm.jpg
ORGANIZER;CN="Schachklub Turm Br%C3%BCggen":MAILTO:wi-thiel@t-online.de
END:VEVENT
BEGIN:VEVENT
DTSTART;TZID=Europe/Berlin:20260105T180000
DTEND;TZID=Europe/Berlin:20260105T220000
DTSTAMP:20260419T164335
CREATED:20240202T092507Z
LAST-MODIFIED:20260127T134333Z
UID:10002665-1767636000-1767650400@bewusst-brueggen.de
SUMMARY:Training für Jedermann im Schachspiel
DESCRIPTION:Training für Jedermann beim Schachklub Turm Brüggen
URL:https://bewusst-brueggen.de/kalender/training-fuer-jedermann-im-schachspiel/2026-01-05/
LOCATION:Haus Mesterom\, Borner Straße 34\, Brüggen\, Nordrhein Westfalen\, 41379\, Deutschland
CATEGORIES:Vereine & Ehrenamt
ATTACH;FMTTYPE=image/jpeg:https://bewusst-brueggen.de/wp-content/uploads/2024/01/turm.jpg
ORGANIZER;CN="Schachklub Turm Br%C3%BCggen":MAILTO:wi-thiel@t-online.de
END:VEVENT
BEGIN:VEVENT
DTSTART;TZID=Europe/Berlin:20251229T180000
DTEND;TZID=Europe/Berlin:20251229T220000
DTSTAMP:20260419T164335
CREATED:20240202T092507Z
LAST-MODIFIED:20260127T134333Z
UID:10002664-1767031200-1767045600@bewusst-brueggen.de
SUMMARY:Training für Jedermann im Schachspiel
DESCRIPTION:Training für Jedermann beim Schachklub Turm Brüggen
URL:https://bewusst-brueggen.de/kalender/training-fuer-jedermann-im-schachspiel/2025-12-29/
LOCATION:Haus Mesterom\, Borner Straße 34\, Brüggen\, Nordrhein Westfalen\, 41379\, Deutschland
CATEGORIES:Vereine & Ehrenamt
ATTACH;FMTTYPE=image/jpeg:https://bewusst-brueggen.de/wp-content/uploads/2024/01/turm.jpg
ORGANIZER;CN="Schachklub Turm Br%C3%BCggen":MAILTO:wi-thiel@t-online.de
END:VEVENT
BEGIN:VEVENT
DTSTART;TZID=Europe/Berlin:20251222T180000
DTEND;TZID=Europe/Berlin:20251222T220000
DTSTAMP:20260419T164335
CREATED:20240202T092507Z
LAST-MODIFIED:20260127T134333Z
UID:10002663-1766426400-1766440800@bewusst-brueggen.de
SUMMARY:Training für Jedermann im Schachspiel
DESCRIPTION:Training für Jedermann beim Schachklub Turm Brüggen
URL:https://bewusst-brueggen.de/kalender/training-fuer-jedermann-im-schachspiel/2025-12-22/
LOCATION:Haus Mesterom\, Borner Straße 34\, Brüggen\, Nordrhein Westfalen\, 41379\, Deutschland
CATEGORIES:Vereine & Ehrenamt
ATTACH;FMTTYPE=image/jpeg:https://bewusst-brueggen.de/wp-content/uploads/2024/01/turm.jpg
ORGANIZER;CN="Schachklub Turm Br%C3%BCggen":MAILTO:wi-thiel@t-online.de
END:VEVENT
BEGIN:VEVENT
DTSTART;TZID=Europe/Berlin:20251215T180000
DTEND;TZID=Europe/Berlin:20251215T220000
DTSTAMP:20260419T164335
CREATED:20240202T092507Z
LAST-MODIFIED:20260127T134333Z
UID:10002662-1765821600-1765836000@bewusst-brueggen.de
SUMMARY:Training für Jedermann im Schachspiel
DESCRIPTION:Training für Jedermann beim Schachklub Turm Brüggen
URL:https://bewusst-brueggen.de/kalender/training-fuer-jedermann-im-schachspiel/2025-12-15/
LOCATION:Haus Mesterom\, Borner Straße 34\, Brüggen\, Nordrhein Westfalen\, 41379\, Deutschland
CATEGORIES:Vereine & Ehrenamt
ATTACH;FMTTYPE=image/jpeg:https://bewusst-brueggen.de/wp-content/uploads/2024/01/turm.jpg
ORGANIZER;CN="Schachklub Turm Br%C3%BCggen":MAILTO:wi-thiel@t-online.de
END:VEVENT
BEGIN:VEVENT
DTSTART;TZID=Europe/Berlin:20251208T180000
DTEND;TZID=Europe/Berlin:20251208T220000
DTSTAMP:20260419T164335
CREATED:20240202T092507Z
LAST-MODIFIED:20260127T134333Z
UID:10002661-1765216800-1765231200@bewusst-brueggen.de
SUMMARY:Training für Jedermann im Schachspiel
DESCRIPTION:Training für Jedermann beim Schachklub Turm Brüggen
URL:https://bewusst-brueggen.de/kalender/training-fuer-jedermann-im-schachspiel/2025-12-08/
LOCATION:Haus Mesterom\, Borner Straße 34\, Brüggen\, Nordrhein Westfalen\, 41379\, Deutschland
CATEGORIES:Vereine & Ehrenamt
ATTACH;FMTTYPE=image/jpeg:https://bewusst-brueggen.de/wp-content/uploads/2024/01/turm.jpg
ORGANIZER;CN="Schachklub Turm Br%C3%BCggen":MAILTO:wi-thiel@t-online.de
END:VEVENT
BEGIN:VEVENT
DTSTART;TZID=Europe/Berlin:20251201T180000
DTEND;TZID=Europe/Berlin:20251201T220000
DTSTAMP:20260419T164335
CREATED:20240202T092507Z
LAST-MODIFIED:20260127T134333Z
UID:10002660-1764612000-1764626400@bewusst-brueggen.de
SUMMARY:Training für Jedermann im Schachspiel
DESCRIPTION:Training für Jedermann beim Schachklub Turm Brüggen
URL:https://bewusst-brueggen.de/kalender/training-fuer-jedermann-im-schachspiel/2025-12-01/
LOCATION:Haus Mesterom\, Borner Straße 34\, Brüggen\, Nordrhein Westfalen\, 41379\, Deutschland
CATEGORIES:Vereine & Ehrenamt
ATTACH;FMTTYPE=image/jpeg:https://bewusst-brueggen.de/wp-content/uploads/2024/01/turm.jpg
ORGANIZER;CN="Schachklub Turm Br%C3%BCggen":MAILTO:wi-thiel@t-online.de
END:VEVENT
BEGIN:VEVENT
DTSTART;TZID=Europe/Berlin:20251124T180000
DTEND;TZID=Europe/Berlin:20251124T220000
DTSTAMP:20260419T164335
CREATED:20240202T092507Z
LAST-MODIFIED:20260127T134333Z
UID:10002659-1764007200-1764021600@bewusst-brueggen.de
SUMMARY:Training für Jedermann im Schachspiel
DESCRIPTION:Training für Jedermann beim Schachklub Turm Brüggen
URL:https://bewusst-brueggen.de/kalender/training-fuer-jedermann-im-schachspiel/2025-11-24/
LOCATION:Haus Mesterom\, Borner Straße 34\, Brüggen\, Nordrhein Westfalen\, 41379\, Deutschland
CATEGORIES:Vereine & Ehrenamt
ATTACH;FMTTYPE=image/jpeg:https://bewusst-brueggen.de/wp-content/uploads/2024/01/turm.jpg
ORGANIZER;CN="Schachklub Turm Br%C3%BCggen":MAILTO:wi-thiel@t-online.de
END:VEVENT
BEGIN:VEVENT
DTSTART;TZID=Europe/Berlin:20251117T180000
DTEND;TZID=Europe/Berlin:20251117T220000
DTSTAMP:20260419T164335
CREATED:20240202T092507Z
LAST-MODIFIED:20260127T134333Z
UID:10002658-1763402400-1763416800@bewusst-brueggen.de
SUMMARY:Training für Jedermann im Schachspiel
DESCRIPTION:Training für Jedermann beim Schachklub Turm Brüggen
URL:https://bewusst-brueggen.de/kalender/training-fuer-jedermann-im-schachspiel/2025-11-17/
LOCATION:Haus Mesterom\, Borner Straße 34\, Brüggen\, Nordrhein Westfalen\, 41379\, Deutschland
CATEGORIES:Vereine & Ehrenamt
ATTACH;FMTTYPE=image/jpeg:https://bewusst-brueggen.de/wp-content/uploads/2024/01/turm.jpg
ORGANIZER;CN="Schachklub Turm Br%C3%BCggen":MAILTO:wi-thiel@t-online.de
END:VEVENT
BEGIN:VEVENT
DTSTART;TZID=Europe/Berlin:20251115T150000
DTEND;TZID=Europe/Berlin:20251115T220000
DTSTAMP:20260419T164335
CREATED:20251111T115537Z
LAST-MODIFIED:20251111T115537Z
UID:10006018-1763218800-1763244000@bewusst-brueggen.de
SUMMARY:Mesteroms kleiner Wintermarkt
DESCRIPTION:Die St. Petri Bruderschaft Oebel-Gelagweg lädt ein\, den gemütlichen Wintermarkt zu besuchen. In adventlich geschmückten Buden\, bieten Hobbykünstler liebevoll hergestellte Geschenk- und Dekorationsartikel an. Beim Genuss von wärmenden Glühwein\,  Kaffee und Kuchen oder herzhaften Leckerbissen zu weihnachtlicher Musik\, wächst die Vorfreude auf die bevorstehende Adventszeit. Wem das Plätzchenbacken keine Freude bereitet\, darf gerne die Jungschützen der Bruderschaft unterstützen und nach Herzenslust einkaufen.
URL:https://bewusst-brueggen.de/kalender/mesteroms-kleiner-wintermarkt-3/
LOCATION:Haus Mesterom\, Borner Straße 34\, Brüggen\, Nordrhein Westfalen\, 41379\, Deutschland
CATEGORIES:Feste / Märkte
ATTACH;FMTTYPE=image/jpeg:https://bewusst-brueggen.de/wp-content/uploads/2025/11/Screenshot_20251108_133957_WhatsApp.jpg
ORGANIZER;CN="Sankt Petri-Bruderschaft Oebel-Gelagweg 1786 e.V.":MAILTO:riedel.brueggen@t-online.de
END:VEVENT
BEGIN:VEVENT
DTSTART;TZID=Europe/Berlin:20251110T180000
DTEND;TZID=Europe/Berlin:20251110T220000
DTSTAMP:20260419T164335
CREATED:20240202T092507Z
LAST-MODIFIED:20260127T134333Z
UID:10002657-1762797600-1762812000@bewusst-brueggen.de
SUMMARY:Training für Jedermann im Schachspiel
DESCRIPTION:Training für Jedermann beim Schachklub Turm Brüggen
URL:https://bewusst-brueggen.de/kalender/training-fuer-jedermann-im-schachspiel/2025-11-10/
LOCATION:Haus Mesterom\, Borner Straße 34\, Brüggen\, Nordrhein Westfalen\, 41379\, Deutschland
CATEGORIES:Vereine & Ehrenamt
ATTACH;FMTTYPE=image/jpeg:https://bewusst-brueggen.de/wp-content/uploads/2024/01/turm.jpg
ORGANIZER;CN="Schachklub Turm Br%C3%BCggen":MAILTO:wi-thiel@t-online.de
END:VEVENT
BEGIN:VEVENT
DTSTART;TZID=Europe/Berlin:20251103T180000
DTEND;TZID=Europe/Berlin:20251103T220000
DTSTAMP:20260419T164335
CREATED:20240202T092507Z
LAST-MODIFIED:20260127T134333Z
UID:10002656-1762192800-1762207200@bewusst-brueggen.de
SUMMARY:Training für Jedermann im Schachspiel
DESCRIPTION:Training für Jedermann beim Schachklub Turm Brüggen
URL:https://bewusst-brueggen.de/kalender/training-fuer-jedermann-im-schachspiel/2025-11-03/
LOCATION:Haus Mesterom\, Borner Straße 34\, Brüggen\, Nordrhein Westfalen\, 41379\, Deutschland
CATEGORIES:Vereine & Ehrenamt
ATTACH;FMTTYPE=image/jpeg:https://bewusst-brueggen.de/wp-content/uploads/2024/01/turm.jpg
ORGANIZER;CN="Schachklub Turm Br%C3%BCggen":MAILTO:wi-thiel@t-online.de
END:VEVENT
BEGIN:VEVENT
DTSTART;TZID=Europe/Berlin:20251027T180000
DTEND;TZID=Europe/Berlin:20251027T220000
DTSTAMP:20260419T164335
CREATED:20240202T092507Z
LAST-MODIFIED:20260127T134333Z
UID:10002655-1761588000-1761602400@bewusst-brueggen.de
SUMMARY:Training für Jedermann im Schachspiel
DESCRIPTION:Training für Jedermann beim Schachklub Turm Brüggen
URL:https://bewusst-brueggen.de/kalender/training-fuer-jedermann-im-schachspiel/2025-10-27/
LOCATION:Haus Mesterom\, Borner Straße 34\, Brüggen\, Nordrhein Westfalen\, 41379\, Deutschland
CATEGORIES:Vereine & Ehrenamt
ATTACH;FMTTYPE=image/jpeg:https://bewusst-brueggen.de/wp-content/uploads/2024/01/turm.jpg
ORGANIZER;CN="Schachklub Turm Br%C3%BCggen":MAILTO:wi-thiel@t-online.de
END:VEVENT
BEGIN:VEVENT
DTSTART;TZID=Europe/Berlin:20251020T180000
DTEND;TZID=Europe/Berlin:20251020T220000
DTSTAMP:20260419T164335
CREATED:20240202T092507Z
LAST-MODIFIED:20260127T134333Z
UID:10002654-1760983200-1760997600@bewusst-brueggen.de
SUMMARY:Training für Jedermann im Schachspiel
DESCRIPTION:Training für Jedermann beim Schachklub Turm Brüggen
URL:https://bewusst-brueggen.de/kalender/training-fuer-jedermann-im-schachspiel/2025-10-20/
LOCATION:Haus Mesterom\, Borner Straße 34\, Brüggen\, Nordrhein Westfalen\, 41379\, Deutschland
CATEGORIES:Vereine & Ehrenamt
ATTACH;FMTTYPE=image/jpeg:https://bewusst-brueggen.de/wp-content/uploads/2024/01/turm.jpg
ORGANIZER;CN="Schachklub Turm Br%C3%BCggen":MAILTO:wi-thiel@t-online.de
END:VEVENT
BEGIN:VEVENT
DTSTART;TZID=Europe/Berlin:20251013T180000
DTEND;TZID=Europe/Berlin:20251013T220000
DTSTAMP:20260419T164335
CREATED:20240202T092507Z
LAST-MODIFIED:20260127T134333Z
UID:10002653-1760378400-1760392800@bewusst-brueggen.de
SUMMARY:Training für Jedermann im Schachspiel
DESCRIPTION:Training für Jedermann beim Schachklub Turm Brüggen
URL:https://bewusst-brueggen.de/kalender/training-fuer-jedermann-im-schachspiel/2025-10-13/
LOCATION:Haus Mesterom\, Borner Straße 34\, Brüggen\, Nordrhein Westfalen\, 41379\, Deutschland
CATEGORIES:Vereine & Ehrenamt
ATTACH;FMTTYPE=image/jpeg:https://bewusst-brueggen.de/wp-content/uploads/2024/01/turm.jpg
ORGANIZER;CN="Schachklub Turm Br%C3%BCggen":MAILTO:wi-thiel@t-online.de
END:VEVENT
BEGIN:VEVENT
DTSTART;TZID=Europe/Berlin:20251006T180000
DTEND;TZID=Europe/Berlin:20251006T220000
DTSTAMP:20260419T164335
CREATED:20240202T092507Z
LAST-MODIFIED:20260127T134333Z
UID:10002652-1759773600-1759788000@bewusst-brueggen.de
SUMMARY:Training für Jedermann im Schachspiel
DESCRIPTION:Training für Jedermann beim Schachklub Turm Brüggen
URL:https://bewusst-brueggen.de/kalender/training-fuer-jedermann-im-schachspiel/2025-10-06/
LOCATION:Haus Mesterom\, Borner Straße 34\, Brüggen\, Nordrhein Westfalen\, 41379\, Deutschland
CATEGORIES:Vereine & Ehrenamt
ATTACH;FMTTYPE=image/jpeg:https://bewusst-brueggen.de/wp-content/uploads/2024/01/turm.jpg
ORGANIZER;CN="Schachklub Turm Br%C3%BCggen":MAILTO:wi-thiel@t-online.de
END:VEVENT
BEGIN:VEVENT
DTSTART;TZID=Europe/Berlin:20250929T180000
DTEND;TZID=Europe/Berlin:20250929T220000
DTSTAMP:20260419T164335
CREATED:20240202T092507Z
LAST-MODIFIED:20260127T134333Z
UID:10002651-1759168800-1759183200@bewusst-brueggen.de
SUMMARY:Training für Jedermann im Schachspiel
DESCRIPTION:Training für Jedermann beim Schachklub Turm Brüggen
URL:https://bewusst-brueggen.de/kalender/training-fuer-jedermann-im-schachspiel/2025-09-29/
LOCATION:Haus Mesterom\, Borner Straße 34\, Brüggen\, Nordrhein Westfalen\, 41379\, Deutschland
CATEGORIES:Vereine & Ehrenamt
ATTACH;FMTTYPE=image/jpeg:https://bewusst-brueggen.de/wp-content/uploads/2024/01/turm.jpg
ORGANIZER;CN="Schachklub Turm Br%C3%BCggen":MAILTO:wi-thiel@t-online.de
END:VEVENT
END:VCALENDAR