BEGIN:VCALENDAR
VERSION:2.0
PRODID:-//Bewusst Brüggen - ECPv6.15.20//NONSGML v1.0//EN
CALSCALE:GREGORIAN
METHOD:PUBLISH
X-ORIGINAL-URL:https://bewusst-brueggen.de
X-WR-CALDESC:Veranstaltungen für Bewusst Brüggen
REFRESH-INTERVAL;VALUE=DURATION:PT1H
X-Robots-Tag:noindex
X-PUBLISHED-TTL:PT1H
BEGIN:VTIMEZONE
TZID:Europe/Berlin
BEGIN:DAYLIGHT
TZOFFSETFROM:+0100
TZOFFSETTO:+0200
TZNAME:CEST
DTSTART:20230326T010000
END:DAYLIGHT
BEGIN:STANDARD
TZOFFSETFROM:+0200
TZOFFSETTO:+0100
TZNAME:CET
DTSTART:20231029T010000
END:STANDARD
BEGIN:DAYLIGHT
TZOFFSETFROM:+0100
TZOFFSETTO:+0200
TZNAME:CEST
DTSTART:20240331T010000
END:DAYLIGHT
BEGIN:STANDARD
TZOFFSETFROM:+0200
TZOFFSETTO:+0100
TZNAME:CET
DTSTART:20241027T010000
END:STANDARD
BEGIN:DAYLIGHT
TZOFFSETFROM:+0100
TZOFFSETTO:+0200
TZNAME:CEST
DTSTART:20250330T010000
END:DAYLIGHT
BEGIN:STANDARD
TZOFFSETFROM:+0200
TZOFFSETTO:+0100
TZNAME:CET
DTSTART:20251026T010000
END:STANDARD
END:VTIMEZONE
BEGIN:VEVENT
DTSTART;TZID=Europe/Berlin:20240614T000000
DTEND;TZID=Europe/Berlin:20240618T000000
DTSTAMP:20260422T211256
CREATED:20240205T100904Z
LAST-MODIFIED:20240205T100904Z
UID:10002828-1718323200-1718668800@bewusst-brueggen.de
SUMMARY:Schützenfest der Sankt Petri Bruderschaft Oebel-Gelagweg
DESCRIPTION:In der Zeit vom 14. bis 18.06.2024 feiert die Bruderschaft wieder das beliebte Schützenfest. Weitere Infos über die Webseite.
URL:https://bewusst-brueggen.de/kalender/schuetzenfest-der-sankt-petri-bruderschaft-oebel-gelagweg/
LOCATION:Herrenlandstraße\, Herrenlandstraße/Ecke Elsterweg\, Brüggen\, 41379
CATEGORIES:Brauchtum/ Heimatkunde
ATTACH;FMTTYPE=image/jpeg:https://bewusst-brueggen.de/wp-content/uploads/2023/03/bewusst-brueggen-events-heimatkunde.jpg
ORGANIZER;CN="Sankt Petri-Bruderschaft Oebel-Gelagweg 1786 e.V.":MAILTO:riedel.brueggen@t-online.de
END:VEVENT
END:VCALENDAR