BEGIN:VCALENDAR
VERSION:2.0
PRODID:-//Bewusst Brüggen - ECPv6.15.20//NONSGML v1.0//EN
CALSCALE:GREGORIAN
METHOD:PUBLISH
X-ORIGINAL-URL:https://bewusst-brueggen.de
X-WR-CALDESC:Veranstaltungen für Bewusst Brüggen
REFRESH-INTERVAL;VALUE=DURATION:PT1H
X-Robots-Tag:noindex
X-PUBLISHED-TTL:PT1H
BEGIN:VTIMEZONE
TZID:Europe/Berlin
BEGIN:DAYLIGHT
TZOFFSETFROM:+0100
TZOFFSETTO:+0200
TZNAME:CEST
DTSTART:20220327T010000
END:DAYLIGHT
BEGIN:STANDARD
TZOFFSETFROM:+0200
TZOFFSETTO:+0100
TZNAME:CET
DTSTART:20221030T010000
END:STANDARD
BEGIN:DAYLIGHT
TZOFFSETFROM:+0100
TZOFFSETTO:+0200
TZNAME:CEST
DTSTART:20230326T010000
END:DAYLIGHT
BEGIN:STANDARD
TZOFFSETFROM:+0200
TZOFFSETTO:+0100
TZNAME:CET
DTSTART:20231029T010000
END:STANDARD
BEGIN:DAYLIGHT
TZOFFSETFROM:+0100
TZOFFSETTO:+0200
TZNAME:CEST
DTSTART:20240331T010000
END:DAYLIGHT
BEGIN:STANDARD
TZOFFSETFROM:+0200
TZOFFSETTO:+0100
TZNAME:CET
DTSTART:20241027T010000
END:STANDARD
BEGIN:DAYLIGHT
TZOFFSETFROM:+0100
TZOFFSETTO:+0200
TZNAME:CEST
DTSTART:20250330T010000
END:DAYLIGHT
BEGIN:STANDARD
TZOFFSETFROM:+0200
TZOFFSETTO:+0100
TZNAME:CET
DTSTART:20251026T010000
END:STANDARD
BEGIN:DAYLIGHT
TZOFFSETFROM:+0100
TZOFFSETTO:+0200
TZNAME:CEST
DTSTART:20260329T010000
END:DAYLIGHT
BEGIN:STANDARD
TZOFFSETFROM:+0200
TZOFFSETTO:+0100
TZNAME:CET
DTSTART:20261025T010000
END:STANDARD
END:VTIMEZONE
BEGIN:VEVENT
DTSTART;TZID=Europe/Berlin:20250824T160000
DTEND;TZID=Europe/Berlin:20250824T173000
DTSTAMP:20260421T140747
CREATED:20250217T100902Z
LAST-MODIFIED:20250219T083312Z
UID:10004687-1756051200-1756056600@bewusst-brueggen.de
SUMMARY:Brüggener Sommer: Konzert der Jazz-Cancers
DESCRIPTION:Im Rahmen der Reihe „Brüggener Sommer“ sind die Jazz-Cancers zu Gast. Jazz-Cancers – das sind fünf professionelle Musiker\, die sich aus der bekannten Mönchengladbacher Rhythm & Bluesband „Red Hot Cancers“ um den Brüggener Jazzpianisten Reinhard Gries und den Mönchengladbacher Saxophonisten Erich Ermeding formiert haben. Alle Musiker verfügen über Jahrzehnte Erfahrung in unterschiedlichsten Musikrichtungen. Das Repertoire der Band umfasst Stile quer durch die Jazzgeschichte – von Swing über Blues und Jumpblues bis Funk- und begeistert mit ihrer Musik ein breites Publikum. Immer wieder spielt die Band auch mit Stars der Jazzszene\, wie hier auch mit    Paul G. Ulrich und zu seinen Lebzeiten mit dem Gitarristen Ali Claudi. \nDie Band tritt in folgender Besetzung auf: \nErich Ermeding: Saxophon\, Klarinette (u.a. Kempen Bigband\, Bluemoon\, Jazzpepers\, Jazzclub 14 Band (NL) )\nReinhard Gries: Piano (u.a. Jazzbones\, Achim Bardohl-Trio\, Pianist bei Internationalen Festivals)\nPaul G. Ulrich: Kontrabass und Gesang (Paul Kuhn Trio\, Benny Bailey\, Bill Ramsey\,\nHugo Strasser\, Jiggs Whigham und vielen anderen)\nDominik Michel: Schlagzeug (Jazzbones\, 4Wheeldrive\, Schlagzeuger bei Internationalen Festivals)\nDavid Meese: Gitarre (u.a. Jump Blues Syndicat ) \nDer Eintritt ist frei. Bei Regen findet die Veranstaltung im angrenzenden Kultursaal statt.
URL:https://bewusst-brueggen.de/kalender/brueggener-sommer-konzert-der-jazz-cancers-3/
LOCATION:Innenhof Burg Brüggen\, Burgwall 4\, Brüggen\, 41379
CATEGORIES:Kultur
ATTACH;FMTTYPE=image/jpeg:https://bewusst-brueggen.de/wp-content/uploads/2025/02/Jazz-Cancers-2024-2.jpg
END:VEVENT
BEGIN:VEVENT
DTSTART;TZID=Europe/Berlin:20250810T160000
DTEND;TZID=Europe/Berlin:20250810T173000
DTSTAMP:20260421T140747
CREATED:20250218T092015Z
LAST-MODIFIED:20250219T082722Z
UID:10004695-1754841600-1754847000@bewusst-brueggen.de
SUMMARY:Brüggener Sommer: Sing mit Rudi
DESCRIPTION:Neu im Programm der Open-Air-Reihe „Brüggener Sommer“ der Burggemeinde Brüggen ist ein Mitsingkonzert mit Rudi Massier. Vor seinem Umzug nach Brüggen leitete Massier zusammen mit seiner Ehefrau über 40 Jahre eine Musikschule in Aalen\, Baden-Württemberg. Dort unterrichtete er die Fächer\, Gitarre/Bass\, Keyboard\, Schlagzeug\, Cajon und das Singen mit Gitarre. Bei zahlreichen Veranstaltungen war er zudem als Alleinunterhalter oder auch in Bands aktiv. Vor drei Jahren erfolgte dann der Umzug nach Brüggen-Born.  \nBeim Mitsingkonzert am Sonntag\, 10.08.2025\, 16.00 Uhr\, im Innenhof der Burg Brüggen (bei Regen im angrenzenden Kultursaal) steht das Singen von bekannten Schlagern im Vordergrund. Texte zum Mitsingen werden zur Verfügung gestellt. Der Eintritt ist frei.
URL:https://bewusst-brueggen.de/kalender/brueggener-sommer-sing-mit-rudi/
LOCATION:Innenhof Burg Brüggen\, Burgwall 4\, Brüggen\, 41379
CATEGORIES:Kultur
ATTACH;FMTTYPE=image/jpeg:https://bewusst-brueggen.de/wp-content/uploads/2025/02/Foto-Rudi-Massier.PNG.jpg
END:VEVENT
BEGIN:VEVENT
DTSTART;TZID=Europe/Berlin:20250803T160000
DTEND;TZID=Europe/Berlin:20250803T173000
DTSTAMP:20260421T140747
CREATED:20250217T100057Z
LAST-MODIFIED:20250219T083412Z
UID:10004686-1754236800-1754242200@bewusst-brueggen.de
SUMMARY:Brüggener Sommer: Dirk Hintzen alias Charles Ingalls
DESCRIPTION:Im Rahmen der Open-Air-Reihe „Brüggener Sommer“ ist Dirk Hintzen\, alias Charles Ingalls\, zu Gast im Innenhof der Burg Brüggen. Der Brüggener ist im wahren Leben Lehrer an einem Gymnasium. Als Liedermacher Charles Ingalls lässt er sich in keine Schublade pressen. Er wechselt das Thema\, die Sprache und die Musikrichtung von Folk über Rock und Pop zu Blues und zur typisch deutschen Liedermacherart a` la Reinhard Mey\, Hannes Wader und den Monsters of Liedermaching. Lassen Sie sich überraschen. \nBei Regen findet die Veranstaltung im angrenzenden Kultursaal statt.
URL:https://bewusst-brueggen.de/kalender/brueggener-sommer-dirk-hintzen-alias-charles-ingalls/
LOCATION:Innenhof Burg Brüggen\, Burgwall 4\, Brüggen\, 41379
CATEGORIES:Kultur
ATTACH;FMTTYPE=image/jpeg:https://bewusst-brueggen.de/wp-content/uploads/2025/02/bewusst-brueggen-bveranstaltung-charles-ingalls-e1739889940688.jpg
END:VEVENT
BEGIN:VEVENT
DTSTART;TZID=Europe/Berlin:20250720T160000
DTEND;TZID=Europe/Berlin:20250720T173000
DTSTAMP:20260421T140747
CREATED:20250409T095326Z
LAST-MODIFIED:20250409T095326Z
UID:10005349-1753027200-1753032600@bewusst-brueggen.de
SUMMARY:Brüggener Sommer: Konzert des Arnold-Chores aus Kempen
DESCRIPTION:Im Rahmen der beliebten Freiluftreihe „Brüggener Sommer“ ist der Arnoldchor aus Kempen unter der Leitung von Udo Schröder zu Gast im Innenhof der Burg Brüggen. Bei Regen findet die Veranstaltung im angrenzenden Kultursaal statt. Der Eintritt ist frei.
URL:https://bewusst-brueggen.de/kalender/brueggener-sommer-konzert-des-arnold-chores-aus-kempen/
LOCATION:Innenhof Burg Brüggen\, Burgwall 4\, Brüggen\, 41379
ATTACH;FMTTYPE=image/jpeg:https://bewusst-brueggen.de/wp-content/uploads/2023/07/bewusst-brueggen-kulturbewusst-2.jpg
ORGANIZER;CN="Burggemeinde Br%C3%BCggen - Judith Zybell":MAILTO:judith.Zybell@brueggen.de
END:VEVENT
BEGIN:VEVENT
DTSTART;TZID=Europe/Berlin:20250629T160000
DTEND;TZID=Europe/Berlin:20250629T173000
DTSTAMP:20260421T140747
CREATED:20250409T094627Z
LAST-MODIFIED:20250604T093137Z
UID:10005348-1751212800-1751218200@bewusst-brueggen.de
SUMMARY:Brüggener Sommer: Konzert "Kontraste" Cäcilia Brüggen
DESCRIPTION:Der beliebte Brüggener Musikverein Cäcilia ist wieder zu Gast im Rahmen der Freiluftreihe „Brüggener Sommer“ im Innenhof der Burg Brüggen. \n„Unser diesjähriges Konzert steht unter dem Motto „Kontraste“. Unter diesem Titel präsentieren wir einen bunten Strauß rein originaler Blasmusik. Wer dabei an Schützenfestzelte denkt\, liegt nicht ganz falsch. Und doch gibt es im Bereich der Blasmusik so viel mehr zu entdecken. Denn neben Polkas und Märschen haben wir – ganz kontrastreich – Rocknummern\, lateinamerikanische Rhythmen und punkigen Ska im Gepäck. Das Beste: da es sich um Originalkompositionen handelt\, bringen sie das ganze Orchester zum Strahlen“. \nBei Regen findet die Veranstaltung im angrenzenden Kultursaal statt. Der Eintritt ist frei.
URL:https://bewusst-brueggen.de/kalender/brueggener-sommer-konzert-caecilia-brueggen/
LOCATION:Innenhof Burg Brüggen\, Burgwall 4\, Brüggen\, 41379
CATEGORIES:Kultur
ATTACH;FMTTYPE=image/jpeg:https://bewusst-brueggen.de/wp-content/uploads/2023/06/bewusst-brueggen-musikalische-vielfalt.jpg
END:VEVENT
BEGIN:VEVENT
DTSTART;TZID=Europe/Berlin:20250508T180000
DTEND;TZID=Europe/Berlin:20250508T200000
DTSTAMP:20260421T140747
CREATED:20250407T112623Z
LAST-MODIFIED:20250415T062046Z
UID:10005346-1746727200-1746734400@bewusst-brueggen.de
SUMMARY:Gedenkveranstaltung "Vor 80 Jahren\, als der Krieg zu Ende ging"
DESCRIPTION:Gedenkveranstaltung „Vor 80 Jahren\, als der Krieg zu Ende ging“ \nAm 8. Mai 1945 hat die deutsche Wehrmacht die bedingungslose Kapitulation verkündet und damit das Ende des Zweiten Weltkrieges in Europa eingeleitet. In Deutschland wird der 8. Mai auch als „Tag der Befreiung“ bezeichnet. In wenigen Wochen jährt sich also das Kriegsende in Europa zum 80. Mal. Die Burggemeinde Brüggen nimmt das zum Anlass\, eine Gedenkfeier zu organisieren. Die Veranstaltung am Donnerstag\, 8. Mai\, 18.00 Uhr\, Innenhof der Burg Brüggen\, beginnt mit einer ökumenischen Andacht mit Pfarrer Bernd Mackscheidt und Diakon Wolfgang Türlings. Es folgen die Grußworte von Bürgermeister Frank Gellen und Bürgermeister Martijn Derks aus Beesel. Danach spricht Gotthard Kirch\, Geschäftsführer der Liberation Route NRW\, über die Befreiungsroute\, die Menschen\, Orte und Ereignisse der damaligen Zeit miteinander verbindet\, um an die Befreiung Europas von der Naziherrschaft während des Zweiten Weltkrieges zu erinnern. \nZum Abschluss der Veranstaltung werden zwei Brüggener Hörsteine – an den Kasematten und am ehemaligem Brüggener Bahnhof – eingeweiht. Diese Hörstellen oder Hörsteine stehen an Orten\, an denen am Ende des II. Weltkrieges ein besonderes und erzählenswertes Ereignis stattgefunden hat. Die Geschichte hinter diesen Hörstellen wurde von den beteiligten Kommunen recherchiert und aufbereitet. In Brüggen geschah das u. a. mit Unterstützung der Historikerin\, Frau Dr. Ina Germes-Dohmen. Besucherinnen und Besucher finden vor Ort einen Stein mit einer kurzen Information. Über einen QR-Code kommt man dann an die lokale Geschichte\, bekommt den Gesamtzusammenhang dargestellt und erhält Hinweise auf Besuchsorte und weitere Hörstellen. \nMusikalisch begleitet wird die Veranstaltung vom Musikverein Cäcilia Brüggen. Alle Interessierten sind herzlich zur Veranstaltung am 8. Mai eingeladen. Bei Regen können wir in die Kirche Sankt Nikolaus am Kreuzherrenplatz ausweichen. \nRund um den 8. Mai herum plant die Burggemeinde Brüggen aber auch noch weitere Veranstaltungen: Die Ausstellung „History through their eyes“ wird in der Zeit vom 10.05. bis 21.06.2025 in den Räumlichkeiten des Museums Mensch und Jagd in der Burg Brüggen präsentiert. Die Ausstellung befasst sich auf 12 Roll-Ups mit Geschichten von zwölf jungen Menschen aus verschiedenen Ländern\, die alle Augenzeugen des Zweiten Weltkriegs waren. Über einen QR-Code sind weitere Geschichten digital abrufbar. \nBei der regionalen Talkrunde „Franks Sitzecke“ am Dienstag\, 06.05.2025\, 19.30 Uhr im Kultursaal der Burg Brüggen wird dann unter anderem Gotthard Kirch zu Gast sein. Tickets hierfür gibt es unter www.ticketshop.nrw oder in der Tourist-Info in der Burg Brüggen zum Preis von 10\,00 €. Ansprechpartnerin für die gesamte Planung ist die Burggemeinde Brüggen\, Judith Zybell\, 002163/5701-157 (vormittags); judith.zybell@brueggen.de.
URL:https://bewusst-brueggen.de/kalender/gedenkveranstaltung-vor-80-jahren-als-der-krieg-zu-ende-ging/
LOCATION:Innenhof Burg Brüggen\, Burgwall 4\, Brüggen\, 41379
ATTACH;FMTTYPE=image/jpeg:https://bewusst-brueggen.de/wp-content/uploads/2023/07/bewusst-brueggen-kulturbewusst-2.jpg
ORGANIZER;CN="Burggemeinde Br%C3%BCggen - Judith Zybell":MAILTO:judith.Zybell@brueggen.de
END:VEVENT
BEGIN:VEVENT
DTSTART;TZID=Europe/Berlin:20240707T100000
DTEND;TZID=Europe/Berlin:20240707T170000
DTSTAMP:20260421T140747
CREATED:20240624T083149Z
LAST-MODIFIED:20240624T083149Z
UID:10002912-1720346400-1720371600@bewusst-brueggen.de
SUMMARY:Niederrheinischer Raderlebnistag
DESCRIPTION:Dieses Jahr beteiligen sich wieder über 60 Orte zwischen Rhein und Maas mit mehr als 80 verschiedenen Routentipps am Niederrheinischen Raderlebnistag (früher Niederrheinischen Radwandertag). Mehr als 30.000 Radfahrende werden in der gesamten Region erwartet. Ein Infopunkt befindet sich wieder im Innenhof der Burg Brüggen. Die Routentipps und alle Informationen zum 1. Niederrheinischen Raderlebnistag stehen ab Mitte Mai auf der Internetseite vom Niederrheintourismus. Die Routen werden alle über outdooractive und weitere Routenportale verfügbar sein. Bis dahin genieße die Natur der Burggemeinde Brüggen und stöbre hier nach deiner persönlichen Lieblingsroute.
URL:https://bewusst-brueggen.de/kalender/niederrheinischer-raderlebnistag/
LOCATION:Innenhof Burg Brüggen\, Burgwall 4\, Brüggen\, 41379
CATEGORIES:Sport / Aktivität
ATTACH;FMTTYPE=image/jpeg:https://bewusst-brueggen.de/wp-content/uploads/2023/01/bewusst-brueggen-radliebe.jpg
END:VEVENT
BEGIN:VEVENT
DTSTART;TZID=Europe/Berlin:20231203T100000
DTEND;TZID=Europe/Berlin:20231203T100000
DTSTAMP:20260421T140747
CREATED:20230328T093857Z
LAST-MODIFIED:20231213T145448Z
UID:10000331-1701597600-1701597600@bewusst-brueggen.de
SUMMARY:Landschaftslauf: Christmas Run & Walk
DESCRIPTION:Start und Ziel im Innenhof der Burg Brüggen.
URL:https://bewusst-brueggen.de/kalender/landschaftslauf-christmas-run-walk/
LOCATION:Innenhof Burg Brüggen\, Burgwall 4\, Brüggen\, 41379
CATEGORIES:Sport / Aktivität
ATTACH;FMTTYPE=image/jpeg:https://bewusst-brueggen.de/wp-content/uploads/2023/03/bewusst-brueggen-events-sport.jpg
ORGANIZER;CN="TuRa Br%C3%BCggen 1923 e.V. - Carmen Aust":MAILTO:carmen.aust@gmx.net
END:VEVENT
BEGIN:VEVENT
DTSTART;TZID=Europe/Berlin:20230917T160000
DTEND;TZID=Europe/Berlin:20230917T170000
DTSTAMP:20260421T140747
CREATED:20230427T105500Z
LAST-MODIFIED:20231213T145516Z
UID:10000405-1694966400-1694970000@bewusst-brueggen.de
SUMMARY:"Brüggener Sommer" Mitsingkonzert mit Kosimi
DESCRIPTION:Der Name Kosimi steht für „Komm sing mit“ und ist quasi Programm. Udo Schröder aus Nettetal gründete 2011 den gemischten Chor\, der verschiedene Generationen und Mitglieder aus dem ganzen Kreis Viersen in lockerer Atmosphäre vereint. Mitgestaltet werden kirchliche Anlässe ebenso wie Open-Air- oder Weihnachtskonzerte. \nDerzeit zählt der Chor 95 aktive Mitglieder. Das Repertoire umfasst populäre Titel aus der Welt von Musical\, Schlager\, Gospel etc. – von den 60ern über Udo Jürgens\, Michael Jackson\, Peter Maffay und ABBA – also quer durch den unterhaltsamen musikalischen Garten. Auch das Publikum wird wieder einbezogen und darf mitsingen. \nDas Konzert beginnt am Sonntag\, 17.09.2023 um 16.00 Uhr im Innenhof der Burg Brüggen (bei Regen im angrenzenden Kultursaal). Der Eintritt ist frei.
URL:https://bewusst-brueggen.de/kalender/brueggener-sommer-mitsingkonzert-mit-kosimi/
LOCATION:Innenhof Burg Brüggen\, Burgwall 4\, Brüggen\, 41379
ATTACH;FMTTYPE=:
ORGANIZER;CN="Burggemeinde Br%C3%BCggen - Judith Zybell":MAILTO:judith.Zybell@brueggen.de
END:VEVENT
END:VCALENDAR