BEGIN:VCALENDAR
VERSION:2.0
PRODID:-//Bewusst Brüggen - ECPv6.15.20//NONSGML v1.0//EN
CALSCALE:GREGORIAN
METHOD:PUBLISH
X-WR-CALNAME:Bewusst Brüggen
X-ORIGINAL-URL:https://bewusst-brueggen.de
X-WR-CALDESC:Veranstaltungen für Bewusst Brüggen
REFRESH-INTERVAL;VALUE=DURATION:PT1H
X-Robots-Tag:noindex
X-PUBLISHED-TTL:PT1H
BEGIN:VTIMEZONE
TZID:Europe/Berlin
BEGIN:DAYLIGHT
TZOFFSETFROM:+0100
TZOFFSETTO:+0200
TZNAME:CEST
DTSTART:20230326T010000
END:DAYLIGHT
BEGIN:STANDARD
TZOFFSETFROM:+0200
TZOFFSETTO:+0100
TZNAME:CET
DTSTART:20231029T010000
END:STANDARD
BEGIN:DAYLIGHT
TZOFFSETFROM:+0100
TZOFFSETTO:+0200
TZNAME:CEST
DTSTART:20240331T010000
END:DAYLIGHT
BEGIN:STANDARD
TZOFFSETFROM:+0200
TZOFFSETTO:+0100
TZNAME:CET
DTSTART:20241027T010000
END:STANDARD
BEGIN:DAYLIGHT
TZOFFSETFROM:+0100
TZOFFSETTO:+0200
TZNAME:CEST
DTSTART:20250330T010000
END:DAYLIGHT
BEGIN:STANDARD
TZOFFSETFROM:+0200
TZOFFSETTO:+0100
TZNAME:CET
DTSTART:20251026T010000
END:STANDARD
BEGIN:DAYLIGHT
TZOFFSETFROM:+0100
TZOFFSETTO:+0200
TZNAME:CEST
DTSTART:20260329T010000
END:DAYLIGHT
BEGIN:STANDARD
TZOFFSETFROM:+0200
TZOFFSETTO:+0100
TZNAME:CET
DTSTART:20261025T010000
END:STANDARD
END:VTIMEZONE
BEGIN:VEVENT
DTSTART;TZID=Europe/Berlin:20250426T200000
DTEND;TZID=Europe/Berlin:20250426T230000
DTSTAMP:20260420T070607
CREATED:20241129T081205Z
LAST-MODIFIED:20241129T081205Z
UID:10004174-1745697600-1745708400@bewusst-brueggen.de
SUMMARY:Spielschar Brüggen – „Es fährt kein Zug nach Irgendwo“
DESCRIPTION:Eine Bahnhofs-Komödie von Winnie Abel\nSind Sie schon mal schwer bepackt durch den Bahnhof gesprintet\, weil das Gleis spontan geändert wurde? Oder durch einen Zug mit falscher Wagenreihung geirrt? Und standen Sie schon mal stundenlang mit einem Triebwerkschaden auf offener Strecke – im Hochsommer\, bei ausgefallener Klimaanlage? „Klar! Ist doch typisch Bahn!“\, sagen Sie? Großartig! Denn dann sind Sie bestens vorbereitet auf dieses fulminante Bahn-Abenteuer: \nDer ICE 6948 wird einen außerplanmäßigen Halt einlegen müssen und Sie und die anderen Fahrgäste an einem trostlosen Provinzbahnhof zurücklassen. Ohne Handyempfang\, ohne Taxis\, ohne eine Aussicht auf Weiterfahrt. Stattdessen erfahren Sie\, dass unter den Fahrgästen womöglich ein Psychopath ist – und ein unglaublich witziges Nervenchaos nimmt seinen Lauf. \nIhre Mitreisenden bei dieser spannenden Bahn-Odyssee sind: ein illustrer Kegel-Club\, eine gehetzte Business-Frau\, ein eigenwilliger Verschwörungstheoretiker\, eine abgedrehte Motivationstrainerin\, ein kauziger Landstreicher und die überkorrekte Dorfpolizistin. Das klingt vielversprechend? Dann holen Sie sich eine Fahrkarte und seien Sie dabei\, wenn es heißt: „Senk ju vor träwelling wis Deutsche Bahn!“ \nPremiere:\nSamstag\, 26. April 2025\, 20.00 Uhr\nweitere Aufführungen:\nSonntag\, 27. April 2025\, 19.00 Uhr\nFreitag\, 02. Mai 2025\, 20.00 Uhr\nSamstag\, 03. Mai 2025\, 20.00 Uhr\nSonntag\, 04. Mai 2025\, 19.00 Uhr \nAlle Vorstellungen finden im katholischen Pfarrzentrum\, Klosterstraße 48\,\n41379 Brüggen statt. \nKarten können ab Februar 2025 bei den Vorverkaufsstellen Exquisit & Arte Donare\, Erika‘s Choko-Lädchen in Brüggen und Bäckerei Lehnen in Born erworben werden oder per Email an karten@spielschar-brueggen.de reserviert werden. Bitte informieren Sie sich auch an unserem Schaukasten Klosterstraße 5\, 41379 Brüggen. Die Spielschar Brüggen e.V. wurde 1932 von Leonhard Jansen gegründet und führt seitdem\nunter dem Motto „Bürger spielen für Bürger“ Theaterstücke in Brüggen und Umgebung auf.
URL:https://bewusst-brueggen.de/kalender/spielschar-brueggen-es-faehrt-kein-zug-nach-irgendwo/2025-04-26/
LOCATION:Katholisches Pfarrzentrum Brüggen\, Klosterstraße 48\, Brüggen\, 41379
CATEGORIES:Kultur
ATTACH;FMTTYPE=image/jpeg:https://bewusst-brueggen.de/wp-content/uploads/2024/11/terminkarte.jpg
ORGANIZER;CN="Spielschar Br%C3%BCggen - Ren%C3%A9 Heimes":MAILTO:info@spielschar-brueggen.de
END:VEVENT
BEGIN:VEVENT
DTSTART;VALUE=DATE:20240921
DTEND;VALUE=DATE:20240923
DTSTAMP:20260420T070607
CREATED:20240321T091848Z
LAST-MODIFIED:20240821T080651Z
UID:10002941-1726876800-1727049599@bewusst-brueggen.de
SUMMARY:Genuss- und Lifestyle-Messe
DESCRIPTION:Verkaufs- und Ausstellungsmesse für Genuss und Lifestyle von und für Direktvertriebe z. B. JEMAKO\, Thermomix\, Tupperware u. a. Samstag von 17.00 bis 21.00 Uhr\, Sonntag von 10.00 bis 18.00 Uhr
URL:https://bewusst-brueggen.de/kalender/genuss-und-lifestyle-messe/
LOCATION:Katholisches Pfarrzentrum Brüggen\, Klosterstraße 48\, Brüggen\, 41379
CATEGORIES:Feste / Märkte,Verschiedenes
END:VEVENT
BEGIN:VEVENT
DTSTART;TZID=Europe/Berlin:20240616T150000
DTEND;TZID=Europe/Berlin:20240616T163000
DTSTAMP:20260420T070607
CREATED:20240507T102937Z
LAST-MODIFIED:20240529T094221Z
UID:10002987-1718550000-1718555400@bewusst-brueggen.de
SUMMARY:Aktionswoche: „Das Herz wird nicht dement“
DESCRIPTION:Ein Vortrag über einen Teil des Menschen\, der durch die Demenz nicht verloren geht. \nEs handelt sich um eine Veranstaltung im Rahmen der Aktionswoche „Rund um’s älter werden“ 2024.\nDie Veranstaltung ist kostenlos und frei zugänglich. Alle Interessierten sind herzlich willkommen\, kommen Sie gerne vorbei! \nBei Rückfragen zu der Veranstaltung oder der gesamten Aktionswoche können Sie sich bei Frau Klerckx oder Herrn Hink unter 02153 898 5032\, -5020 melden oder per Mail an senioren@nettetal.de wenden. \nWir freuen uns auf zahlreiche Teilnehmende und wünschen Ihnen viel Spaß bei der Aktionswoche 2024!
URL:https://bewusst-brueggen.de/kalender/aktionswoche-das-herz-wird-nicht-dement/
LOCATION:Katholisches Pfarrzentrum Brüggen\, Klosterstraße 48\, Brüggen\, 41379
CATEGORIES:Senioren,Soziales
ATTACH;FMTTYPE=image/jpeg:https://bewusst-brueggen.de/wp-content/uploads/2024/05/bewusst-brueggen-seniorenwoche-veranstaltung.jpg
ORGANIZER;CN="Seniorenberatung Br%C3%BCggen/Nettetal%2C Pflegest%C3%BCtzpunkt":MAILTO:sebastian.hink@nettetal.de
END:VEVENT
BEGIN:VEVENT
DTSTART;TZID=Europe/Berlin:20240414T190000
DTEND;TZID=Europe/Berlin:20240414T220000
DTSTAMP:20260420T070607
CREATED:20240109T110830Z
LAST-MODIFIED:20240109T110830Z
UID:10001213-1713121200-1713132000@bewusst-brueggen.de
SUMMARY:Spielschar Brüggen – „Escape Room „Nail-Diamonds““
DESCRIPTION:Eine Krimikomödie von Michael Schmid \nIm Nagelstudio „Nail-Diamonds“ laufen illegale Geschäfte. Besitzerin Carmen und ihr Hausmeister Karl schmuggeln Diamanten im großen Stil\, indem sie diese wertvollen Steinchen in die Fingernägel ihrer Stammkundin Anita einarbeiten. Die drei sind gerade dabei\, an einem Sonntag\, einen großen Deal vorzubereiten\, als alles aus dem Ruder läuft. Plötzlich taucht Mitarbeiterin Lara\, ein neuer Kunde und die Vertreterin für Nagelprodukte im Nagelstudio auf. Alle wurden unter falschem Vorwand hergelockt. Natürlich möchten Carmen und ihre Mitwisser die ungebetenen Gäste loswerden\, doch plötzlich sind die Türen und Fenster verriegelt und alle sind gefangen. Panik und Angst machen sich breit und dann geschieht ein Mord … \nPremiere:\nSamstag\, 06. April 2024\, 20.00 Uhr \nweitere Aufführungen:\nSonntag\, 07. April 2024\, 19.00 Uhr\nFreitag\, 12. April 2024\, 20.00 Uhr\nSamstag\, 13. April 2024\, 20.00 Uhr\nSonntag\, 14. April 2024\, 19.00 Uhr \nAlle Vorstellungen finden im katholischen Pfarrzentrum\, Klosterstraße 48\, 41379 Brüggen statt. \nKarten können ab Februar 2024 bei den Vorverkaufsstellen Exquisit & Arte Donare\, Erika‘s Schoko-Lädchen in Brüggen und Bäckerei Lehnen in Born erworben werden oder ab sofort per Email an karten@spielschar-brueggen.de reserviert werden. \nBitte informieren Sie sich auch an unserem Schaukasten Klosterstraße 5\, 41379 Brüggen.\nDie Spielschar Brüggen e.V. wurde 1932 von Leonhard Jansen gegründet und führt seitdem unter dem Motto „Bürger spielen für Bürger“ Theaterstücke in Brüggen und Umgebung auf. \nTickets: 10 Euro Vorverkauf / 12 Euro Abendkasse \nKontaktdaten:\nSpielschar Brüggen e.V.\nRené Heimes \nTelefon: 02163 5724987\ninfo@spielschar-brueggen.de\nwww.spielschar-brueggen.de\nwww.facebook.com/spielschar
URL:https://bewusst-brueggen.de/kalender/spielschar-brueggen-escape-room-nail-diamonds-4/
LOCATION:Katholisches Pfarrzentrum Brüggen\, Klosterstraße 48\, Brüggen\, 41379
CATEGORIES:Kultur
ORGANIZER;CN="Spielschar Br%C3%BCggen - Ren%C3%A9 Heimes":MAILTO:info@spielschar-brueggen.de
END:VEVENT
BEGIN:VEVENT
DTSTART;TZID=Europe/Berlin:20240413T190000
DTEND;TZID=Europe/Berlin:20240413T220000
DTSTAMP:20260420T070607
CREATED:20240109T110744Z
LAST-MODIFIED:20240109T110744Z
UID:10001212-1713034800-1713045600@bewusst-brueggen.de
SUMMARY:Spielschar Brüggen – „Escape Room „Nail-Diamonds““
DESCRIPTION:Eine Krimikomödie von Michael Schmid \nIm Nagelstudio „Nail-Diamonds“ laufen illegale Geschäfte. Besitzerin Carmen und ihr Hausmeister Karl schmuggeln Diamanten im großen Stil\, indem sie diese wertvollen Steinchen in die Fingernägel ihrer Stammkundin Anita einarbeiten. Die drei sind gerade dabei\, an einem Sonntag\, einen großen Deal vorzubereiten\, als alles aus dem Ruder läuft. Plötzlich taucht Mitarbeiterin Lara\, ein neuer Kunde und die Vertreterin für Nagelprodukte im Nagelstudio auf. Alle wurden unter falschem Vorwand hergelockt. Natürlich möchten Carmen und ihre Mitwisser die ungebetenen Gäste loswerden\, doch plötzlich sind die Türen und Fenster verriegelt und alle sind gefangen. Panik und Angst machen sich breit und dann geschieht ein Mord … \nPremiere:\nSamstag\, 06. April 2024\, 20.00 Uhr \nweitere Aufführungen:\nSonntag\, 07. April 2024\, 19.00 Uhr\nFreitag\, 12. April 2024\, 20.00 Uhr\nSamstag\, 13. April 2024\, 20.00 Uhr\nSonntag\, 14. April 2024\, 19.00 Uhr \nAlle Vorstellungen finden im katholischen Pfarrzentrum\, Klosterstraße 48\, 41379 Brüggen statt. \nKarten können ab Februar 2024 bei den Vorverkaufsstellen Exquisit & Arte Donare\, Erika‘s Schoko-Lädchen in Brüggen und Bäckerei Lehnen in Born erworben werden oder ab sofort per Email an karten@spielschar-brueggen.de reserviert werden. \nBitte informieren Sie sich auch an unserem Schaukasten Klosterstraße 5\, 41379 Brüggen.\nDie Spielschar Brüggen e.V. wurde 1932 von Leonhard Jansen gegründet und führt seitdem unter dem Motto „Bürger spielen für Bürger“ Theaterstücke in Brüggen und Umgebung auf. \nTickets: 10 Euro Vorverkauf / 12 Euro Abendkasse \nKontaktdaten:\nSpielschar Brüggen e.V.\nRené Heimes \nTelefon: 02163 5724987\ninfo@spielschar-brueggen.de\nwww.spielschar-brueggen.de\nwww.facebook.com/spielschar
URL:https://bewusst-brueggen.de/kalender/spielschar-brueggen-escape-room-nail-diamonds-3/
LOCATION:Katholisches Pfarrzentrum Brüggen\, Klosterstraße 48\, Brüggen\, 41379
CATEGORIES:Kultur
ORGANIZER;CN="Spielschar Br%C3%BCggen - Ren%C3%A9 Heimes":MAILTO:info@spielschar-brueggen.de
END:VEVENT
BEGIN:VEVENT
DTSTART;TZID=Europe/Berlin:20240412T200000
DTEND;TZID=Europe/Berlin:20240412T230000
DTSTAMP:20260420T070607
CREATED:20240109T110633Z
LAST-MODIFIED:20240109T110633Z
UID:10001211-1712952000-1712962800@bewusst-brueggen.de
SUMMARY:Spielschar Brüggen – „Escape Room „Nail-Diamonds““
DESCRIPTION:Eine Krimikomödie von Michael Schmid \nIm Nagelstudio „Nail-Diamonds“ laufen illegale Geschäfte. Besitzerin Carmen und ihr Hausmeister Karl schmuggeln Diamanten im großen Stil\, indem sie diese wertvollen Steinchen in die Fingernägel ihrer Stammkundin Anita einarbeiten. Die drei sind gerade dabei\, an einem Sonntag\, einen großen Deal vorzubereiten\, als alles aus dem Ruder läuft. Plötzlich taucht Mitarbeiterin Lara\, ein neuer Kunde und die Vertreterin für Nagelprodukte im Nagelstudio auf. Alle wurden unter falschem Vorwand hergelockt. Natürlich möchten Carmen und ihre Mitwisser die ungebetenen Gäste loswerden\, doch plötzlich sind die Türen und Fenster verriegelt und alle sind gefangen. Panik und Angst machen sich breit und dann geschieht ein Mord … \nPremiere:\nSamstag\, 06. April 2024\, 20.00 Uhr \nweitere Aufführungen:\nSonntag\, 07. April 2024\, 19.00 Uhr\nFreitag\, 12. April 2024\, 20.00 Uhr\nSamstag\, 13. April 2024\, 20.00 Uhr\nSonntag\, 14. April 2024\, 19.00 Uhr \nAlle Vorstellungen finden im katholischen Pfarrzentrum\, Klosterstraße 48\, 41379 Brüggen statt. \nKarten können ab Februar 2024 bei den Vorverkaufsstellen Exquisit & Arte Donare\, Erika‘s Schoko-Lädchen in Brüggen und Bäckerei Lehnen in Born erworben werden oder ab sofort per Email an karten@spielschar-brueggen.de reserviert werden. \nBitte informieren Sie sich auch an unserem Schaukasten Klosterstraße 5\, 41379 Brüggen.\nDie Spielschar Brüggen e.V. wurde 1932 von Leonhard Jansen gegründet und führt seitdem unter dem Motto „Bürger spielen für Bürger“ Theaterstücke in Brüggen und Umgebung auf. \nTickets: 10 Euro Vorverkauf / 12 Euro Abendkasse \nKontaktdaten:\nSpielschar Brüggen e.V.\nRené Heimes \nTelefon: 02163 5724987\ninfo@spielschar-brueggen.de\nwww.spielschar-brueggen.de\nwww.facebook.com/spielschar
URL:https://bewusst-brueggen.de/kalender/spielschar-brueggen-escape-room-nail-diamonds-2/
LOCATION:Katholisches Pfarrzentrum Brüggen\, Klosterstraße 48\, Brüggen\, 41379
CATEGORIES:Kultur
ORGANIZER;CN="Spielschar Br%C3%BCggen - Ren%C3%A9 Heimes":MAILTO:info@spielschar-brueggen.de
END:VEVENT
BEGIN:VEVENT
DTSTART;TZID=Europe/Berlin:20240407T190000
DTEND;TZID=Europe/Berlin:20240407T220000
DTSTAMP:20260420T070607
CREATED:20240105T091830Z
LAST-MODIFIED:20240109T102214Z
UID:10001210-1712516400-1712527200@bewusst-brueggen.de
SUMMARY:Spielschar Brüggen – „Escape Room „Nail-Diamonds““
DESCRIPTION:Eine Krimikomödie von Michael Schmid \nIm Nagelstudio „Nail-Diamonds“ laufen illegale Geschäfte. Besitzerin Carmen und ihr Hausmeister Karl schmuggeln Diamanten im großen Stil\, indem sie diese wertvollen Steinchen in die Fingernägel ihrer Stammkundin Anita einarbeiten. Die drei sind gerade dabei\, an einem Sonntag\, einen großen Deal vorzubereiten\, als alles aus dem Ruder läuft. Plötzlich taucht Mitarbeiterin Lara\, ein neuer Kunde und die Vertreterin für Nagelprodukte im Nagelstudio auf. Alle wurden unter falschem Vorwand hergelockt. Natürlich möchten Carmen und ihre Mitwisser die ungebetenen Gäste loswerden\, doch plötzlich sind die Türen und Fenster verriegelt und alle sind gefangen. Panik und Angst machen sich breit und dann geschieht ein Mord … \nPremiere:\nSamstag\, 06. April 2024\, 20.00 Uhr \nweitere Aufführungen:\nSonntag\, 07. April 2024\, 19.00 Uhr\nFreitag\, 12. April 2024\, 20.00 Uhr\nSamstag\, 13. April 2024\, 20.00 Uhr\nSonntag\, 14. April 2024\, 19.00 Uhr \nAlle Vorstellungen finden im katholischen Pfarrzentrum\, Klosterstraße 48\, 41379 Brüggen statt. \nKarten können ab Februar 2024 bei den Vorverkaufsstellen Exquisit & Arte Donare\, Erika‘s Schoko-Lädchen in Brüggen und Bäckerei Lehnen in Born erworben werden oder ab sofort per Email an karten@spielschar-brueggen.de reserviert werden. \nBitte informieren Sie sich auch an unserem Schaukasten Klosterstraße 5\, 41379 Brüggen.\nDie Spielschar Brüggen e.V. wurde 1932 von Leonhard Jansen gegründet und führt seitdem unter dem Motto „Bürger spielen für Bürger“ Theaterstücke in Brüggen und Umgebung auf. \nTickets: 10 Euro Vorverkauf / 12 Euro Abendkasse \nKontaktdaten:\nSpielschar Brüggen e.V.\nRené Heimes \nTelefon: 02163 5724987\ninfo@spielschar-brueggen.de\nwww.spielschar-brueggen.de\nwww.facebook.com/spielschar
URL:https://bewusst-brueggen.de/kalender/spielschar-brueggen-escape-room-nail-diamonds/
LOCATION:Katholisches Pfarrzentrum Brüggen\, Klosterstraße 48\, Brüggen\, 41379
CATEGORIES:Kultur
ORGANIZER;CN="Spielschar Br%C3%BCggen - Ren%C3%A9 Heimes":MAILTO:info@spielschar-brueggen.de
END:VEVENT
BEGIN:VEVENT
DTSTART;TZID=Europe/Berlin:20240406T200000
DTEND;TZID=Europe/Berlin:20240406T230000
DTSTAMP:20260420T070607
CREATED:20240109T110926Z
LAST-MODIFIED:20240109T111104Z
UID:10001209-1712433600-1712444400@bewusst-brueggen.de
SUMMARY:Spielschar Brüggen – „Escape Room „Nail-Diamonds““
DESCRIPTION:Eine Krimikomödie von Michael Schmid \nIm Nagelstudio „Nail-Diamonds“ laufen illegale Geschäfte. Besitzerin Carmen und ihr Hausmeister Karl schmuggeln Diamanten im großen Stil\, indem sie diese wertvollen Steinchen in die Fingernägel ihrer Stammkundin Anita einarbeiten. Die drei sind gerade dabei\, an einem Sonntag\, einen großen Deal vorzubereiten\, als alles aus dem Ruder läuft. Plötzlich taucht Mitarbeiterin Lara\, ein neuer Kunde und die Vertreterin für Nagelprodukte im Nagelstudio auf. Alle wurden unter falschem Vorwand hergelockt. Natürlich möchten Carmen und ihre Mitwisser die ungebetenen Gäste loswerden\, doch plötzlich sind die Türen und Fenster verriegelt und alle sind gefangen. Panik und Angst machen sich breit und dann geschieht ein Mord … \nPremiere:\nSamstag\, 06. April 2024\, 20.00 Uhr \nweitere Aufführungen:\nSonntag\, 07. April 2024\, 19.00 Uhr\nFreitag\, 12. April 2024\, 20.00 Uhr\nSamstag\, 13. April 2024\, 20.00 Uhr\nSonntag\, 14. April 2024\, 19.00 Uhr \nAlle Vorstellungen finden im katholischen Pfarrzentrum\, Klosterstraße 48\, 41379 Brüggen statt. \nKarten können ab Februar 2024 bei den Vorverkaufsstellen Exquisit & Arte Donare\, Erika‘s Schoko-Lädchen in Brüggen und Bäckerei Lehnen in Born erworben werden oder ab sofort per Email an karten@spielschar-brueggen.de reserviert werden. \nBitte informieren Sie sich auch an unserem Schaukasten Klosterstraße 5\, 41379 Brüggen.\nDie Spielschar Brüggen e.V. wurde 1932 von Leonhard Jansen gegründet und führt seitdem unter dem Motto „Bürger spielen für Bürger“ Theaterstücke in Brüggen und Umgebung auf. \n10 Euro Vorverkauf / 12 Euro Abendkasse \nKontaktdaten:\nSpielschar Brüggen e.V.\nRené Heimes\nTelefon: 02163 5724987\ninfo@spielschar-brueggen.de\nwww.spielschar-brueggen.de\nwww.facebook.com/spielschar
URL:https://bewusst-brueggen.de/kalender/spielschar-brueggen-escape-room-nail-diamonds-5/
LOCATION:Katholisches Pfarrzentrum Brüggen\, Klosterstraße 48\, Brüggen\, 41379
CATEGORIES:Kultur
ORGANIZER;CN="Spielschar Br%C3%BCggen - Ren%C3%A9 Heimes":MAILTO:info@spielschar-brueggen.de
END:VEVENT
BEGIN:VEVENT
DTSTART;TZID=Europe/Berlin:20240315T190000
DTEND;TZID=Europe/Berlin:20240315T233000
DTSTAMP:20260420T070607
CREATED:20240219T082903Z
LAST-MODIFIED:20240219T082903Z
UID:10002891-1710529200-1710545400@bewusst-brueggen.de
SUMMARY:Frühlingshexen der St. Petri Bruderschaft Oebel-Gelagweg
DESCRIPTION:Die Sankt Petri Bruderschaft Oebel-Gelagweg lädt zu Ihrem traditionellen Frühlingshexen ein. \nIn 4-5 Runden werden zahlreiche hochwertige Preise verlost – von Sachpreisen\, über Gutscheine der ortsansässigen Läden bis hin zu hochwertigen Fleischstücken & Wurstwaren. \nEs werden\, passend zur Einstimmung auf Ostern\, bunte Eier als Snack bereitgestellt und kühle Getränke können zu günstigen Preisen erworben werden. \nDer Erlös des Hexens kommt unserem Königshaus zu Gute für das diesjährige Schützenfest. \nWir freuen uns auf große\, kleine\, junge und junggeblieben Besucher und auf einen geselligen Abend!
URL:https://bewusst-brueggen.de/kalender/fruehlingshexen-der-st-petri-bruderschaft-oebel-gelagweg/
LOCATION:Katholisches Pfarrzentrum Brüggen\, Klosterstraße 48\, Brüggen\, 41379
CATEGORIES:Verschiedenes
ATTACH;FMTTYPE=image/jpeg:https://bewusst-brueggen.de/wp-content/uploads/2024/02/Fruehlingshexen-2023-1-e1709029131149.jpg
ORGANIZER;CN="Sankt Petri-Bruderschaft Oebel-Gelagweg 1786 e.V.":MAILTO:riedel.brueggen@t-online.de
END:VEVENT
END:VCALENDAR