BEGIN:VCALENDAR
VERSION:2.0
PRODID:-//Bewusst Brüggen - ECPv6.15.20//NONSGML v1.0//EN
CALSCALE:GREGORIAN
METHOD:PUBLISH
X-WR-CALNAME:Bewusst Brüggen
X-ORIGINAL-URL:https://bewusst-brueggen.de
X-WR-CALDESC:Veranstaltungen für Bewusst Brüggen
REFRESH-INTERVAL;VALUE=DURATION:PT1H
X-Robots-Tag:noindex
X-PUBLISHED-TTL:PT1H
BEGIN:VTIMEZONE
TZID:Europe/Berlin
BEGIN:DAYLIGHT
TZOFFSETFROM:+0100
TZOFFSETTO:+0200
TZNAME:CEST
DTSTART:20220327T010000
END:DAYLIGHT
BEGIN:STANDARD
TZOFFSETFROM:+0200
TZOFFSETTO:+0100
TZNAME:CET
DTSTART:20221030T010000
END:STANDARD
BEGIN:DAYLIGHT
TZOFFSETFROM:+0100
TZOFFSETTO:+0200
TZNAME:CEST
DTSTART:20230326T010000
END:DAYLIGHT
BEGIN:STANDARD
TZOFFSETFROM:+0200
TZOFFSETTO:+0100
TZNAME:CET
DTSTART:20231029T010000
END:STANDARD
BEGIN:DAYLIGHT
TZOFFSETFROM:+0100
TZOFFSETTO:+0200
TZNAME:CEST
DTSTART:20240331T010000
END:DAYLIGHT
BEGIN:STANDARD
TZOFFSETFROM:+0200
TZOFFSETTO:+0100
TZNAME:CET
DTSTART:20241027T010000
END:STANDARD
BEGIN:DAYLIGHT
TZOFFSETFROM:+0100
TZOFFSETTO:+0200
TZNAME:CEST
DTSTART:20250330T010000
END:DAYLIGHT
BEGIN:STANDARD
TZOFFSETFROM:+0200
TZOFFSETTO:+0100
TZNAME:CET
DTSTART:20251026T010000
END:STANDARD
BEGIN:DAYLIGHT
TZOFFSETFROM:+0100
TZOFFSETTO:+0200
TZNAME:CEST
DTSTART:20260329T010000
END:DAYLIGHT
BEGIN:STANDARD
TZOFFSETFROM:+0200
TZOFFSETTO:+0100
TZNAME:CET
DTSTART:20261025T010000
END:STANDARD
END:VTIMEZONE
BEGIN:VEVENT
DTSTART;VALUE=DATE:20251212
DTEND;VALUE=DATE:20251215
DTSTAMP:20260420T004110
CREATED:20251201T105924Z
LAST-MODIFIED:20251201T110258Z
UID:10006019-1765497600-1765756799@bewusst-brueggen.de
SUMMARY:Ausleuchtung der Kirche Sankt Nikolaus Brüggen
DESCRIPTION:Zum Weihnachtsmarkt wird die Kirche St. Nikolaus Brüggen wieder ausgeleuchtet. Herzliche Einladung an alle Besucher – abseits von Trubel und Hektik – Zeit zur Besinnung zu finden. \nÖffnungszeiten\nFreitag 12.12. 17:00-20:00 Uhr\nSamstag 13.12. 19:00-20:00 Uhr\nSonntag 14.12. 16:00-19:00 Uhr
URL:https://bewusst-brueggen.de/kalender/ausleuchtung-der-kirche-sankt-nikolaus-brueggen-2/
LOCATION:Kirche St. Nikolaus Brüggen\, Klosterstraße 40\, Brüggen\, 41379
CATEGORIES:Kultur,Verschiedenes
ATTACH;FMTTYPE=image/jpeg:https://bewusst-brueggen.de/wp-content/uploads/2024/11/Ausleuchtung-der-Kirche-.jpg
ORGANIZER;CN="Kulturkirche St. Nikolaus Br%C3%BCggen":MAILTO:Ingrid.Graw@freenet.de
END:VEVENT
BEGIN:VEVENT
DTSTART;TZID=Europe/Berlin:20251130T170000
DTEND;TZID=Europe/Berlin:20251130T183000
DTSTAMP:20260420T004111
CREATED:20251118T090117Z
LAST-MODIFIED:20251118T094752Z
UID:10006030-1764522000-1764527400@bewusst-brueggen.de
SUMMARY:Adventskonzert in Sankt Nikolaus Brüggen
DESCRIPTION:Herzliche Einladung zum Adventskonzert mit dem Musikverein Cäcilia Brüggen 1910\, ars cantandi und Floris van Gils an der Orgel.
URL:https://bewusst-brueggen.de/kalender/adventskonzert-in-sankt-nikolaus-brueggen/
LOCATION:Kirche St. Nikolaus Brüggen\, Klosterstraße 40\, Brüggen\, 41379
CATEGORIES:Kultur
ATTACH;FMTTYPE=image/png:https://bewusst-brueggen.de/wp-content/uploads/2025/11/Resources.png
ORGANIZER;CN="Kulturkirche St. Nikolaus Br%C3%BCggen":MAILTO:Ingrid.Graw@freenet.de
END:VEVENT
BEGIN:VEVENT
DTSTART;TZID=Europe/Berlin:20250831T150000
DTEND;TZID=Europe/Berlin:20250831T153000
DTSTAMP:20260420T004111
CREATED:20250717T085123Z
LAST-MODIFIED:20250717T085123Z
UID:10005482-1756652400-1756654200@bewusst-brueggen.de
SUMMARY:SommerMusik
DESCRIPTION:Orgelkonzert mit Martien de Vos aus Ooltgensplaat (Niederlande)
URL:https://bewusst-brueggen.de/kalender/sommermusik-5/
LOCATION:Kirche St. Nikolaus Brüggen\, Klosterstraße 40\, Brüggen\, 41379
CATEGORIES:Kultur
ATTACH;FMTTYPE=image/jpeg:https://bewusst-brueggen.de/wp-content/uploads/2025/07/08-Plakat-Konzertreihe-Brueggen-Definitiv-3.jpg
ORGANIZER;CN="Kulturkirche St. Nikolaus Br%C3%BCggen":MAILTO:Ingrid.Graw@freenet.de
END:VEVENT
BEGIN:VEVENT
DTSTART;TZID=Europe/Berlin:20250824T150000
DTEND;TZID=Europe/Berlin:20250824T153000
DTSTAMP:20260420T004111
CREATED:20250717T085225Z
LAST-MODIFIED:20250717T085225Z
UID:10005476-1756047600-1756049400@bewusst-brueggen.de
SUMMARY:SommerMusik
DESCRIPTION:Konzert mit Cembalo in St. Nikolaus Brüggen mit Melchior Kupke aus Essen
URL:https://bewusst-brueggen.de/kalender/sommermusik-6/
LOCATION:Kirche St. Nikolaus Brüggen\, Klosterstraße 40\, Brüggen\, 41379
CATEGORIES:Kultur
ATTACH;FMTTYPE=image/jpeg:https://bewusst-brueggen.de/wp-content/uploads/2025/07/08-Plakat-Konzertreihe-Brueggen-Definitiv-3.jpg
ORGANIZER;CN="Kulturkirche St. Nikolaus Br%C3%BCggen":MAILTO:Ingrid.Graw@freenet.de
END:VEVENT
BEGIN:VEVENT
DTSTART;TZID=Europe/Berlin:20250817T150000
DTEND;TZID=Europe/Berlin:20250817T153000
DTSTAMP:20260420T004111
CREATED:20250717T085252Z
LAST-MODIFIED:20250717T085252Z
UID:10005483-1755442800-1755444600@bewusst-brueggen.de
SUMMARY:SommerMusik
DESCRIPTION:Marianische Musik mit Josef Ondrij (Bratsche) aus Brüggen und Floris van Gils an der Orgel
URL:https://bewusst-brueggen.de/kalender/sommermusik-7/
LOCATION:Kirche St. Nikolaus Brüggen\, Klosterstraße 40\, Brüggen\, 41379
CATEGORIES:Kultur
ATTACH;FMTTYPE=image/jpeg:https://bewusst-brueggen.de/wp-content/uploads/2025/07/08-Plakat-Konzertreihe-Brueggen-Definitiv-3.jpg
ORGANIZER;CN="Kulturkirche St. Nikolaus Br%C3%BCggen":MAILTO:Ingrid.Graw@freenet.de
END:VEVENT
BEGIN:VEVENT
DTSTART;TZID=Europe/Berlin:20250810T150000
DTEND;TZID=Europe/Berlin:20250810T153000
DTSTAMP:20260420T004111
CREATED:20250717T085312Z
LAST-MODIFIED:20250717T085312Z
UID:10005484-1754838000-1754839800@bewusst-brueggen.de
SUMMARY:SommerMusik
DESCRIPTION:Orgelmusik mit Florisvan Gils aus Brüggen und Diederik Blankesteiln aus Uetrecht
URL:https://bewusst-brueggen.de/kalender/sommermusik-8/
LOCATION:Kirche St. Nikolaus Brüggen\, Klosterstraße 40\, Brüggen\, 41379
CATEGORIES:Kultur
ATTACH;FMTTYPE=image/jpeg:https://bewusst-brueggen.de/wp-content/uploads/2025/07/08-Plakat-Konzertreihe-Brueggen-Definitiv-3.jpg
ORGANIZER;CN="Kulturkirche St. Nikolaus Br%C3%BCggen":MAILTO:Ingrid.Graw@freenet.de
END:VEVENT
BEGIN:VEVENT
DTSTART;TZID=Europe/Berlin:20250622T180000
DTEND;TZID=Europe/Berlin:20250622T193000
DTSTAMP:20260420T004111
CREATED:20250624T090236Z
LAST-MODIFIED:20250624T090236Z
UID:10005398-1750615200-1750620600@bewusst-brueggen.de
SUMMARY:Benefizkonzert „Du bist ein Wunder“ zugunsten der SOS-Kinderdörfer
DESCRIPTION:Hast du dir heute schon bewusst gemacht\, dass du ein Wunder bist?\nUnter dem Titel „Du bist ein Wunder“ tourt Tobias „Tobi“ Levenig durch Deutschlands Kirchen und singt ermutigende Songs von bekannten Künstlern wie Herbert Grönemeyer\, PUR oder Max Giesinger und lädt das Publikum auch zum Mitsingen ein. Das Vokalensemble Ars cantandi wird das Programm mit weiteren Stücken bereichern. \nWeitere Infos:\nTobi\, der seinen Beruf als Gymnasiallehrer für diese Benefiztour pausiert\, blickt als Sänger auf über 500 Konzerte in zahlreichen Konstellationen\, Bands und Ensembles zurück: von Auftritten vor über 70.000 Menschen im Fußballstadion über TV-Übertragungen bis hin zu Musical- und Orchesterprojekten. Mit seiner warmen Bariton-Stimme verleiht er den Songs einen individuellen Charme\, irgendwo zwischen Singer-Songwriter-Pop\, Gospel- und Soulmusik. Das abwechslungsreiche Programm des Konzertes spannt mehrfach den Bogen zum knapp 800 Kilometer langen Jakobsweg\, den Tobi im Sommer 2021 bis nach Santiago de Compostela gepilgert ist. Durch Impulse und Moderationen zwischen den Liedern möchte der Sänger die Anwesenden an dieser Reise und den damit verbundenen Emotionen teilhaben lassen\, nicht zuletzt durch das gemeinsame Singen einiger ausgewählter Stücke. Das Ziel dieser Konzertreihe: Menschen mit Musik inspirieren\, die Welt reicher an Erfahrung machen und 100.000 Euro für die SOS-Kinderdörfer sammeln. Sie sind herzlich eingeladen!
URL:https://bewusst-brueggen.de/kalender/benefizkonzert-du-bist-ein-wunder-zugunsten-der-sos-kinderdoerfer/
LOCATION:Kirche St. Nikolaus Brüggen\, Klosterstraße 40\, Brüggen\, 41379
CATEGORIES:Kultur
ORGANIZER;CN="Pfarrb%C3%BCro St. Nikolaus":MAILTO:ingrid.graw@freenet.de
END:VEVENT
BEGIN:VEVENT
DTSTART;TZID=Europe/Berlin:20241215T160000
DTEND;TZID=Europe/Berlin:20241215T163000
DTSTAMP:20260420T004111
CREATED:20241122T114314Z
LAST-MODIFIED:20241122T114439Z
UID:10004163-1734278400-1734280200@bewusst-brueggen.de
SUMMARY:Orgelmusik Pfarrkirche St. Nikolaus Brüggen
DESCRIPTION:Während der Ausleuchtung der Pfarrkirche St. Nikolaus wird am Sonntag den 15.12 in der Zeit von 16- 16:30 Uhr Felix Jonzyck dieses Event an der Orgel begleiten.
URL:https://bewusst-brueggen.de/kalender/orgelmusik-pfarrkirche-st-nikolaus-brueggen-2/
LOCATION:Kirche St. Nikolaus Brüggen\, Klosterstraße 40\, Brüggen\, 41379
CATEGORIES:Kultur
ATTACH;FMTTYPE=image/jpeg:https://bewusst-brueggen.de/wp-content/uploads/2023/08/bewusst-brueggen-klosterkirche-st-nikolaus.jpg
ORGANIZER;CN="Kulturkirche St. Nikolaus Br%C3%BCggen":MAILTO:Ingrid.Graw@freenet.de
END:VEVENT
BEGIN:VEVENT
DTSTART;TZID=Europe/Berlin:20241213T190000
DTEND;TZID=Europe/Berlin:20241213T193000
DTSTAMP:20260420T004111
CREATED:20241122T112730Z
LAST-MODIFIED:20241122T114002Z
UID:10004162-1734116400-1734118200@bewusst-brueggen.de
SUMMARY:Orgelmusik Pfarrkirche St. Nikolaus Brüggen
DESCRIPTION:Während der Ausleuchtung der Pfarrkirche St. Nikolaus Brüggen wird am Freitag um 19:00 -19:30 Uhr Floris van Gils auf der Orgel dieses Event begleiten.
URL:https://bewusst-brueggen.de/kalender/orgelmusik-pfarrkirche-st-nikolaus-brueggen/
LOCATION:Kirche St. Nikolaus Brüggen\, Klosterstraße 40\, Brüggen\, 41379
CATEGORIES:Kultur
ATTACH;FMTTYPE=image/jpeg:https://bewusst-brueggen.de/wp-content/uploads/2023/03/bewusst-brueggen-events-verschiedenes.jpg
ORGANIZER;CN="Kulturkirche St. Nikolaus Br%C3%BCggen":MAILTO:Ingrid.Graw@freenet.de
END:VEVENT
BEGIN:VEVENT
DTSTART;VALUE=DATE:20241213
DTEND;VALUE=DATE:20241216
DTSTAMP:20260420T004111
CREATED:20241104T093504Z
LAST-MODIFIED:20251201T110302Z
UID:10003358-1734048000-1734307199@bewusst-brueggen.de
SUMMARY:Ausleuchtung Pfarrkirche St. Nikolaus Brüggen
DESCRIPTION:Einladung zur Stille und Einkehr\, abseits von Trubel und Hektik. \nFreitag\, 13.12.: 17:00-20:00 Uhr\nSamstag\, 14.12.: 19:00-21:00 Uhr\nSonntag\, 15.12.: 16:00-19:00 Uhr \n 
URL:https://bewusst-brueggen.de/kalender/ausleuchtung-pfarrkirche-st-nikolaus-brueggen-2/
LOCATION:Kirche St. Nikolaus Brüggen\, Klosterstraße 40\, Brüggen\, 41379
CATEGORIES:Kultur,Verschiedenes
ATTACH;FMTTYPE=image/jpeg:https://bewusst-brueggen.de/wp-content/uploads/2024/11/Ausleuchtung-der-Kirche-.jpg
ORGANIZER;CN="Kulturkirche St. Nikolaus Br%C3%BCggen":MAILTO:Ingrid.Graw@freenet.de
END:VEVENT
BEGIN:VEVENT
DTSTART;TZID=Europe/Berlin:20241206T200000
DTEND;TZID=Europe/Berlin:20241206T220000
DTSTAMP:20260420T004111
CREATED:20241111T102805Z
LAST-MODIFIED:20241111T102805Z
UID:10004157-1733515200-1733522400@bewusst-brueggen.de
SUMMARY:CHRISTMAS JOY-Benefiz-Weihnachtskonzert der Family of Joy Gospelsingers
DESCRIPTION:Die Family of Joy Gospelsingers laden herzlich zum Mitsingen\, Mittanzen und\nKennenlernen ein. Am Freitag\, den 6. Dezember 2024 um 20:00 Uhr in der Kirche St. Nikolaus gibt\ndie Family of Joy ihr erstes Konzert seit Gründung des Chores. \nDas Publikum darf sich neben stimmungsvollen Weihnachtsliedern auf\nschwungvolle Gospels und Traditionals freuen. \nBenefizempfänger wird der Freundeskreis Jugendhilfe Schloss Dilborn e.V. sein\, der sich finanziell\, ideell\nund öffentlichkeitswirksam für Kinder und Jugendliche der Brüggener Jugendhilfeeinrichtung einsetzt. \nDie Family of Joy Gospelsingers freuen sich auf die besondere Gelegenheit\, ihre Freude an der Musik\nund der Botschaft dahinter zu teilen – kommen Sie vorbei und überzeugen Sie sich selbst.
URL:https://bewusst-brueggen.de/kalender/christmas-joy-benefiz-weihnachtskonzert-der-family-of-joy-gospelsingers/
LOCATION:Kirche St. Nikolaus Brüggen\, Klosterstraße 40\, Brüggen\, 41379
CATEGORIES:Kultur
ATTACH;FMTTYPE=image/jpeg:https://bewusst-brueggen.de/wp-content/uploads/2024/11/IMG_8986.jpg
ORGANIZER;CN="Kulturkirche St. Nikolaus Br%C3%BCggen":MAILTO:Ingrid.Graw@freenet.de
END:VEVENT
BEGIN:VEVENT
DTSTART;TZID=Europe/Berlin:20241201T170000
DTEND;TZID=Europe/Berlin:20241201T183000
DTSTAMP:20260420T004111
CREATED:20241011T112551Z
LAST-MODIFIED:20241028T121708Z
UID:10003327-1733072400-1733077800@bewusst-brueggen.de
SUMMARY:Adventskonzert in Sankt Nikolaus
DESCRIPTION:Die Pfarrgemeinde St. Nikolaus in Brüggen lädt wieder ein zu ihrem schon traditionellen Adventskonzert am 1. Adventssonntag um 17 Uhr in die Kirche St. Nikolaus. \nLassen Sie sich in den Advent einstimmen mit stimmungsvoller und abwechslungsreicher Musik vom Musikverein Cäcilia\, dem a capella Ensemble ars cantandi\, einem Projektchor aus Wassenberg\, sowie mit Orgelmusik. Unterbrochen wird die Musik mit kleinen\, heiter besinnlichen Texten. Es dürfen auch von allen zwei Adventslieder mitgesungen werden. \nNach dem Konzert besteht die Möglichkeit einer Spende für den Förderverein von St. Nikolaus. \n  \n 
URL:https://bewusst-brueggen.de/kalender/adventskonzert-in-sankt-nikolaus/
LOCATION:Kirche St. Nikolaus Brüggen\, Klosterstraße 40\, Brüggen\, 41379
CATEGORIES:Kultur
ORGANIZER;CN="Kulturkirche St. Nikolaus Br%C3%BCggen":MAILTO:Ingrid.Graw@freenet.de
END:VEVENT
BEGIN:VEVENT
DTSTART;TZID=Europe/Berlin:20240825T150000
DTEND;TZID=Europe/Berlin:20240825T153000
DTSTAMP:20260420T004111
CREATED:20240617T080101Z
LAST-MODIFIED:20240708T055502Z
UID:10003034-1724598000-1724599800@bewusst-brueggen.de
SUMMARY:SommerMusik mit Floris van Gils
DESCRIPTION:Orgelkonzert in der Pfarrkirche St. Nikolaus Brüggen mit Floris van Gils
URL:https://bewusst-brueggen.de/kalender/sommermusik-4/
LOCATION:Kirche St. Nikolaus Brüggen\, Klosterstraße 40\, Brüggen\, 41379
CATEGORIES:Kultur
ORGANIZER;CN="Kulturkirche St. Nikolaus Br%C3%BCggen":MAILTO:Ingrid.Graw@freenet.de
END:VEVENT
BEGIN:VEVENT
DTSTART;TZID=Europe/Berlin:20240818T150000
DTEND;TZID=Europe/Berlin:20240818T153000
DTSTAMP:20260420T004111
CREATED:20240617T075709Z
LAST-MODIFIED:20240708T055627Z
UID:10003031-1723993200-1723995000@bewusst-brueggen.de
SUMMARY:SommerMusik mit Diederik Blankesteijn
DESCRIPTION:Orgelkonzert in der Pfarrkirche St. Nikolaus Brüggen mit Diederik Blankesteijn aus Utrecht
URL:https://bewusst-brueggen.de/kalender/sommermusik-3/
LOCATION:Kirche St. Nikolaus Brüggen\, Klosterstraße 40\, Brüggen\, 41379
CATEGORIES:Kultur
ORGANIZER;CN="Kulturkirche St. Nikolaus Br%C3%BCggen":MAILTO:Ingrid.Graw@freenet.de
END:VEVENT
BEGIN:VEVENT
DTSTART;TZID=Europe/Berlin:20240811T150000
DTEND;TZID=Europe/Berlin:20240811T153000
DTSTAMP:20260420T004111
CREATED:20240617T074637Z
LAST-MODIFIED:20240708T055546Z
UID:10003032-1723388400-1723390200@bewusst-brueggen.de
SUMMARY:SommerMusik mit Joel Boone aus Den Haag
DESCRIPTION:Orgelkonzert in der Pfarrkirche St. Nikolaus Brüggen mit Joel Boone aus Den Haag
URL:https://bewusst-brueggen.de/kalender/sommermusik/
LOCATION:Kirche St. Nikolaus Brüggen\, Klosterstraße 40\, Brüggen\, 41379
CATEGORIES:Kultur
ORGANIZER;CN="Kulturkirche St. Nikolaus Br%C3%BCggen":MAILTO:Ingrid.Graw@freenet.de
END:VEVENT
BEGIN:VEVENT
DTSTART;TZID=Europe/Berlin:20240804T150000
DTEND;TZID=Europe/Berlin:20240804T153000
DTSTAMP:20260420T004111
CREATED:20240617T075133Z
LAST-MODIFIED:20240708T055607Z
UID:10003033-1722783600-1722785400@bewusst-brueggen.de
SUMMARY:SommerMusik mit Floris van Gils und Theresa Ondruj
DESCRIPTION:Orgelkonzert mit Floris van Gils an der Orgel und Theresa Ondruj am Cello
URL:https://bewusst-brueggen.de/kalender/sommermusik-2/
LOCATION:Kirche St. Nikolaus Brüggen\, Klosterstraße 40\, Brüggen\, 41379
CATEGORIES:Kultur
ORGANIZER;CN="Kulturkirche St. Nikolaus Br%C3%BCggen":MAILTO:Ingrid.Graw@freenet.de
END:VEVENT
BEGIN:VEVENT
DTSTART;TZID=Europe/Berlin:20240301T000000
DTEND;TZID=Europe/Berlin:20240323T000000
DTSTAMP:20260420T004111
CREATED:20240209T102955Z
LAST-MODIFIED:20240209T102955Z
UID:10002889-1709251200-1711152000@bewusst-brueggen.de
SUMMARY:Wanderausstellung „Misereor Hungertücher“
DESCRIPTION:Die Hungertuchausstellung besteht aus den 24 Hungertüchern der Jahre 1976-2023 sowie drei\nInformationstafeln. Bei den Exponaten handelt es sich um Digitaldruck-Reproduktionen der\nOriginalkunstwerke \nDie Öffnungszeiten sind vom 01.03. bis 23.03.2024 dienstags\, mittwochs\, donnerstags\, freitags und sonntags jeweils von  15.00 bis 17.00 Uhr
URL:https://bewusst-brueggen.de/kalender/wanderausstellung-misereor-hungertuecher/
LOCATION:Kirche St. Nikolaus Brüggen\, Klosterstraße 40\, Brüggen\, 41379
CATEGORIES:Kultur
ORGANIZER;CN="Kulturkirche St. Nikolaus Br%C3%BCggen":MAILTO:Ingrid.Graw@freenet.de
END:VEVENT
BEGIN:VEVENT
DTSTART;TZID=Europe/Berlin:20240223T170000
DTEND;TZID=Europe/Berlin:20240223T183000
DTSTAMP:20260420T004111
CREATED:20240209T103152Z
LAST-MODIFIED:20240209T103152Z
UID:10002888-1708707600-1708713000@bewusst-brueggen.de
SUMMARY:Eröffnung der Wanderausstellung Misereor Hungertücher
DESCRIPTION:Eröffnung der Ausstellung\nDie Hungertuchausstellung besteht aus den 24 Hungertüchern der Jahre 1976-2023 sowie drei\nInformationstafeln. Bei den Exponaten handelt es sich um Digitaldruck-Reproduktionen der\nOriginalkunstwerke
URL:https://bewusst-brueggen.de/kalender/eroeffnung-der-wanderausstellung-misereor-hungertuecher/
LOCATION:Kirche St. Nikolaus Brüggen\, Klosterstraße 40\, Brüggen\, 41379
CATEGORIES:Kultur
ORGANIZER;CN="Kulturkirche St. Nikolaus Br%C3%BCggen":MAILTO:Ingrid.Graw@freenet.de
END:VEVENT
BEGIN:VEVENT
DTSTART;VALUE=DATE:20231215
DTEND;VALUE=DATE:20231218
DTSTAMP:20260420T004111
CREATED:20231201T124150Z
LAST-MODIFIED:20231213T145442Z
UID:10000923-1702598400-1702857599@bewusst-brueggen.de
SUMMARY:Einladung zur Stille und Einkehr\, abseits von Trubel und Hektik
DESCRIPTION:Schenke dir einen Moment der Stille\, einen Moment allein sein mit den eigenen Gedanken? Beten oder in einer Zeit der Stille neue Kraft schöpfen? \nDer Raum der Stille\, in Farben getaucht\, möchte eine Einladung sein\, zu Geschwisterlichkeit und Toleranz unter den Menschen\, zwischen den Nationalitäten\, Religionen und Weltanschauungen. Der Raum der Stille ist ein wertvolles gut. Dies ist Gottes Haus. Kommen Sie herein\, machen Sie es zu Ihrem! Wir laden Sie ein\, hier zu verweilen\, um zu beten und nachzudenken. Frei von Hektik\, frei von allem Lärm der Welt finden wir zu uns selbst. Stille ist ein wertvolles Gut. Schenk dir einen Moment der Stille! \nVeranstaltungszeiten:\n15.12. 17:00-20:00 Uhr\n16.12. 19:00-21:00 Uhr\n17.12. 16:00-19:00 Uhr
URL:https://bewusst-brueggen.de/kalender/einladung-zur-stille-und-einkehr-abseits-von-trubel-und-hektik/
LOCATION:Kirche St. Nikolaus Brüggen\, Klosterstraße 40\, Brüggen\, 41379
CATEGORIES:Kultur
ATTACH;FMTTYPE=image/jpeg:https://bewusst-brueggen.de/wp-content/uploads/2023/12/bewusst-brueggen-veranstaltungsbild-altarraum.jpg
ORGANIZER;CN="Pfarrb%C3%BCro St. Nikolaus":MAILTO:ingrid.graw@freenet.de
END:VEVENT
BEGIN:VEVENT
DTSTART;TZID=Europe/Berlin:20231210T170000
DTEND;TZID=Europe/Berlin:20231210T190000
DTSTAMP:20260420T004111
CREATED:20230914T060551Z
LAST-MODIFIED:20231213T145445Z
UID:10000439-1702227600-1702234800@bewusst-brueggen.de
SUMMARY:Gospel-Konzert mit Joy and Peace
DESCRIPTION:Unter der Leitung des erfahrenen Chorleiters Volker Mertens hat der in Wassenberg und Viersen zu Jahresbeginn neu gegründete Gospel-Chor „Joy and Peace“ das Werk „Messiah“ des Oslo Gospel Choir einstudiert. \nEinlass: 16:00 Uhr \nDiese Veranstaltung ist bereits ausverkauft. \n 
URL:https://bewusst-brueggen.de/kalender/gospel-konzert-mit-joy-and-peace/
LOCATION:Kirche St. Nikolaus Brüggen\, Klosterstraße 40\, Brüggen\, 41379
CATEGORIES:Kultur
ATTACH;FMTTYPE=image/jpeg:https://bewusst-brueggen.de/wp-content/uploads/2023/03/bewusst-brueggen-events-kultur.jpg
END:VEVENT
BEGIN:VEVENT
DTSTART;TZID=Europe/Berlin:20230825T180000
DTEND;TZID=Europe/Berlin:20230825T180000
DTSTAMP:20260420T004111
CREATED:20230807T065821Z
LAST-MODIFIED:20231213T145525Z
UID:10000431-1692986400-1692986400@bewusst-brueggen.de
SUMMARY:Ausstellungseröffnung "Als Brüggen noch ein Krankenhaus hatte"
DESCRIPTION:Ausstellung der ehemaligen Krankenhausfenster der Rochus-Kapelle des Hospitals. \nLerne mit einem Vortrag von Ina Germes-Dohmen mehr über die Geschichte des Krankenhauses\, der Heiligen-Fenster und der medizinischen Versorgung in Brüggen.
URL:https://bewusst-brueggen.de/kalender/ausstellungseroeffnung-als-brueggen-noch-ein-krankenhaus-hatte/
LOCATION:Kirche St. Nikolaus Brüggen\, Klosterstraße 40\, Brüggen\, 41379
CATEGORIES:Kultur
ATTACH;FMTTYPE=:
ORGANIZER;CN="Pfarrb%C3%BCro St. Nikolaus":MAILTO:ingrid.graw@freenet.de
END:VEVENT
BEGIN:VEVENT
DTSTART;VALUE=DATE:20230825
DTEND;VALUE=DATE:20230926
DTSTAMP:20260420T004111
CREATED:20230807T083643Z
LAST-MODIFIED:20231213T145526Z
UID:10000432-1692921600-1695686399@bewusst-brueggen.de
SUMMARY:Ausstellung „Als Brüggen noch ein Krankenhaus hatte“
DESCRIPTION:Ausstellung der ehemaligen Krankenhausfenster der Rochus-Kapelle des Hospitals.\nGeschichte des Krankenhauses und der Heiligen-Fenster. \nÖffnungszeiten:\nDienstag-Freitag 15:00-17:00 Uhr\nSonntags 15:00-17:00 Uhr
URL:https://bewusst-brueggen.de/kalender/ausstellung-als-brueggen-noch-ein-krankenhaus-hatte/
LOCATION:Kirche St. Nikolaus Brüggen\, Klosterstraße 40\, Brüggen\, 41379
CATEGORIES:Kultur
ORGANIZER;CN="Pfarrb%C3%BCro St. Nikolaus":MAILTO:ingrid.graw@freenet.de
END:VEVENT
BEGIN:VEVENT
DTSTART;TZID=Europe/Berlin:20230820T140000
DTEND;TZID=Europe/Berlin:20230820T140000
DTSTAMP:20260420T004111
CREATED:20230804T115658Z
LAST-MODIFIED:20231213T145526Z
UID:10000430-1692540000-1692540000@bewusst-brueggen.de
SUMMARY:Mittagsmusik in der Kirche St. Nikolaus
DESCRIPTION:Orgelmusik mit Texten und Impulsen mit Sr. Vera Noel Hyun
URL:https://bewusst-brueggen.de/kalender/mittagsmusik-in-der-kirche-st-nikolaus-2/
LOCATION:Kirche St. Nikolaus Brüggen\, Klosterstraße 40\, Brüggen\, 41379
CATEGORIES:Kultur
ATTACH;FMTTYPE=:
ORGANIZER;CN="Pfarrb%C3%BCro St. Nikolaus":MAILTO:ingrid.graw@freenet.de
END:VEVENT
BEGIN:VEVENT
DTSTART;TZID=Europe/Berlin:20230813T140000
DTEND;TZID=Europe/Berlin:20230813T140000
DTSTAMP:20260420T004111
CREATED:20230804T115522Z
LAST-MODIFIED:20231213T145528Z
UID:10000429-1691935200-1691935200@bewusst-brueggen.de
SUMMARY:Mittagsmusik in der Kirche St. Nikolaus
DESCRIPTION:Orgelmusik mit Texten und Impulsen mit Sr. Vera Noel Hyun \nWeitere Termine:\nSonntag\, 20. August 2023 um 14.00 Uhr\nOrgelmusik mit Texten und Impulsen mit Sr. Vera Noel Hyun
URL:https://bewusst-brueggen.de/kalender/mittagsmusik-in-der-kirche-st-nikolaus/
LOCATION:Kirche St. Nikolaus Brüggen\, Klosterstraße 40\, Brüggen\, 41379
CATEGORIES:Kultur
ATTACH;FMTTYPE=:
ORGANIZER;CN="Pfarrb%C3%BCro St. Nikolaus":MAILTO:ingrid.graw@freenet.de
END:VEVENT
BEGIN:VEVENT
DTSTART;TZID=Europe/Berlin:20230806T140000
DTEND;TZID=Europe/Berlin:20230806T140000
DTSTAMP:20260420T004111
CREATED:20230804T115817Z
LAST-MODIFIED:20231213T145531Z
UID:10000428-1691330400-1691330400@bewusst-brueggen.de
SUMMARY:Mittagsmusik in der Kirche St. Nikolaus
DESCRIPTION:Mittagsmusik in der Kirche St. Nikolaus\, Brüggen. \nKonzert mit Floris van Gils an der Orgel \nWeitere Termine:\nSonntag\, 13. August 2023 um 14.00 Uhr\nOrgelmusik mit Texten und Impulsen mit Sr. Vera Noel Hyun\nSonntag\, 20. August 2023 um 14.00 Uhr\nOrgelmusik mit Texten und Impulsen mit Sr. Vera Noel Hyun
URL:https://bewusst-brueggen.de/kalender/mittagsmusik-in-der-kirche-st-nikolaus-3/
LOCATION:Kirche St. Nikolaus Brüggen\, Klosterstraße 40\, Brüggen\, 41379
CATEGORIES:Kultur
ATTACH;FMTTYPE=:
ORGANIZER;CN="Pfarrb%C3%BCro St. Nikolaus":MAILTO:ingrid.graw@freenet.de
END:VEVENT
END:VCALENDAR