BEGIN:VCALENDAR
VERSION:2.0
PRODID:-//Bewusst Brüggen - ECPv6.15.20//NONSGML v1.0//EN
CALSCALE:GREGORIAN
METHOD:PUBLISH
X-WR-CALNAME:Bewusst Brüggen
X-ORIGINAL-URL:https://bewusst-brueggen.de
X-WR-CALDESC:Veranstaltungen für Bewusst Brüggen
REFRESH-INTERVAL;VALUE=DURATION:PT1H
X-Robots-Tag:noindex
X-PUBLISHED-TTL:PT1H
BEGIN:VTIMEZONE
TZID:Europe/Berlin
BEGIN:DAYLIGHT
TZOFFSETFROM:+0100
TZOFFSETTO:+0200
TZNAME:CEST
DTSTART:20220327T010000
END:DAYLIGHT
BEGIN:STANDARD
TZOFFSETFROM:+0200
TZOFFSETTO:+0100
TZNAME:CET
DTSTART:20221030T010000
END:STANDARD
BEGIN:DAYLIGHT
TZOFFSETFROM:+0100
TZOFFSETTO:+0200
TZNAME:CEST
DTSTART:20230326T010000
END:DAYLIGHT
BEGIN:STANDARD
TZOFFSETFROM:+0200
TZOFFSETTO:+0100
TZNAME:CET
DTSTART:20231029T010000
END:STANDARD
BEGIN:DAYLIGHT
TZOFFSETFROM:+0100
TZOFFSETTO:+0200
TZNAME:CEST
DTSTART:20240331T010000
END:DAYLIGHT
BEGIN:STANDARD
TZOFFSETFROM:+0200
TZOFFSETTO:+0100
TZNAME:CET
DTSTART:20241027T010000
END:STANDARD
END:VTIMEZONE
BEGIN:VEVENT
DTSTART;TZID=Europe/Berlin:20231105T160000
DTEND;TZID=Europe/Berlin:20231105T170000
DTSTAMP:20260422T122609
CREATED:20230602T104429Z
LAST-MODIFIED:20231213T145502Z
UID:10000419-1699200000-1699203600@bewusst-brueggen.de
SUMMARY:Sonntagsklänge: Duo UNICUM
DESCRIPTION:Sonntagsklänge in der Borner Pfarrkirche mit dem DUO UNICUM \nDas Aufeinandertreffen von Kanklės und keltischer Harfe ist einmalig in der Welt. Als erstes Duo lassen Ingrida Spalinskaitė-Kurienė und Giedrė Šiaulytė keltische und baltische Klänge durch die Verbindung zweier volkstümlicher Saiteninstrumente miteinander verschmelzen. Trotz ihrer unterschiedlichen Herkunft ähneln sich Kanklės und keltische Harfe in ihrer Bauart und Spielweise.\nAus jahrelanger Freundschaft und gemeinsamer Leidenschaft für die Musik wurde das „DUO UNICUM“ 2016 gegründet und ein spannendes Repertoire\, welches über diese beiden Kulturkreise hinaus auch klassische und moderne Stücke beinhaltet\, ausgearbeitet. 2018 gewann das Duo ein Stipendium des litauischen Kulturministeriums für den Erhalt und die Präsentation der litauischen Kultur. Im gleichen Jahr erschien die Debüt-CD „Impressio“. Seit 2016 bestreitet das Duo regelmäßige Konzerttourneen in Deutschland und Litauen. \nTickets: www.ticketshop.nrw
URL:https://bewusst-brueggen.de/kalender/sonntagsklaenge-duo-unicum/
LOCATION:Kirche St. Peter Born\, Born 51\, Brüggen\, 41379
CATEGORIES:Kultur
ORGANIZER;CN="Burggemeinde Br%C3%BCggen - Judith Zybell":MAILTO:judith.Zybell@brueggen.de
END:VEVENT
END:VCALENDAR