BEGIN:VCALENDAR
VERSION:2.0
PRODID:-//Bewusst Brüggen - ECPv6.15.20//NONSGML v1.0//EN
CALSCALE:GREGORIAN
METHOD:PUBLISH
X-WR-CALNAME:Bewusst Brüggen
X-ORIGINAL-URL:https://bewusst-brueggen.de
X-WR-CALDESC:Veranstaltungen für Bewusst Brüggen
REFRESH-INTERVAL;VALUE=DURATION:PT1H
X-Robots-Tag:noindex
X-PUBLISHED-TTL:PT1H
BEGIN:VTIMEZONE
TZID:Europe/Berlin
BEGIN:DAYLIGHT
TZOFFSETFROM:+0100
TZOFFSETTO:+0200
TZNAME:CEST
DTSTART:20220327T010000
END:DAYLIGHT
BEGIN:STANDARD
TZOFFSETFROM:+0200
TZOFFSETTO:+0100
TZNAME:CET
DTSTART:20221030T010000
END:STANDARD
BEGIN:DAYLIGHT
TZOFFSETFROM:+0100
TZOFFSETTO:+0200
TZNAME:CEST
DTSTART:20230326T010000
END:DAYLIGHT
BEGIN:STANDARD
TZOFFSETFROM:+0200
TZOFFSETTO:+0100
TZNAME:CET
DTSTART:20231029T010000
END:STANDARD
BEGIN:DAYLIGHT
TZOFFSETFROM:+0100
TZOFFSETTO:+0200
TZNAME:CEST
DTSTART:20240331T010000
END:DAYLIGHT
BEGIN:STANDARD
TZOFFSETFROM:+0200
TZOFFSETTO:+0100
TZNAME:CET
DTSTART:20241027T010000
END:STANDARD
BEGIN:DAYLIGHT
TZOFFSETFROM:+0100
TZOFFSETTO:+0200
TZNAME:CEST
DTSTART:20250330T010000
END:DAYLIGHT
BEGIN:STANDARD
TZOFFSETFROM:+0200
TZOFFSETTO:+0100
TZNAME:CET
DTSTART:20251026T010000
END:STANDARD
BEGIN:DAYLIGHT
TZOFFSETFROM:+0100
TZOFFSETTO:+0200
TZNAME:CEST
DTSTART:20260329T010000
END:DAYLIGHT
BEGIN:STANDARD
TZOFFSETFROM:+0200
TZOFFSETTO:+0100
TZNAME:CET
DTSTART:20261025T010000
END:STANDARD
END:VTIMEZONE
BEGIN:VEVENT
DTSTART;TZID=Europe/Berlin:20250813T140000
DTEND;TZID=Europe/Berlin:20250813T173000
DTSTAMP:20260422T143221
CREATED:20250717T085726Z
LAST-MODIFIED:20250717T085726Z
UID:10005485-1755093600-1755106200@bewusst-brueggen.de
SUMMARY:Kinder- und Familienfest im Natur- und Tierpark Brüggen
DESCRIPTION:Kinder- und Familienfest im Natur- und Tierpark Brüggen. Freier Eintritt bis 14 Jahre für die Kinder der Gemeinde Brüggen\, Erwachsene zahlen einen ermäßigten Eintritt von € 7\,00.\nWürstchen mit Brötchen\, Kuchen und Getränke inclusive. Die erforderlichen Wertmarken werden bei der Bäckerei Lehnen in Bracht und in Born\, Apotheke Katharinenhof in Brüggen und Kindermoden Ingenrieth in Brüggen ausgegeben. Das Fest organisiert die CDU-Frauenunion Brüggen.
URL:https://bewusst-brueggen.de/kalender/kinder-und-familienfest-im-natur-und-tierpark-brueggen/
LOCATION:Natur- und Tierpark Brüggen\, Brachter Straße 98\, Brüggen\, 41379
CATEGORIES:Kinder/ Jugendliche
ATTACH;FMTTYPE=image/png:https://bewusst-brueggen.de/wp-content/uploads/2025/07/2025-Plakat-Kinder-u.-Familienfest-.-Neu.png
ORGANIZER;CN="CDU-Frauenunion":MAILTO:hpschoeps@gmail.com
END:VEVENT
BEGIN:VEVENT
DTSTART;TZID=Europe/Berlin:20230726T140000
DTEND;TZID=Europe/Berlin:20230726T140000
DTSTAMP:20260422T143221
CREATED:20230601T105855Z
LAST-MODIFIED:20231213T145536Z
UID:10000417-1690380000-1690380000@bewusst-brueggen.de
SUMMARY:Familien-Sommerfest der CDU-Frauenunion
DESCRIPTION:Familiensommerfest für alle Kinder der Burggemeinde Brüggen. Eltern und Großeltern sind natürlich auch herzlich willkommen. \nWürstchen\, Kuchen und Getränke sind kostenlos. Eintritt für Kinder bis einschl. 14 Jahren ist frei. Erwachsene bezahlen 7\,00 €. \nEintrittskarten gibt es in der Zeit vom 16.06. bis 23.07.2023 bei der Bäckerei Lehnen in Brüggen-Bracht\, Hülst und bei Kindermoden Ingenrieth\, Klosterstraße 75\, Brüggen
URL:https://bewusst-brueggen.de/kalender/familien-sommerfest-der-cdu-frauenunion-2/
LOCATION:Natur- und Tierpark Brüggen\, Brachter Straße 98\, Brüggen\, 41379
CATEGORIES:Kinder/ Jugendliche
ATTACH;FMTTYPE=:
ORGANIZER;CN="CDU-Frauenunion":MAILTO:hpschoeps@gmail.com
END:VEVENT
BEGIN:VEVENT
DTSTART;TZID=Europe/Berlin:20230726T140000
DTEND;TZID=Europe/Berlin:20230726T140000
DTSTAMP:20260422T143221
CREATED:20230601T092900Z
LAST-MODIFIED:20231213T145537Z
UID:10000416-1690380000-1690380000@bewusst-brueggen.de
SUMMARY:Familien-Sommerfest der CDU-Frauenunion
DESCRIPTION:Familiensommerfest für alle Kinder der Burggemeinde Brüggen. Eltern und Großeltern sind natürlich auch herzlich willkommen. Würstchen\, Kuchen und Getränke sind kostenlos. \nEintrittskarten gibt es in der Zeit vom 16.06. bis 23.07.2023 bei der Bäckerei Lehnen in Brüggen-Bracht\, Hülst und bei Kindermoden Ingenrieth\, Klosterstraße 75\, Brüggen
URL:https://bewusst-brueggen.de/kalender/familien-sommerfest-der-cdu-frauenunion/
LOCATION:Natur- und Tierpark Brüggen\, Brachter Straße 98\, Brüggen\, 41379
CATEGORIES:Kinder/ Jugendliche
ATTACH;FMTTYPE=:
ORGANIZER;CN="CDU-Frauenunion":MAILTO:hpschoeps@gmail.com
END:VEVENT
END:VCALENDAR