BEGIN:VCALENDAR
VERSION:2.0
PRODID:-//Bewusst Brüggen - ECPv6.15.20//NONSGML v1.0//EN
CALSCALE:GREGORIAN
METHOD:PUBLISH
X-ORIGINAL-URL:https://bewusst-brueggen.de
X-WR-CALDESC:Veranstaltungen für Bewusst Brüggen
REFRESH-INTERVAL;VALUE=DURATION:PT1H
X-Robots-Tag:noindex
X-PUBLISHED-TTL:PT1H
BEGIN:VTIMEZONE
TZID:Europe/Berlin
BEGIN:DAYLIGHT
TZOFFSETFROM:+0100
TZOFFSETTO:+0200
TZNAME:CEST
DTSTART:20230326T010000
END:DAYLIGHT
BEGIN:STANDARD
TZOFFSETFROM:+0200
TZOFFSETTO:+0100
TZNAME:CET
DTSTART:20231029T010000
END:STANDARD
BEGIN:DAYLIGHT
TZOFFSETFROM:+0100
TZOFFSETTO:+0200
TZNAME:CEST
DTSTART:20240331T010000
END:DAYLIGHT
BEGIN:STANDARD
TZOFFSETFROM:+0200
TZOFFSETTO:+0100
TZNAME:CET
DTSTART:20241027T010000
END:STANDARD
BEGIN:DAYLIGHT
TZOFFSETFROM:+0100
TZOFFSETTO:+0200
TZNAME:CEST
DTSTART:20250330T010000
END:DAYLIGHT
BEGIN:STANDARD
TZOFFSETFROM:+0200
TZOFFSETTO:+0100
TZNAME:CET
DTSTART:20251026T010000
END:STANDARD
BEGIN:DAYLIGHT
TZOFFSETFROM:+0100
TZOFFSETTO:+0200
TZNAME:CEST
DTSTART:20260329T010000
END:DAYLIGHT
BEGIN:STANDARD
TZOFFSETFROM:+0200
TZOFFSETTO:+0100
TZNAME:CET
DTSTART:20261025T010000
END:STANDARD
END:VTIMEZONE
BEGIN:VEVENT
DTSTART;TZID=Europe/Berlin:20251213T120000
DTEND;TZID=Europe/Berlin:20251213T170000
DTSTAMP:20260423T123603
CREATED:20250422T082525Z
LAST-MODIFIED:20251114T135443Z
UID:10005370-1765627200-1765645200@bewusst-brueggen.de
SUMMARY:Glühweinwanderung - AUSGEBUCHT
DESCRIPTION:Wenn die Tage kürzer werden\, ist es Zeit für ein besonderes Erlebnis: eine Rundwanderung auf dem Glühweinwanderweg der Burggemeinde Brüggen! Gemeinsam erkunden wir die winterliche Landschaft und das gemütliche Flair der charmanten Ortschaften Born\, Geholt und Brüggen. \nAuf etwa 10 Kilometern verbinden wir Bewegung mit genussvollen Pausen – denn natürlich darf der Glühwein nicht fehlen! An 3-4 ausgewählten Stationen laden gemütliche Gastronomiebetriebe und Höfe zur Einkehr auf ein Heißgetränk ein. Ob klassischer Glühwein oder alkoholfreie Alternativen – für jeden Geschmack ist etwas dabei. Freu dich auf eine wohltuende Mischung aus Natur\, Geselligkeit und winterlichem Genuss – ein Highlight in der kalten Jahreszeit! \nHinweis: Bitte warm und wetterfest anziehen – die Wanderung findet bei (fast) jedem Wetter statt \nTreffpunkt: Parkplatz Burgwall\, Brüggen
URL:https://bewusst-brueggen.de/kalender/gluehweinwanderung-3/
LOCATION:Parkplatz Burgwall\, Burgwall 3\, Brüggen\, 41379\, Germany
CATEGORIES:Führung
ATTACH;FMTTYPE=image/jpeg:https://bewusst-brueggen.de/wp-content/uploads/2025/04/IMG_6387_Gluehweinwanderung-1.jpg
ORGANIZER;CN="querpfadein - Inga Rahn":MAILTO:kontakt@querpfadein.de
END:VEVENT
BEGIN:VEVENT
DTSTART;TZID=Europe/Berlin:20251205T120000
DTEND;TZID=Europe/Berlin:20251205T170000
DTSTAMP:20260423T123603
CREATED:20250422T081551Z
LAST-MODIFIED:20250422T082425Z
UID:10005362-1764936000-1764954000@bewusst-brueggen.de
SUMMARY:Glühweinwanderung
DESCRIPTION:Wenn die Tage kürzer werden\, ist es Zeit für ein besonderes Erlebnis: eine Rundwanderung auf dem Glühweinwanderweg der Burggemeinde Brüggen! Gemeinsam erkunden wir die winterliche Landschaft und das gemütliche Flair der charmanten Ortschaften Born\, Geholt und Brüggen. \nAuf etwa 10 Kilometern verbinden wir Bewegung mit genussvollen Pausen – denn natürlich darf der Glühwein nicht fehlen! An 3 ausgewählten Stationen laden gemütliche Gastronomiebetriebe und Höfe zur Einkehr auf ein Heißgetränk ein. Ob klassischer Glühwein oder alkoholfreie Alternativen – für jeden Geschmack ist etwas dabei. Freu dich auf eine wohltuende Mischung aus Natur\, Geselligkeit und winterlichem Genuss – ein Highlight in der kalten Jahreszeit! \nHinweis: Bitte warm und wetterfest anziehen – die Wanderung findet bei (fast) jedem Wetter statt. \nTreffpunkt: Parkplatz Burgwall\, Brüggen
URL:https://bewusst-brueggen.de/kalender/gluehweinwanderung-2/
LOCATION:Parkplatz Burgwall\, Burgwall 3\, Brüggen\, 41379\, Germany
CATEGORIES:Führung
ATTACH;FMTTYPE=image/jpeg:https://bewusst-brueggen.de/wp-content/uploads/2025/04/IMG_6052_Gluehweinwanderung.jpg
ORGANIZER;CN="querpfadein - Inga Rahn":MAILTO:kontakt@querpfadein.de
END:VEVENT
BEGIN:VEVENT
DTSTART;TZID=Europe/Berlin:20251129T120000
DTEND;TZID=Europe/Berlin:20251129T170000
DTSTAMP:20260423T123603
CREATED:20250422T081508Z
LAST-MODIFIED:20251114T135414Z
UID:10005361-1764417600-1764435600@bewusst-brueggen.de
SUMMARY:Glühweinwanderung - AUSGEBUCHT
DESCRIPTION:Wenn die Tage kürzer werden\, ist es Zeit für ein besonderes Erlebnis: eine Rundwanderung auf dem Glühweinwanderweg der Burggemeinde Brüggen! Gemeinsam erkunden wir die winterliche Landschaft und das gemütliche Flair der charmanten Ortschaften Born\, Geholt und Brüggen. \nAuf etwa 10 Kilometern verbinden wir Bewegung mit genussvollen Pausen – denn natürlich darf der Glühwein nicht fehlen! An 3 ausgewählten Stationen laden gemütliche Gastronomiebetriebe und Höfe zur Einkehr auf ein Heißgetränk ein. Ob klassischer Glühwein oder alkoholfreie Alternativen – für jeden Geschmack ist etwas dabei. Freu dich auf eine wohltuende Mischung aus Natur\, Geselligkeit und winterlichem Genuss – ein Highlight in der kalten Jahreszeit! \nHinweis: Bitte warm und wetterfest anziehen – die Wanderung findet bei (fast) jedem Wetter statt. \nTreffpunkt: Parkplatz Burgwall\, Brüggen
URL:https://bewusst-brueggen.de/kalender/gluehweinwanderung/
LOCATION:Parkplatz Burgwall\, Burgwall 3\, Brüggen\, 41379\, Germany
CATEGORIES:Führung
ATTACH;FMTTYPE=image/jpeg:https://bewusst-brueggen.de/wp-content/uploads/2025/04/IMG_6387_Gluehweinwanderung.jpg
ORGANIZER;CN="querpfadein - Inga Rahn":MAILTO:kontakt@querpfadein.de
END:VEVENT
BEGIN:VEVENT
DTSTART;TZID=Europe/Berlin:20250807T093000
DTEND;TZID=Europe/Berlin:20250807T133000
DTSTAMP:20260423T123603
CREATED:20250416T073349Z
LAST-MODIFIED:20250416T085107Z
UID:10005359-1754559000-1754573400@bewusst-brueggen.de
SUMMARY:Rundwanderung Borner See mit Einkehr
DESCRIPTION:Entfliehen Sie dem Alltag und tauchen Sie ein in die wunderschöne Natur rund um den Borner See! Wir laden Sie herzlich zu einer 2\,5-stündigen Rundwanderung von ca. 6 km Länge ein. Lassen Sie sich von der idyllischen Landschaft verzaubern und kehren Sie unterwegs genussvoll mit uns in eine gemütlichen Gastronomie ein.
URL:https://bewusst-brueggen.de/kalender/rundwanderung-borner-see-mit-einkehr/
LOCATION:Parkplatz Burgwall\, Burgwall 3\, Brüggen\, 41379\, Germany
CATEGORIES:Sport / Aktivität
ATTACH;FMTTYPE=image/jpeg:https://bewusst-brueggen.de/wp-content/uploads/2025/04/IMG_7594.jpeg
ORGANIZER;CN="querpfadein - Inga Rahn":MAILTO:kontakt@querpfadein.de
END:VEVENT
BEGIN:VEVENT
DTSTART;TZID=Europe/Berlin:20241203T093000
DTEND;TZID=Europe/Berlin:20241203T133000
DTSTAMP:20260423T123603
CREATED:20240917T144842Z
LAST-MODIFIED:20240917T144842Z
UID:10003321-1733218200-1733232600@bewusst-brueggen.de
SUMMARY:Entspannte Wohlfühlwanderung entlang der Schwalm mit anschließendem Ausstellungsbesuch
DESCRIPTION:Entfliehen Sie dem Alltag und tauchen Sie ein in die wunderschöne Natur entlang der Schwalm! Wir laden Sie herzlich zu einer 2\,5-stündigen Rundwanderung von ca. 5 km Länge ein. Lassen Sie sich von der idyllischen Landschaft verzaubern und genießen Sie unterwegs sanfte Fitness- und Entspannungsübungen\, die Körper und Geist in Einklang bringen. Damit Sie die Wanderung in vollen Zügen genießen können\, denken Sie bitte daran\, wetterfeste Schuhe und Kleidung zu tragen sowie ausreichend zu trinken mitzubringen. \nIm Anschluss an unsere gemeinsame Wanderung besichtigen wir die Ausstellung MENSCH UND JAGD in der Burg Brüggen. (Zuzahlung von 3 € p.P.)
URL:https://bewusst-brueggen.de/kalender/entspannte-wohlfuehlwanderung-entlang-der-schwalm-mit-anschliessendem-ausstellungsbesuch-2/
LOCATION:Parkplatz Burgwall\, Burgwall 3\, Brüggen\, 41379\, Germany
CATEGORIES:Führung
ATTACH;FMTTYPE=image/png:https://bewusst-brueggen.de/wp-content/uploads/2024/09/qpe-gefuehrte-wohlfuehlwanderung.png
ORGANIZER;CN="querpfadein - Inga Rahn":MAILTO:kontakt@querpfadein.de
END:VEVENT
BEGIN:VEVENT
DTSTART;TZID=Europe/Berlin:20241015T093000
DTEND;TZID=Europe/Berlin:20241015T133000
DTSTAMP:20260423T123603
CREATED:20240917T144806Z
LAST-MODIFIED:20240917T144806Z
UID:10003320-1728984600-1728999000@bewusst-brueggen.de
SUMMARY:Entspannte Wohlfühlwanderung entlang der Schwalm mit anschließendem Ausstellungsbesuch
DESCRIPTION:Entfliehen Sie dem Alltag und tauchen Sie ein in die wunderschöne Natur entlang der Schwalm! Wir laden Sie herzlich zu einer 2\,5-stündigen Rundwanderung von ca. 5 km Länge ein. Lassen Sie sich von der idyllischen Landschaft verzaubern und genießen Sie unterwegs sanfte Fitness- und Entspannungsübungen\, die Körper und Geist in Einklang bringen. Damit Sie die Wanderung in vollen Zügen genießen können\, denken Sie bitte daran\, wetterfeste Schuhe und Kleidung zu tragen sowie ausreichend zu trinken mitzubringen. \nIm Anschluss an unsere gemeinsame Wanderung besichtigen wir die Ausstellung MENSCH UND JAGD in der Burg Brüggen. (Zuzahlung von 3 € p.P.)
URL:https://bewusst-brueggen.de/kalender/entspannte-wohlfuehlwanderung-entlang-der-schwalm-mit-anschliessendem-ausstellungsbesuch/
LOCATION:Parkplatz Burgwall\, Burgwall 3\, Brüggen\, 41379\, Germany
CATEGORIES:Führung
ATTACH;FMTTYPE=image/png:https://bewusst-brueggen.de/wp-content/uploads/2024/09/qpe-gefuehrte-wohlfuehlwanderung.png
ORGANIZER;CN="querpfadein - Inga Rahn":MAILTO:kontakt@querpfadein.de
END:VEVENT
END:VCALENDAR