BEGIN:VCALENDAR
VERSION:2.0
PRODID:-//Bewusst Brüggen - ECPv6.15.20//NONSGML v1.0//EN
CALSCALE:GREGORIAN
METHOD:PUBLISH
X-ORIGINAL-URL:https://bewusst-brueggen.de
X-WR-CALDESC:Veranstaltungen für Bewusst Brüggen
REFRESH-INTERVAL;VALUE=DURATION:PT1H
X-Robots-Tag:noindex
X-PUBLISHED-TTL:PT1H
BEGIN:VTIMEZONE
TZID:Europe/Berlin
BEGIN:DAYLIGHT
TZOFFSETFROM:+0100
TZOFFSETTO:+0200
TZNAME:CEST
DTSTART:20230326T010000
END:DAYLIGHT
BEGIN:STANDARD
TZOFFSETFROM:+0200
TZOFFSETTO:+0100
TZNAME:CET
DTSTART:20231029T010000
END:STANDARD
BEGIN:DAYLIGHT
TZOFFSETFROM:+0100
TZOFFSETTO:+0200
TZNAME:CEST
DTSTART:20240331T010000
END:DAYLIGHT
BEGIN:STANDARD
TZOFFSETFROM:+0200
TZOFFSETTO:+0100
TZNAME:CET
DTSTART:20241027T010000
END:STANDARD
BEGIN:DAYLIGHT
TZOFFSETFROM:+0100
TZOFFSETTO:+0200
TZNAME:CEST
DTSTART:20250330T010000
END:DAYLIGHT
BEGIN:STANDARD
TZOFFSETFROM:+0200
TZOFFSETTO:+0100
TZNAME:CET
DTSTART:20251026T010000
END:STANDARD
BEGIN:DAYLIGHT
TZOFFSETFROM:+0100
TZOFFSETTO:+0200
TZNAME:CEST
DTSTART:20260329T010000
END:DAYLIGHT
BEGIN:STANDARD
TZOFFSETFROM:+0200
TZOFFSETTO:+0100
TZNAME:CET
DTSTART:20261025T010000
END:STANDARD
END:VTIMEZONE
BEGIN:VEVENT
DTSTART;TZID=Europe/Berlin:20251207T110000
DTEND;TZID=Europe/Berlin:20251207T180000
DTSTAMP:20260420T180038
CREATED:20251020T081207Z
LAST-MODIFIED:20251107T065541Z
UID:10005989-1765105200-1765130400@bewusst-brueggen.de
SUMMARY:Familientag auf dem Petershof
DESCRIPTION:Familientag auf dem Petershof:\nKreativ-Adventsmarkt\, Weihnachtsbaumverkauf\, Glühweinwanderweg\, der Nikolaus kommt\, Ponykutschfahrt.\nDer Erlös aus dem Waffelverkauf geht an die Kinderklinik Viersen.
URL:https://bewusst-brueggen.de/kalender/familientag-auf-dem-petershof-2/
LOCATION:Petershof\, Brachter Straße 90\, Brüggen\, 41379
CATEGORIES:Kinder/ Jugendliche
ATTACH;FMTTYPE=image/jpeg:https://bewusst-brueggen.de/wp-content/uploads/2025/10/bewusst-brueggen-veranstaltung-petershof.jpg
ORGANIZER;CN="Familie Peters":MAILTO:e.peters82@web.de
END:VEVENT
BEGIN:VEVENT
DTSTART;TZID=Europe/Berlin:20241208T110000
DTEND;TZID=Europe/Berlin:20241208T200000
DTSTAMP:20260420T180038
CREATED:20241007T105500Z
LAST-MODIFIED:20241009T103130Z
UID:10003326-1733655600-1733688000@bewusst-brueggen.de
SUMMARY:Familientag auf dem Petershof
DESCRIPTION:Familientag für Groß und Klein \n\nDer Nikolaus kommt\nPonykutschfahrten\nWaffelverkauf für die Kinderkrebshilfe\nWeihnachtsbaumverkauf\nStation des Glühweinwanderweges\nkleiner Adventsmarkt
URL:https://bewusst-brueggen.de/kalender/familientag-auf-dem-petershof/
LOCATION:Petershof\, Brachter Straße 90\, Brüggen\, 41379
CATEGORIES:Feste / Märkte
ORGANIZER;CN="Familie Peters":MAILTO:e.peters82@web.de
END:VEVENT
END:VCALENDAR