BEGIN:VCALENDAR
VERSION:2.0
PRODID:-//Bewusst Brüggen - ECPv6.15.20//NONSGML v1.0//EN
CALSCALE:GREGORIAN
METHOD:PUBLISH
X-WR-CALNAME:Bewusst Brüggen
X-ORIGINAL-URL:https://bewusst-brueggen.de
X-WR-CALDESC:Veranstaltungen für Bewusst Brüggen
REFRESH-INTERVAL;VALUE=DURATION:PT1H
X-Robots-Tag:noindex
X-PUBLISHED-TTL:PT1H
BEGIN:VTIMEZONE
TZID:Europe/Berlin
BEGIN:DAYLIGHT
TZOFFSETFROM:+0100
TZOFFSETTO:+0200
TZNAME:CEST
DTSTART:20230326T010000
END:DAYLIGHT
BEGIN:STANDARD
TZOFFSETFROM:+0200
TZOFFSETTO:+0100
TZNAME:CET
DTSTART:20231029T010000
END:STANDARD
BEGIN:DAYLIGHT
TZOFFSETFROM:+0100
TZOFFSETTO:+0200
TZNAME:CEST
DTSTART:20240331T010000
END:DAYLIGHT
BEGIN:STANDARD
TZOFFSETFROM:+0200
TZOFFSETTO:+0100
TZNAME:CET
DTSTART:20241027T010000
END:STANDARD
BEGIN:DAYLIGHT
TZOFFSETFROM:+0100
TZOFFSETTO:+0200
TZNAME:CEST
DTSTART:20250330T010000
END:DAYLIGHT
BEGIN:STANDARD
TZOFFSETFROM:+0200
TZOFFSETTO:+0100
TZNAME:CET
DTSTART:20251026T010000
END:STANDARD
BEGIN:DAYLIGHT
TZOFFSETFROM:+0100
TZOFFSETTO:+0200
TZNAME:CEST
DTSTART:20260329T010000
END:DAYLIGHT
BEGIN:STANDARD
TZOFFSETFROM:+0200
TZOFFSETTO:+0100
TZNAME:CET
DTSTART:20261025T010000
END:STANDARD
END:VTIMEZONE
BEGIN:VEVENT
DTSTART;TZID=Europe/Berlin:20250623T200000
DTEND;TZID=Europe/Berlin:20250623T211500
DTSTAMP:20260420T091905
CREATED:20250129T070614Z
LAST-MODIFIED:20250129T070614Z
UID:10004628-1750708800-1750713300@bewusst-brueggen.de
SUMMARY:50 Jahre "Singen am See"
DESCRIPTION:Unter dem Motto „50 Jahre Singen am See – 50 Jahre Klänge der Freude“ werden u.a. Lieder von ABBA und Udo Jürgens in Form eines Medleys aufgeführt. Ganz nach dem Motto der Veranstaltung wird „Klänge der Freude“ im Zusammenspiel mit dem Musikverein Cäcilia Brüggen zu hören sein. Auch die Besucher sind wieder zum Mitsingen eingeladen. \nAnsprechpartner:\nVorsitzender Heinz Arno Mundfortz\nTel. 02163 / 888370 (Mundfortz Baustoffe GmbH)\nMail: h.a.mundfortz@mundfortz.de
URL:https://bewusst-brueggen.de/kalender/50-jahre-singen-am-see/
LOCATION:Sing- und Musizierplatz am Borner See\, Born 51\, Brüggen\, 41379
CATEGORIES:Kultur
ATTACH;FMTTYPE=image/jpeg:https://bewusst-brueggen.de/wp-content/uploads/2023/08/bewusst-brueggen-sehenswertes-09-stege-borner-see.jpg
ORGANIZER;CN="Kirchenchor C%C3%A4cilia Born 1816 e.V.":MAILTO:info@mundfortz.de
END:VEVENT
BEGIN:VEVENT
DTSTART;TZID=Europe/Berlin:20240624T200000
DTEND;TZID=Europe/Berlin:20240624T213000
DTSTAMP:20260420T091905
CREATED:20240312T101832Z
LAST-MODIFIED:20240312T101832Z
UID:10002904-1719259200-1719264600@bewusst-brueggen.de
SUMMARY:Singen am See
DESCRIPTION:Unter dem Motto „Ein Lied geht um die Welt“ werden im Rahmen eines Projektchores schöne Lieder vorgetragen. Es ist eine bunte musikalische Mischung bekannter nationaler und internationaler Titel wie „Amacing grace“ oder  „Über den Wolken“ geplant. Auch die Besucher sind wie gewohnt zum Mitsingen eingeladen. Der Musikverein Cäcilia Brüggen 1910 hat ebenfalls sein Kommen zugesagt.
URL:https://bewusst-brueggen.de/kalender/singen-am-see-2/
LOCATION:Sing- und Musizierplatz am Borner See\, Born 51\, Brüggen\, 41379
CATEGORIES:Kultur
ATTACH;FMTTYPE=image/jpeg:https://bewusst-brueggen.de/wp-content/uploads/2023/03/bewusst-brueggen-events-kultur.jpg
ORGANIZER;CN="Kirchenchor C%C3%A4cilia Born 1816 e.V.":MAILTO:info@mundfortz.de
END:VEVENT
END:VCALENDAR