BEGIN:VCALENDAR
VERSION:2.0
PRODID:-//Bewusst Brüggen - ECPv6.15.20//NONSGML v1.0//EN
CALSCALE:GREGORIAN
METHOD:PUBLISH
X-WR-CALNAME:Bewusst Brüggen
X-ORIGINAL-URL:https://bewusst-brueggen.de
X-WR-CALDESC:Veranstaltungen für Bewusst Brüggen
REFRESH-INTERVAL;VALUE=DURATION:PT1H
X-Robots-Tag:noindex
X-PUBLISHED-TTL:PT1H
BEGIN:VTIMEZONE
TZID:Europe/Berlin
BEGIN:DAYLIGHT
TZOFFSETFROM:+0100
TZOFFSETTO:+0200
TZNAME:CEST
DTSTART:20230326T010000
END:DAYLIGHT
BEGIN:STANDARD
TZOFFSETFROM:+0200
TZOFFSETTO:+0100
TZNAME:CET
DTSTART:20231029T010000
END:STANDARD
BEGIN:DAYLIGHT
TZOFFSETFROM:+0100
TZOFFSETTO:+0200
TZNAME:CEST
DTSTART:20240331T010000
END:DAYLIGHT
BEGIN:STANDARD
TZOFFSETFROM:+0200
TZOFFSETTO:+0100
TZNAME:CET
DTSTART:20241027T010000
END:STANDARD
BEGIN:DAYLIGHT
TZOFFSETFROM:+0100
TZOFFSETTO:+0200
TZNAME:CEST
DTSTART:20250330T010000
END:DAYLIGHT
BEGIN:STANDARD
TZOFFSETFROM:+0200
TZOFFSETTO:+0100
TZNAME:CET
DTSTART:20251026T010000
END:STANDARD
BEGIN:DAYLIGHT
TZOFFSETFROM:+0100
TZOFFSETTO:+0200
TZNAME:CEST
DTSTART:20260329T010000
END:DAYLIGHT
BEGIN:STANDARD
TZOFFSETFROM:+0200
TZOFFSETTO:+0100
TZNAME:CET
DTSTART:20261025T010000
END:STANDARD
BEGIN:DAYLIGHT
TZOFFSETFROM:+0100
TZOFFSETTO:+0200
TZNAME:CEST
DTSTART:20270328T010000
END:DAYLIGHT
BEGIN:STANDARD
TZOFFSETFROM:+0200
TZOFFSETTO:+0100
TZNAME:CET
DTSTART:20271031T010000
END:STANDARD
END:VTIMEZONE
BEGIN:VEVENT
DTSTART;TZID=Europe/Berlin:20260327T183000
DTEND;TZID=Europe/Berlin:20260327T210000
DTSTAMP:20260420T085944
CREATED:20260310T090740Z
LAST-MODIFIED:20260310T090740Z
UID:10006591-1774636200-1774645200@bewusst-brueggen.de
SUMMARY:Jahreshauptversammlung TuRa Brüggen
DESCRIPTION:JHV für alle Mitglieder und Interessierte von TuRa Brüggen 1923 e.V. Berichte\, Informationen und Blick in die Zukunft sind Bestandteil der Versammlung.
URL:https://bewusst-brueggen.de/kalender/jahreshauptversammlung-tura-brueggen/
LOCATION:Sportanlage am Vennberg\, Am Vennberg 7\, Brüggen\, 41379
CATEGORIES:Vereine & Ehrenamt
ATTACH;FMTTYPE=image/jpeg:https://bewusst-brueggen.de/wp-content/uploads/2026/03/Einladung_JHV_26.jpg
ORGANIZER;CN="TuRa Br%C3%BCggen 1923 e.V.":MAILTO:geschaeftsstelle@tura1923.de
END:VEVENT
BEGIN:VEVENT
DTSTART;TZID=Europe/Berlin:20250711T150000
DTEND;TZID=Europe/Berlin:20250711T180000
DTSTAMP:20260420T085944
CREATED:20250519T080147Z
LAST-MODIFIED:20250519T080147Z
UID:10005383-1752246000-1752256800@bewusst-brueggen.de
SUMMARY:Sportabzeichen-Aktionstag
DESCRIPTION:Der KreisSportBund (KSB) Viersen veranstaltet zusammen mit TuRa Brüggen 1923 e.V. und dem TSF Bracht e.V. am 11. Juli\, von 15 bis 18 Uhr einen kreisweiten Sportabzeichen-Aktionstag auf dem Sportplatz von TuRa Brüggen\, Auf dem Vennberg 7 in 41379 Brüggen.\nSportbegeisterte können an diesem Tag das Sportabzeichen kostenfrei unter Anleitung von erfahrenen Prüfern ablegen und auch Übungen ausprobieren. \nDas Deutsche Sportabzeichen ist eine Auszeichnung des Deutschen Olympischen Sportbundes (DOSB). Es ist die höchste Auszeichnung außerhalb des Wettkampfsports. Jedermann kann es\nablegen – egal\, ob sportlich erfahren\, Neuling\, ob jung oder alt\, oder ob mit oder ohne Handicap. \nUnter allen angemeldeten Teilnehmer*innen\, die sich in den angegebenen Disziplingruppen sportlich betätigen\, verlost der KreisSportBund Viersen e.V. im Anschluss Gutscheine für ein Sportgeschäft im Gesamtwert von 200 Euro.
URL:https://bewusst-brueggen.de/kalender/sportabzeichen-aktionstag/
LOCATION:Sportanlage am Vennberg\, Am Vennberg 7\, Brüggen\, 41379
CATEGORIES:Sport / Aktivität
ATTACH;FMTTYPE=image/jpeg:https://bewusst-brueggen.de/wp-content/uploads/2023/03/bewusst-brueggen-events-sport.jpg
END:VEVENT
BEGIN:VEVENT
DTSTART;TZID=Europe/Berlin:20240618T173000
DTEND;TZID=Europe/Berlin:20240618T183000
DTSTAMP:20260420T085944
CREATED:20240507T100412Z
LAST-MODIFIED:20240507T100412Z
UID:10002993-1718731800-1718735400@bewusst-brueggen.de
SUMMARY:Aktionswoche: Infoveranstaltung zum Deutschen Sportabzeichen
DESCRIPTION:Sie können sich erkundigen welche Voraussetzungen notwendig sind\, um das Deutsche Sportabzeichen zu machen. Außerdem hat man die Möglichkeit\, aktiv mit der Abnahme zu starten. Passende Kleidung und Sportschuhe für draußen sind nötig\, wenn man aktiv mitmachen möchte. \nEs handelt sich um eine Veranstaltung in Kooperation mit Tura Brüggen im Rahmen der Aktionswoche „Rund ums älter werden“ 2024.\nDie Veranstaltung ist kostenlos und frei zugänglich. Alle Interessierten sind herzlich willkommen\, kommen Sie gerne vorbei!  \nBei Rückfragen zu der Veranstaltung oder der gesamten Aktionswoche können Sie sich bei Frau Klerckx oder Herrn Hink unter 02153 898 5032\, -5020 melden oder per Mail an senioren@nettetal.de wenden.  \nWir freuen uns auf zahlreiche Teilnehmende und wünschen Ihnen viel Spaß bei der Aktionswoche 2024!
URL:https://bewusst-brueggen.de/kalender/aktionswoche-infoveranstaltung-zum-deutschen-sportabzeichen/
LOCATION:Sportanlage am Vennberg\, Am Vennberg 7\, Brüggen\, 41379
CATEGORIES:Senioren,Sport / Aktivität
ATTACH;FMTTYPE=image/jpeg:https://bewusst-brueggen.de/wp-content/uploads/2024/05/bewusst-brueggen-seniorenwoche-veranstaltung.jpg
ORGANIZER;CN="Seniorenberatung Br%C3%BCggen/Nettetal%2C Pflegest%C3%BCtzpunkt":MAILTO:sebastian.hink@nettetal.de
END:VEVENT
BEGIN:VEVENT
DTSTART;TZID=Europe/Berlin:20240322T193000
DTEND;TZID=Europe/Berlin:20240322T210000
DTSTAMP:20260420T085944
CREATED:20240206T100658Z
LAST-MODIFIED:20240206T100832Z
UID:10002040-1711135800-1711141200@bewusst-brueggen.de
SUMMARY:Jahreshauptversammlung TuRa Brüggen 1923 e.V.
DESCRIPTION:Alle Mitglieder und Interessierte sind herzlich eingeladen. \nDas Protokoll der Mitgliederversammlung vom 01.04.2022 liegt in der Geschäftsstelle\, im Vereinsheim „Goleo“\, und in der Burggemeindehalle für alle Mitglieder zur Einsicht aus.\nAnträge\, die der Versammlung zur Beschlussfassung vorgelegt werden sollen\, müssen mindestens 8 Tage vorher schriftlich und mit Begründung in der Geschäftsstelle eingegangen sein. \nStimmberechtigt sind alle Mitglieder ab dem vollendeten 16. Lebensjahr. Wir würden uns freuen\, Dich/Sie als Teilnehmer bei dieser Versammlung begrüßen zu dürfen.\nDer Einlass erfolgt ab 19.00 Uhr.
URL:https://bewusst-brueggen.de/kalender/jahreshauptversammlung-tura-brueggen-1923-e-v/
LOCATION:Sportanlage am Vennberg\, Am Vennberg 7\, Brüggen\, 41379
CATEGORIES:Sport / Aktivität
ATTACH;FMTTYPE=image/jpeg:https://bewusst-brueggen.de/wp-content/uploads/2024/01/Logo-TuRa.jpg
ORGANIZER;CN="TuRa Br%C3%BCggen 1923 e.V.":MAILTO:geschaeftsstelle@tura1923.de
END:VEVENT
END:VCALENDAR