BEGIN:VCALENDAR
VERSION:2.0
PRODID:-//Bewusst Brüggen - ECPv6.15.20//NONSGML v1.0//EN
CALSCALE:GREGORIAN
METHOD:PUBLISH
X-WR-CALNAME:Bewusst Brüggen
X-ORIGINAL-URL:https://bewusst-brueggen.de
X-WR-CALDESC:Veranstaltungen für Bewusst Brüggen
REFRESH-INTERVAL;VALUE=DURATION:PT1H
X-Robots-Tag:noindex
X-PUBLISHED-TTL:PT1H
BEGIN:VTIMEZONE
TZID:Europe/Berlin
BEGIN:DAYLIGHT
TZOFFSETFROM:+0100
TZOFFSETTO:+0200
TZNAME:CEST
DTSTART:20220327T010000
END:DAYLIGHT
BEGIN:STANDARD
TZOFFSETFROM:+0200
TZOFFSETTO:+0100
TZNAME:CET
DTSTART:20221030T010000
END:STANDARD
BEGIN:DAYLIGHT
TZOFFSETFROM:+0100
TZOFFSETTO:+0200
TZNAME:CEST
DTSTART:20230326T010000
END:DAYLIGHT
BEGIN:STANDARD
TZOFFSETFROM:+0200
TZOFFSETTO:+0100
TZNAME:CET
DTSTART:20231029T010000
END:STANDARD
BEGIN:DAYLIGHT
TZOFFSETFROM:+0100
TZOFFSETTO:+0200
TZNAME:CEST
DTSTART:20240331T010000
END:DAYLIGHT
BEGIN:STANDARD
TZOFFSETFROM:+0200
TZOFFSETTO:+0100
TZNAME:CET
DTSTART:20241027T010000
END:STANDARD
END:VTIMEZONE
BEGIN:VEVENT
DTSTART;TZID=Europe/Berlin:20230621T180000
DTEND;TZID=Europe/Berlin:20230621T180000
DTSTAMP:20260420T180056
CREATED:20230516T100511Z
LAST-MODIFIED:20231213T145551Z
UID:10000411-1687370400-1687370400@bewusst-brueggen.de
SUMMARY:Pitch & Pizza
DESCRIPTION:„Pitch & Pizza“ das Netzwerktreffen für Brüggener Unternehmen \nNach erfolgreichem Start im vergangenen Jahr freuen wir uns\, Sie hiermit zu einer Fortsetzung unseres Unternehmens-Netzwerktreffens „Pitch&Pizza“ einzuladen. \nFreuen Sie sich mit uns auf ein sehr spannendes Thema. \nDie Digitalisierung und intelligente Vernetzung in Städten und Gemeinden gewinnt zunehmend an Bedeutung. Aus diesem Grund hat der Kreis Viersen ein flächendeckendes LoRaWAN (Long Range Wide Area Network) mit insgesamt rd. 50 Antennenstandorten aufgebaut. LoRaWAN ist eine innovative\, drahtlose Netzwerktechnologie für das Internet der Dinge (IoT). Die Nutzung der Infrastruktur stellt der Kreis Viersen allen Interessierten Nutzergruppen\, insbesondere auch Ihnen als Unternehmen\, kostenlos zur Verfügung. \nSebastian Cüsters\, Koordinator Digitale Infrastruktur beim Kreis Viersen\, sowie Elisabeth Schloten\, CEO der auf IoT spezialisierten Firma ECBM\, stellen die Technologie vor und bringen viele Einsatzbeispiele mit\, die sicherlich auch für Ihr Unternehmen von Interesse sind. \nSeien Sie gespannt – es lohnt sich! \nWir freuen uns auf Ihre Teilnahme und bitten um eine kurze Rückmeldung bis zum 16. Juni 2023 an willkommen@brueggen.de.Für Snacks und Getränke ist reichlich gesorgt.
URL:https://bewusst-brueggen.de/kalender/pitch-pizza/
LOCATION:Sportlertreff Goleo\, Auf dem Vennberg 7\, Brüggen\, 41379\, Deutschland
CATEGORIES:Wirtschaft
ATTACH;FMTTYPE=:
END:VEVENT
END:VCALENDAR